BEGIN:VCALENDAR
VERSION:2.0
PRODID:-//Tapahtumakalenteri - ECPv6.15.18//NONSGML v1.0//EN
CALSCALE:GREGORIAN
METHOD:PUBLISH
X-WR-CALNAME:Tapahtumakalenteri
X-ORIGINAL-URL:https://kalenteri.niemikoti.fi/en/
X-WR-CALDESC:Events for Tapahtumakalenteri
REFRESH-INTERVAL;VALUE=DURATION:PT1H
X-Robots-Tag:noindex
X-PUBLISHED-TTL:PT1H
BEGIN:VTIMEZONE
TZID:Europe/Helsinki
BEGIN:DAYLIGHT
TZOFFSETFROM:+0200
TZOFFSETTO:+0300
TZNAME:EEST
DTSTART:20220327T010000
END:DAYLIGHT
BEGIN:STANDARD
TZOFFSETFROM:+0300
TZOFFSETTO:+0200
TZNAME:EET
DTSTART:20221030T010000
END:STANDARD
BEGIN:DAYLIGHT
TZOFFSETFROM:+0200
TZOFFSETTO:+0300
TZNAME:EEST
DTSTART:20230326T010000
END:DAYLIGHT
BEGIN:STANDARD
TZOFFSETFROM:+0300
TZOFFSETTO:+0200
TZNAME:EET
DTSTART:20231029T010000
END:STANDARD
BEGIN:DAYLIGHT
TZOFFSETFROM:+0200
TZOFFSETTO:+0300
TZNAME:EEST
DTSTART:20240331T010000
END:DAYLIGHT
BEGIN:STANDARD
TZOFFSETFROM:+0300
TZOFFSETTO:+0200
TZNAME:EET
DTSTART:20241027T010000
END:STANDARD
END:VTIMEZONE
BEGIN:VEVENT
DTSTART;TZID=Europe/Helsinki:20230602T100000
DTEND;TZID=Europe/Helsinki:20230602T110000
DTSTAMP:20260421T203909
CREATED:20230427T055304Z
LAST-MODIFIED:20240513T053309Z
UID:10000285-1685700000-1685703600@kalenteri.niemikoti.fi
SUMMARY:Aamujooga Villa Borgiksessa
DESCRIPTION:8 ensimmäisenä paikalle tullutta mahtuu mukaan ryhmään.
URL:https://kalenteri.niemikoti.fi/en/tapahtuma/aamujooga-villa-borgiksessa/2023-06-02/
LOCATION:Toimintakeskus Villa Borgis\, Linnavuorentie 13\, Helsinki\, 00950\, Finland
CATEGORIES:Päivätoiminta,Toimintakeskus Villa Borgis
END:VEVENT
BEGIN:VEVENT
DTSTART;TZID=Europe/Helsinki:20230602T100000
DTEND;TZID=Europe/Helsinki:20230602T120000
DTSTAMP:20260421T203909
CREATED:20230427T052306Z
LAST-MODIFIED:20230608T031053Z
UID:10000293-1685700000-1685707200@kalenteri.niemikoti.fi
SUMMARY:Perjantaipuuro & pingistä
DESCRIPTION:Viikonloppu käyntiin puuron & pingiksen voimalla! Elviksestä löytyy pingispöytä mailoineen ja se on käytössä aina perjantaiaamuisin.
URL:https://kalenteri.niemikoti.fi/en/tapahtuma/perjantaipuuro-pingista/2023-06-02/
LOCATION:Kulttuuripaja ELVIS\, Lautatarhankatu 4\, Helsinki\, 00580\, Finland
CATEGORIES:Kulttuuripaja ELVIS,Päivätoiminta
END:VEVENT
BEGIN:VEVENT
DTSTART;TZID=Europe/Helsinki:20230602T103000
DTEND;TZID=Europe/Helsinki:20230602T111500
DTSTAMP:20260421T203909
CREATED:20230427T053444Z
LAST-MODIFIED:20230606T044728Z
UID:10000015-1685701800-1685704500@kalenteri.niemikoti.fi
SUMMARY:Ajan tasalla -ryhmä
DESCRIPTION:Ajankohtaista keskustelua\, tietovisailua\, musiikin kuuntelua ym. perjantaikävijöiden toiveiden mukaan Malmin päivätoimintakeskuksessa.
URL:https://kalenteri.niemikoti.fi/en/tapahtuma/ajan-tasalla-ryhma/2023-06-02/
LOCATION:Malmin päivätoimintakeskus\, Vanha Helsingintie 9\, Helsinki\, 00700\, Finland
CATEGORIES:Malmin päivätoimintakeskus,Päivätoiminta
END:VEVENT
BEGIN:VEVENT
DTSTART;TZID=Europe/Helsinki:20230602T110000
DTEND;TZID=Europe/Helsinki:20230602T130000
DTSTAMP:20260421T203909
CREATED:20230427T060640Z
LAST-MODIFIED:20240513T053346Z
UID:10000302-1685703600-1685710800@kalenteri.niemikoti.fi
SUMMARY:Perjantaihyggeily
DESCRIPTION:Villasukat jalkaan\, maailman murheet hetkeksi syrjään ja olo mukavaksi teekupposen äärellä.\nTule rupattelemaan muiden kanssa\, lukemaan lehtiä tai vaikkapa tekemään valmiiksi keskeneräisiä projektejasi.\nTarjolla kahvit /teet ja keksit 1 €/pvä.
URL:https://kalenteri.niemikoti.fi/en/tapahtuma/perjantaihyggeily/2023-06-02/
LOCATION:Toimintakeskus Villa Borgis\, Linnavuorentie 13\, Helsinki\, 00950\, Finland
CATEGORIES:Päivätoiminta,Toimintakeskus Villa Borgis
END:VEVENT
BEGIN:VEVENT
DTSTART;TZID=Europe/Helsinki:20230602T110000
DTEND;TZID=Europe/Helsinki:20230602T140000
DTSTAMP:20260421T203909
CREATED:20230601T111611Z
LAST-MODIFIED:20230601T111611Z
UID:10001139-1685703600-1685714400@kalenteri.niemikoti.fi
SUMMARY:Retki Alppiruusupuistoon Haagaan
DESCRIPTION:Kulttuuripaja ELVIS tekee retken Haagan Alppiruusupuistoon\, jossa pääsee näkemään monien alppiruusujen ja atsaleojen kauniit kukinnat. Lähtö ELVIKSESTÄ klo 11. Sään mukainen pukeutuminen.
URL:https://kalenteri.niemikoti.fi/en/tapahtuma/retki-alppiruusupuistoon-haagaan/
LOCATION:Kulttuuripaja ELVIS\, Lautatarhankatu 4\, Helsinki\, 00580\, Finland
CATEGORIES:Kulttuuripaja ELVIS
ATTACH;FMTTYPE=image/jpeg:https://kalenteri.niemikoti.fi/wp-content/uploads/2023/06/Alppiruusupuisto-1.jpg
END:VEVENT
BEGIN:VEVENT
DTSTART;TZID=Europe/Helsinki:20230602T123000
DTEND;TZID=Europe/Helsinki:20230602T141500
DTSTAMP:20260421T203909
CREATED:20230427T054406Z
LAST-MODIFIED:20230606T044918Z
UID:10000276-1685709000-1685715300@kalenteri.niemikoti.fi
SUMMARY:Uintiryhmä
DESCRIPTION:Omatoiminen liikuntaryhmä Malmin uimahallille. Kysy lisää ohjaajilta.
URL:https://kalenteri.niemikoti.fi/en/tapahtuma/uintiryhma/2023-06-02/
LOCATION:Malmin päivätoimintakeskus\, Vanha Helsingintie 9\, Helsinki\, 00700\, Finland
CATEGORIES:Malmin päivätoimintakeskus,Päivätoiminta
END:VEVENT
END:VCALENDAR