BEGIN:VCALENDAR
VERSION:2.0
PRODID:-//Tapahtumakalenteri - ECPv6.15.18//NONSGML v1.0//EN
CALSCALE:GREGORIAN
METHOD:PUBLISH
X-ORIGINAL-URL:https://kalenteri.niemikoti.fi/en/
X-WR-CALDESC:Events for Tapahtumakalenteri
REFRESH-INTERVAL;VALUE=DURATION:PT1H
X-Robots-Tag:noindex
X-PUBLISHED-TTL:PT1H
BEGIN:VTIMEZONE
TZID:Europe/Helsinki
BEGIN:DAYLIGHT
TZOFFSETFROM:+0200
TZOFFSETTO:+0300
TZNAME:EEST
DTSTART:20220327T010000
END:DAYLIGHT
BEGIN:STANDARD
TZOFFSETFROM:+0300
TZOFFSETTO:+0200
TZNAME:EET
DTSTART:20221030T010000
END:STANDARD
BEGIN:DAYLIGHT
TZOFFSETFROM:+0200
TZOFFSETTO:+0300
TZNAME:EEST
DTSTART:20230326T010000
END:DAYLIGHT
BEGIN:STANDARD
TZOFFSETFROM:+0300
TZOFFSETTO:+0200
TZNAME:EET
DTSTART:20231029T010000
END:STANDARD
BEGIN:DAYLIGHT
TZOFFSETFROM:+0200
TZOFFSETTO:+0300
TZNAME:EEST
DTSTART:20240331T010000
END:DAYLIGHT
BEGIN:STANDARD
TZOFFSETFROM:+0300
TZOFFSETTO:+0200
TZNAME:EET
DTSTART:20241027T010000
END:STANDARD
END:VTIMEZONE
BEGIN:VEVENT
DTSTART;TZID=Europe/Helsinki:20230614T090000
DTEND;TZID=Europe/Helsinki:20230614T094500
DTSTAMP:20260421T182417
CREATED:20230531T083840Z
LAST-MODIFIED:20240205T125147Z
UID:10000524-1686733200-1686735900@kalenteri.niemikoti.fi
SUMMARY:Yhteisöpäivän aamiainen
DESCRIPTION:Aamupala yhteisöpäivään osallistuville (maksullinen).
URL:https://kalenteri.niemikoti.fi/en/tapahtuma/yhteisopaivan-aamiainen-2/2023-06-14/
LOCATION:Toimintakeskus Villa Borgis\, Linnavuorentie 13\, Helsinki\, 00950\, Finland
CATEGORIES:Toimintakeskus Villa Borgis
END:VEVENT
BEGIN:VEVENT
DTSTART;TZID=Europe/Helsinki:20230614T090000
DTEND;TZID=Europe/Helsinki:20230614T150000
DTSTAMP:20260421T182418
CREATED:20230531T125715Z
LAST-MODIFIED:20230811T074137Z
UID:10000866-1686733200-1686754800@kalenteri.niemikoti.fi
SUMMARY:Yhteisöpäivä klo 9-15
DESCRIPTION:Yhteisöpäivä\, Villa Borgis auki klo 9-15\, täydentyvä ryhmä\, ilmoittaudu.
URL:https://kalenteri.niemikoti.fi/en/tapahtuma/yhteisopaiva-klo-9-15/2023-06-14/
LOCATION:Toimintakeskus Villa Borgis\, Linnavuorentie 13\, Helsinki\, 00950\, Finland
CATEGORIES:Toimintakeskus Villa Borgis
END:VEVENT
BEGIN:VEVENT
DTSTART;TZID=Europe/Helsinki:20230614T100000
DTEND;TZID=Europe/Helsinki:20230614T103000
DTSTAMP:20260421T182418
CREATED:20230531T081915Z
LAST-MODIFIED:20240205T125027Z
UID:10000358-1686736800-1686738600@kalenteri.niemikoti.fi
SUMMARY:Yhteisöpäivän aamukokous
DESCRIPTION:Yhteisöpäivän aamukokouksessa käydään läpi päivän ohjelmaa\, tapahtumia\, yhteisötehtäviä ja muita ajankohtaisia asioita.
URL:https://kalenteri.niemikoti.fi/en/tapahtuma/yhteisopaivan-aamukokous/2023-06-14/
LOCATION:Toimintakeskus Villa Borgis\, Linnavuorentie 13\, Helsinki\, 00950\, Finland
CATEGORIES:Toimintakeskus Villa Borgis
END:VEVENT
BEGIN:VEVENT
DTSTART;TZID=Europe/Helsinki:20230614T103000
DTEND;TZID=Europe/Helsinki:20230614T113000
DTSTAMP:20260421T182418
CREATED:20230531T134609Z
LAST-MODIFIED:20230629T091353Z
UID:10001179-1686738600-1686742200@kalenteri.niemikoti.fi
SUMMARY:Sulkakynät -kirjoittajaryhmä
DESCRIPTION:Luovaa kirjoittamista eri tekniikoin\, ilmoittaudu.
URL:https://kalenteri.niemikoti.fi/en/tapahtuma/sulkakynat-kirjoittajaryhma/2023-06-14/
LOCATION:Toimintakeskus Villa Borgis\, Linnavuorentie 13\, Helsinki\, 00950\, Finland
CATEGORIES:Toimintakeskus Villa Borgis
END:VEVENT
BEGIN:VEVENT
DTSTART;TZID=Europe/Helsinki:20230614T110000
DTEND;TZID=Europe/Helsinki:20230614T130000
DTSTAMP:20260421T182418
CREATED:20230606T125016Z
LAST-MODIFIED:20230607T095222Z
UID:10001155-1686740400-1686747600@kalenteri.niemikoti.fi
SUMMARY:Pleikkapelien pelaamista Kulttuuripaja ELVIKSESSÄ
DESCRIPTION:Tervetuloa pelaamaan Pleikkapelejä ELVIKSEEN!
URL:https://kalenteri.niemikoti.fi/en/tapahtuma/pleikkapelien-pelaamista-kulttuuripaja-elviksessa/2023-06-14/
LOCATION:Kulttuuripaja ELVIS\, Lautatarhankatu 4\, Helsinki\, 00580\, Finland
CATEGORIES:Kulttuuripaja ELVIS
END:VEVENT
BEGIN:VEVENT
DTSTART;TZID=Europe/Helsinki:20230614T130000
DTEND;TZID=Europe/Helsinki:20230614T150000
DTSTAMP:20260421T182418
CREATED:20230531T135008Z
LAST-MODIFIED:20230822T123457Z
UID:10001100-1686747600-1686754800@kalenteri.niemikoti.fi
SUMMARY:Viherpeukalot
DESCRIPTION:Luontolähtöistä toimintaa sisällä ja ulkona. Mm. kasvien kasvatusta\, pihatöitä ja puutarhavierailuja.
URL:https://kalenteri.niemikoti.fi/en/tapahtuma/viherpeukalot/2023-06-14/
LOCATION:Toimintakeskus Villa Borgis\, Linnavuorentie 13\, Helsinki\, 00950\, Finland
CATEGORIES:Toimintakeskus Villa Borgis
END:VEVENT
BEGIN:VEVENT
DTSTART;TZID=Europe/Helsinki:20230614T130000
DTEND;TZID=Europe/Helsinki:20230614T150000
DTSTAMP:20260421T182418
CREATED:20230606T125943Z
LAST-MODIFIED:20230621T094120Z
UID:10001159-1686747600-1686754800@kalenteri.niemikoti.fi
SUMMARY:Kesäkässä & Kuvis Elviksessä
DESCRIPTION:Yhdistetty kädentaito – ja kuvisryhmä\, vaihtuvat teemat ja tekniikat.
URL:https://kalenteri.niemikoti.fi/en/tapahtuma/kesakassa-kuvis-teurastamolla/2023-06-14/
LOCATION:Teurastamo\, Työpajankatu 2\, Helsinki\, 00580\, Finland
CATEGORIES:Kulttuuripaja ELVIS
END:VEVENT
BEGIN:VEVENT
DTSTART;TZID=Europe/Helsinki:20230614T130000
DTEND;TZID=Europe/Helsinki:20230614T150000
DTSTAMP:20260421T182418
CREATED:20230607T074559Z
LAST-MODIFIED:20230607T074559Z
UID:10001232-1686747600-1686754800@kalenteri.niemikoti.fi
SUMMARY:CV-paja
DESCRIPTION:Jos tarvitset apua CV:n päivittämisessä\, Valtti Valmennuksen kevään viimeinen CV-paja järjestetään keskiviikkona 14.6.2023 klo 13-15. CV-pajaan osallistuaksesi sinun ei tarvitse ilmoittautua\, eikä olla Valtti Valmennuksen asiakas\, paja on avoin kaikille!
URL:https://kalenteri.niemikoti.fi/en/tapahtuma/cv-paja/
LOCATION:Valtti Valmennus\, Elimäenkatu 26\, Helsinki\, 00510\, Finland
CATEGORIES:Valtti Valmennus
ATTACH;FMTTYPE=image/jpeg:https://kalenteri.niemikoti.fi/wp-content/uploads/2023/06/osaamisp.cv-1.jpg
END:VEVENT
BEGIN:VEVENT
DTSTART;TZID=Europe/Helsinki:20230614T130000
DTEND;TZID=Europe/Helsinki:20230614T160000
DTSTAMP:20260421T182418
CREATED:20230528T065406Z
LAST-MODIFIED:20230612T091131Z
UID:10000340-1686747600-1686758400@kalenteri.niemikoti.fi
SUMMARY:Avoimet ovet
DESCRIPTION:Tervetuloa tutustumaan Kulttuuripaja Elvikseen! Avoimien ovien jälkeen jatkamme avoimilla Kesäjameilla klo 16-18. Lava on vapaa erilaisille esityksille (musiikki\, tanssi\, runot jne.) kahvi-/teetarjoilu.
URL:https://kalenteri.niemikoti.fi/en/tapahtuma/avoimet-ovet-ja-kesajamit-kulttuuripaja-elviksessa/
LOCATION:Kulttuuripaja ELVIS\, Lautatarhankatu 4\, Helsinki\, 00580\, Finland
CATEGORIES:Kulttuuripaja ELVIS,Omaisille ja läheisille
ATTACH;FMTTYPE=image/png:https://kalenteri.niemikoti.fi/wp-content/uploads/2023/06/Lisaa-otsikko-4.png
END:VEVENT
BEGIN:VEVENT
DTSTART;TZID=Europe/Helsinki:20230614T140000
DTEND;TZID=Europe/Helsinki:20230614T143000
DTSTAMP:20260421T182418
CREATED:20230607T051246Z
LAST-MODIFIED:20250107T131756Z
UID:10001188-1686751200-1686753000@kalenteri.niemikoti.fi
SUMMARY:Yhteisöpäivän päiväkahvit
DESCRIPTION:Päiväkahvit kuuluvat aamiaisen ja/tai lounaan hintaan\, muuten 1 €.
URL:https://kalenteri.niemikoti.fi/en/tapahtuma/yhteisopaivan-paivakahvit/2023-06-14/
LOCATION:Toimintakeskus Villa Borgis\, Linnavuorentie 13\, Helsinki\, 00950\, Finland
CATEGORIES:Toimintakeskus Villa Borgis
END:VEVENT
BEGIN:VEVENT
DTSTART;TZID=Europe/Helsinki:20230614T160000
DTEND;TZID=Europe/Helsinki:20230614T180000
DTSTAMP:20260421T182418
CREATED:20230606T133554Z
LAST-MODIFIED:20230612T091138Z
UID:10001167-1686758400-1686765600@kalenteri.niemikoti.fi
SUMMARY:Avoimet Kesäjamit!
DESCRIPTION:Kulttuuripaja ELVIKSEN Kesäjameissa lava on vapaa esityksille ja nyyttäripöytään voi tuoda herkkuja.
URL:https://kalenteri.niemikoti.fi/en/tapahtuma/avoimet-kesajamit/
LOCATION:Kulttuuripaja ELVIS\, Lautatarhankatu 4\, Helsinki\, 00580\, Finland
CATEGORIES:Kulttuuripaja ELVIS,Päivätoiminta
ATTACH;FMTTYPE=image/jpeg:https://kalenteri.niemikoti.fi/wp-content/uploads/2023/06/kitarat-1-scaled.jpg
END:VEVENT
END:VCALENDAR