BEGIN:VCALENDAR
VERSION:2.0
PRODID:-//Tapahtumakalenteri - ECPv6.15.18//NONSGML v1.0//EN
CALSCALE:GREGORIAN
METHOD:PUBLISH
X-ORIGINAL-URL:https://kalenteri.niemikoti.fi/en/
X-WR-CALDESC:Events for Tapahtumakalenteri
REFRESH-INTERVAL;VALUE=DURATION:PT1H
X-Robots-Tag:noindex
X-PUBLISHED-TTL:PT1H
BEGIN:VTIMEZONE
TZID:Europe/Helsinki
BEGIN:DAYLIGHT
TZOFFSETFROM:+0200
TZOFFSETTO:+0300
TZNAME:EEST
DTSTART:20220327T010000
END:DAYLIGHT
BEGIN:STANDARD
TZOFFSETFROM:+0300
TZOFFSETTO:+0200
TZNAME:EET
DTSTART:20221030T010000
END:STANDARD
BEGIN:DAYLIGHT
TZOFFSETFROM:+0200
TZOFFSETTO:+0300
TZNAME:EEST
DTSTART:20230326T010000
END:DAYLIGHT
BEGIN:STANDARD
TZOFFSETFROM:+0300
TZOFFSETTO:+0200
TZNAME:EET
DTSTART:20231029T010000
END:STANDARD
BEGIN:DAYLIGHT
TZOFFSETFROM:+0200
TZOFFSETTO:+0300
TZNAME:EEST
DTSTART:20240331T010000
END:DAYLIGHT
BEGIN:STANDARD
TZOFFSETFROM:+0300
TZOFFSETTO:+0200
TZNAME:EET
DTSTART:20241027T010000
END:STANDARD
END:VTIMEZONE
BEGIN:VEVENT
DTSTART;TZID=Europe/Helsinki:20230622T093000
DTEND;TZID=Europe/Helsinki:20230622T103000
DTSTAMP:20260421T195504
CREATED:20230531T140008Z
LAST-MODIFIED:20230731T073750Z
UID:10001119-1687426200-1687429800@kalenteri.niemikoti.fi
SUMMARY:Kädentaitoja
DESCRIPTION:Kädentaitoryhmä. Vanhojen puutarhakalusteiden kunnostusta 1.6.-22.6.2023. Ilmoittaudu.
URL:https://kalenteri.niemikoti.fi/en/tapahtuma/kadentaitoja/2023-06-22/
LOCATION:Toimintakeskus Villa Borgis\, Linnavuorentie 13\, Helsinki\, 00950\, Finland
CATEGORIES:Toimintakeskus Villa Borgis
END:VEVENT
BEGIN:VEVENT
DTSTART;TZID=Europe/Helsinki:20230622T100000
DTEND;TZID=Europe/Helsinki:20230622T130000
DTSTAMP:20260421T195504
CREATED:20230602T083719Z
LAST-MODIFIED:20230602T083719Z
UID:10001148-1687428000-1687438800@kalenteri.niemikoti.fi
SUMMARY:Valtti Valmennuksen kierrätystori
DESCRIPTION:Kesäkuun ympäristöteemaan sopivasti (Kierrätetään koko kesä) Valtti Valmennus järjestää kierrätystorin. Voit tuoda itselle tarpeettomia ehjiä ja siistejä tavaroita Valtti Valmennukseen\, ja katsoa josko muiden tuomista tavaroista löytyisi jotain sinulle tarpeellista. Ylijääneet tavarat viemme juhannuksen jälkeen Ukrainalaisten avustuskeskukseen.
URL:https://kalenteri.niemikoti.fi/en/tapahtuma/valtti-valmennuksen-kierratystori/2023-06-22/
LOCATION:Valtti Valmennus\, Elimäenkatu 26\, Helsinki\, 00510\, Finland
CATEGORIES:Valtti Valmennus
ATTACH;FMTTYPE=image/jpeg:https://kalenteri.niemikoti.fi/wp-content/uploads/2023/06/kierratystori-1-scaled.jpg
END:VEVENT
BEGIN:VEVENT
DTSTART;TZID=Europe/Helsinki:20230622T103000
DTEND;TZID=Europe/Helsinki:20230622T150000
DTSTAMP:20260421T195504
CREATED:20230607T051917Z
LAST-MODIFIED:20231110T073904Z
UID:10001549-1687429800-1687446000@kalenteri.niemikoti.fi
SUMMARY:Ryhmäpäivä
DESCRIPTION:Ryhmäpäivä\, talo auki klo 9-15. Ilmoittaudu mukaan yhteen tai useampaan ryhmään. Kahvia tarjolla hintaan 1 €/päivä. Omat eväät mukaan!
URL:https://kalenteri.niemikoti.fi/en/tapahtuma/ryhmapaiva/2023-06-22/
LOCATION:Toimintakeskus Villa Borgis\, Linnavuorentie 13\, Helsinki\, 00950\, Finland
CATEGORIES:Toimintakeskus Villa Borgis
END:VEVENT
BEGIN:VEVENT
DTSTART;TZID=Europe/Helsinki:20230622T110000
DTEND;TZID=Europe/Helsinki:20230622T113000
DTSTAMP:20260421T195504
CREATED:20230531T131125Z
LAST-MODIFIED:20230607T094850Z
UID:10001029-1687431600-1687433400@kalenteri.niemikoti.fi
SUMMARY:Ukulelet ELVIKSESSÄ
DESCRIPTION:Tervetuloa opettelemaan ukulelen sointuja ja helppojen biisien säestämistä! Ota oma ukulele mukaan\, jos omistat sellaisen. ELVIKSESSÄ on muutama kappale soittimia.
URL:https://kalenteri.niemikoti.fi/en/tapahtuma/ukulelet-elviksessa/2023-06-22/
LOCATION:Kulttuuripaja ELVIS\, Lautatarhankatu 4\, Helsinki\, 00580\, Finland
CATEGORIES:Kulttuuripaja ELVIS
ATTACH;FMTTYPE=image/jpeg:https://kalenteri.niemikoti.fi/wp-content/uploads/2023/05/ukulele.jpg
END:VEVENT
BEGIN:VEVENT
DTSTART;TZID=Europe/Helsinki:20230622T111500
DTEND;TZID=Europe/Helsinki:20230622T140000
DTSTAMP:20260421T195504
CREATED:20230531T135552Z
LAST-MODIFIED:20230808T115834Z
UID:10001115-1687432500-1687442400@kalenteri.niemikoti.fi
SUMMARY:Kaupunkiviljely Malmilla
DESCRIPTION:Green City Farmin pellolla Malmilla. Lähtö Villa Borgiksesta klo 11.15\, ryhmä klo 12-14.
URL:https://kalenteri.niemikoti.fi/en/tapahtuma/kaupunkiviljely-malmilla/2023-06-22/
LOCATION:Toimintakeskus Villa Borgis\, Linnavuorentie 13\, Helsinki\, 00950\, Finland
CATEGORIES:Toimintakeskus Villa Borgis
END:VEVENT
BEGIN:VEVENT
DTSTART;TZID=Europe/Helsinki:20230622T120000
DTEND;TZID=Europe/Helsinki:20230622T130000
DTSTAMP:20260421T195504
CREATED:20230531T140401Z
LAST-MODIFIED:20230912T084405Z
UID:10001342-1687435200-1687438800@kalenteri.niemikoti.fi
SUMMARY:Kävelyryhmä
DESCRIPTION:Ulkoilua\, sauvakävelyä ja roskakävelyä Villa Borgiksen lähiympäristössä\, ilmoittaudu.
URL:https://kalenteri.niemikoti.fi/en/tapahtuma/kavelyryhma/2023-06-22/
LOCATION:Toimintakeskus Villa Borgis\, Linnavuorentie 13\, Helsinki\, 00950\, Finland
CATEGORIES:Toimintakeskus Villa Borgis
END:VEVENT
BEGIN:VEVENT
DTSTART;TZID=Europe/Helsinki:20230622T120000
DTEND;TZID=Europe/Helsinki:20230622T140000
DTSTAMP:20260421T195504
CREATED:20230531T134447Z
LAST-MODIFIED:20230607T094934Z
UID:10001088-1687435200-1687442400@kalenteri.niemikoti.fi
SUMMARY:Pingistä&piknikkiä Teurastamolla (sateella ELVIKSESSÄ)
DESCRIPTION:Omat eväät mukaan\, Elvis tarjoaa kaffet/teet\, grillausmahdollisuus.
URL:https://kalenteri.niemikoti.fi/en/tapahtuma/pingistapiknikkia-teurastamolla-sateella-elviksessa/2023-06-22/
LOCATION:Teurastamo\, Työpajankatu 2\, Helsinki\, 00580\, Finland
CATEGORIES:Kulttuuripaja ELVIS
END:VEVENT
END:VCALENDAR