BEGIN:VCALENDAR
VERSION:2.0
PRODID:-//Tapahtumakalenteri - ECPv6.15.18//NONSGML v1.0//EN
CALSCALE:GREGORIAN
METHOD:PUBLISH
X-WR-CALNAME:Tapahtumakalenteri
X-ORIGINAL-URL:https://kalenteri.niemikoti.fi/en/
X-WR-CALDESC:Events for Tapahtumakalenteri
REFRESH-INTERVAL;VALUE=DURATION:PT1H
X-Robots-Tag:noindex
X-PUBLISHED-TTL:PT1H
BEGIN:VTIMEZONE
TZID:Europe/Helsinki
BEGIN:DAYLIGHT
TZOFFSETFROM:+0200
TZOFFSETTO:+0300
TZNAME:EEST
DTSTART:20220327T010000
END:DAYLIGHT
BEGIN:STANDARD
TZOFFSETFROM:+0300
TZOFFSETTO:+0200
TZNAME:EET
DTSTART:20221030T010000
END:STANDARD
BEGIN:DAYLIGHT
TZOFFSETFROM:+0200
TZOFFSETTO:+0300
TZNAME:EEST
DTSTART:20230326T010000
END:DAYLIGHT
BEGIN:STANDARD
TZOFFSETFROM:+0300
TZOFFSETTO:+0200
TZNAME:EET
DTSTART:20231029T010000
END:STANDARD
BEGIN:DAYLIGHT
TZOFFSETFROM:+0200
TZOFFSETTO:+0300
TZNAME:EEST
DTSTART:20240331T010000
END:DAYLIGHT
BEGIN:STANDARD
TZOFFSETFROM:+0300
TZOFFSETTO:+0200
TZNAME:EET
DTSTART:20241027T010000
END:STANDARD
END:VTIMEZONE
BEGIN:VEVENT
DTSTART;TZID=Europe/Helsinki:20230628T100000
DTEND;TZID=Europe/Helsinki:20230628T150000
DTSTAMP:20260422T023025
CREATED:20230608T091516Z
LAST-MODIFIED:20230608T091516Z
UID:10001396-1687946400-1687964400@kalenteri.niemikoti.fi
SUMMARY:Avoin kesätoiminta
DESCRIPTION:Kaikille Niemikotisäätiön palvelunkäyttäjille avointa kesätoimintaa. Villa Borgis avoinna klo 10-15. Katso päiväkohtainen ohjelma kalenteristamme. Voit tulla mukaan myös vain oleskelemaan\, seurustelemaan muiden kanssa\, ompelemaan\, piirtämään\, juomaan kahvia\, rentoutumaan…
URL:https://kalenteri.niemikoti.fi/en/tapahtuma/avoin-kesatoiminta/2023-06-28/
LOCATION:Toimintakeskus Villa Borgis\, Linnavuorentie 13\, Helsinki\, 00950\, Finland
CATEGORIES:Toimintakeskus Villa Borgis
END:VEVENT
BEGIN:VEVENT
DTSTART;TZID=Europe/Helsinki:20230628T103000
DTEND;TZID=Europe/Helsinki:20230628T120000
DTSTAMP:20260422T023025
CREATED:20230608T093814Z
LAST-MODIFIED:20230608T093814Z
UID:10001443-1687948200-1687953600@kalenteri.niemikoti.fi
SUMMARY:Soppakokit
DESCRIPTION:Valmistetaan ja nautitaan yhdessä helppo ja edullinen lounasruoka. Ruoan hinta 2 €.
URL:https://kalenteri.niemikoti.fi/en/tapahtuma/soppakokit/2023-06-28/
LOCATION:Toimintakeskus Villa Borgis\, Linnavuorentie 13\, Helsinki\, 00950\, Finland
CATEGORIES:Toimintakeskus Villa Borgis
END:VEVENT
BEGIN:VEVENT
DTSTART;TZID=Europe/Helsinki:20230628T110000
DTEND;TZID=Europe/Helsinki:20230628T130000
DTSTAMP:20260422T023025
CREATED:20230606T125016Z
LAST-MODIFIED:20230607T095222Z
UID:10001157-1687950000-1687957200@kalenteri.niemikoti.fi
SUMMARY:Pleikkapelien pelaamista Kulttuuripaja ELVIKSESSÄ
DESCRIPTION:Tervetuloa pelaamaan Pleikkapelejä ELVIKSEEN!
URL:https://kalenteri.niemikoti.fi/en/tapahtuma/pleikkapelien-pelaamista-kulttuuripaja-elviksessa/2023-06-28/
LOCATION:Kulttuuripaja ELVIS\, Lautatarhankatu 4\, Helsinki\, 00580\, Finland
CATEGORIES:Kulttuuripaja ELVIS
END:VEVENT
BEGIN:VEVENT
DTSTART;TZID=Europe/Helsinki:20230628T130000
DTEND;TZID=Europe/Helsinki:20230628T150000
DTSTAMP:20260422T023025
CREATED:20230531T135008Z
LAST-MODIFIED:20230822T123457Z
UID:10001102-1687957200-1687964400@kalenteri.niemikoti.fi
SUMMARY:Viherpeukalot
DESCRIPTION:Luontolähtöistä toimintaa sisällä ja ulkona. Mm. kasvien kasvatusta\, pihatöitä ja puutarhavierailuja.
URL:https://kalenteri.niemikoti.fi/en/tapahtuma/viherpeukalot/2023-06-28/
LOCATION:Toimintakeskus Villa Borgis\, Linnavuorentie 13\, Helsinki\, 00950\, Finland
CATEGORIES:Toimintakeskus Villa Borgis
END:VEVENT
BEGIN:VEVENT
DTSTART;TZID=Europe/Helsinki:20230628T130000
DTEND;TZID=Europe/Helsinki:20230628T150000
DTSTAMP:20260422T023025
CREATED:20230606T125943Z
LAST-MODIFIED:20230621T094120Z
UID:10001161-1687957200-1687964400@kalenteri.niemikoti.fi
SUMMARY:Kesäkässä & Kuvis Elviksessä
DESCRIPTION:Yhdistetty kädentaito – ja kuvisryhmä\, vaihtuvat teemat ja tekniikat.
URL:https://kalenteri.niemikoti.fi/en/tapahtuma/kesakassa-kuvis-teurastamolla/2023-06-28/
LOCATION:Teurastamo\, Työpajankatu 2\, Helsinki\, 00580\, Finland
CATEGORIES:Kulttuuripaja ELVIS
END:VEVENT
BEGIN:VEVENT
DTSTART;TZID=Europe/Helsinki:20230628T151500
DTEND;TZID=Europe/Helsinki:20230628T164500
DTSTAMP:20260422T023025
CREATED:20230607T111552Z
LAST-MODIFIED:20230621T094515Z
UID:10001337-1687965300-1687970700@kalenteri.niemikoti.fi
SUMMARY:Musavideoraati
DESCRIPTION:Kulttuuripaja ELVIKSESSÄ musavideoraati\, jossa katsellaan ja kuunnellaan monipuolisesti eri musiikkivideoita sekä keskustellaan niistä. Tervetuloa!
URL:https://kalenteri.niemikoti.fi/en/tapahtuma/musavideoraati-2/2023-06-28/
LOCATION:Kulttuuripaja ELVIS\, Lautatarhankatu 4\, Helsinki\, 00580\, Finland
CATEGORIES:Kulttuuripaja ELVIS
END:VEVENT
END:VCALENDAR