BEGIN:VCALENDAR
VERSION:2.0
PRODID:-//Tapahtumakalenteri - ECPv6.15.18//NONSGML v1.0//EN
CALSCALE:GREGORIAN
METHOD:PUBLISH
X-ORIGINAL-URL:https://kalenteri.niemikoti.fi/en/
X-WR-CALDESC:Events for Tapahtumakalenteri
REFRESH-INTERVAL;VALUE=DURATION:PT1H
X-Robots-Tag:noindex
X-PUBLISHED-TTL:PT1H
BEGIN:VTIMEZONE
TZID:Europe/Helsinki
BEGIN:DAYLIGHT
TZOFFSETFROM:+0200
TZOFFSETTO:+0300
TZNAME:EEST
DTSTART:20220327T010000
END:DAYLIGHT
BEGIN:STANDARD
TZOFFSETFROM:+0300
TZOFFSETTO:+0200
TZNAME:EET
DTSTART:20221030T010000
END:STANDARD
BEGIN:DAYLIGHT
TZOFFSETFROM:+0200
TZOFFSETTO:+0300
TZNAME:EEST
DTSTART:20230326T010000
END:DAYLIGHT
BEGIN:STANDARD
TZOFFSETFROM:+0300
TZOFFSETTO:+0200
TZNAME:EET
DTSTART:20231029T010000
END:STANDARD
BEGIN:DAYLIGHT
TZOFFSETFROM:+0200
TZOFFSETTO:+0300
TZNAME:EEST
DTSTART:20240331T010000
END:DAYLIGHT
BEGIN:STANDARD
TZOFFSETFROM:+0300
TZOFFSETTO:+0200
TZNAME:EET
DTSTART:20241027T010000
END:STANDARD
END:VTIMEZONE
BEGIN:VEVENT
DTSTART;TZID=Europe/Helsinki:20231017T090000
DTEND;TZID=Europe/Helsinki:20231105T170000
DTSTAMP:20260421T192654
CREATED:20231031T061127Z
LAST-MODIFIED:20231031T100104Z
UID:10004152-1697533200-1699203600@kalenteri.niemikoti.fi
SUMMARY:Haagan luonto ja eläimet -valokuvanäyttely
DESCRIPTION:Joni Pääskynpään esikoisvalokuvanäyttely viimeistä viikkoa Huopalahden kirkolla (Vespertie). Näyttely Haagan luonto ja eläimet on kerännyt paljon ihastelevia katsojia. \nLyhyt taiteilijan oma luonnehdinta: \n\n”Olen 39-vuotias mies jolle taide ja luovuus on tärkeää. Olen ollut mukana monessa mielenkiintoisessa\, luomassa jotain uutta. Ennen kuin loikkasin vakavasti valokuvauksen mielenkiintoiseen maailmaan puolisentoista vuotta sitten\, tein mm. paljon musiikkiin liittyviä projekteja. \nLuonto ja eläimet luonnossa ovat yksi kiinnostukseni kohteista erityisesti valokuvauksessa. Haagan luonto ja eläimet kuvaa paikallisia eläinasukkeja niiden luonnollisessa ympäristössään.” \n\nJonin kuvausjälkeä saatte muuten nähdäksenne myös Niemikotisäätiön juhlista kertovassa jutussa (linkki avautuu uuteen välilehteen).
URL:https://kalenteri.niemikoti.fi/en/tapahtuma/haagan-luonto-ja-elaimet-valokuvanayttely/
LOCATION:Huopalahden kirkko\, Helsinki\, Vespertie 12\, Helsinki\, 00320
CATEGORIES:Muut tapahtumajärjestäjät
ATTACH;FMTTYPE=image/png:https://kalenteri.niemikoti.fi/wp-content/uploads/2023/10/Joninnayttely.png
END:VEVENT
BEGIN:VEVENT
DTSTART;TZID=Europe/Helsinki:20231019T103000
DTEND;TZID=Europe/Helsinki:20231019T110000
DTSTAMP:20260421T192654
CREATED:20230731T074003Z
LAST-MODIFIED:20240125T130125Z
UID:10001670-1697711400-1697713200@kalenteri.niemikoti.fi
SUMMARY:Aamuvenyttelyt
DESCRIPTION:Kevyttä aamuliikuntaa\, sään salliessa ulkona.
URL:https://kalenteri.niemikoti.fi/en/tapahtuma/aamuvenyttelyt-2/2023-10-19/
LOCATION:Toimintakeskus Villa Borgis\, Linnavuorentie 13\, Helsinki\, 00950\, Finland
CATEGORIES:Toimintakeskus Villa Borgis
END:VEVENT
BEGIN:VEVENT
DTSTART;TZID=Europe/Helsinki:20231019T103000
DTEND;TZID=Europe/Helsinki:20231019T150000
DTSTAMP:20260421T192654
CREATED:20230607T051917Z
LAST-MODIFIED:20231110T073904Z
UID:10001561-1697711400-1697727600@kalenteri.niemikoti.fi
SUMMARY:Ryhmäpäivä
DESCRIPTION:Ryhmäpäivä\, talo auki klo 9-15. Ilmoittaudu mukaan yhteen tai useampaan ryhmään. Kahvia tarjolla hintaan 1 €/päivä. Omat eväät mukaan!
URL:https://kalenteri.niemikoti.fi/en/tapahtuma/ryhmapaiva/2023-10-19/
LOCATION:Toimintakeskus Villa Borgis\, Linnavuorentie 13\, Helsinki\, 00950\, Finland
CATEGORIES:Toimintakeskus Villa Borgis
END:VEVENT
BEGIN:VEVENT
DTSTART;TZID=Europe/Helsinki:20231019T111500
DTEND;TZID=Europe/Helsinki:20231019T140000
DTSTAMP:20260421T192654
CREATED:20230531T135552Z
LAST-MODIFIED:20230808T115834Z
UID:10001262-1697714100-1697724000@kalenteri.niemikoti.fi
SUMMARY:Kaupunkiviljely Malmilla
DESCRIPTION:Green City Farmin pellolla Malmilla. Lähtö Villa Borgiksesta klo 11.15\, ryhmä klo 12-14.
URL:https://kalenteri.niemikoti.fi/en/tapahtuma/kaupunkiviljely-malmilla/2023-10-19/
LOCATION:Toimintakeskus Villa Borgis\, Linnavuorentie 13\, Helsinki\, 00950\, Finland
CATEGORIES:Toimintakeskus Villa Borgis
END:VEVENT
BEGIN:VEVENT
DTSTART;TZID=Europe/Helsinki:20231019T120000
DTEND;TZID=Europe/Helsinki:20231019T130000
DTSTAMP:20260421T192654
CREATED:20230531T140401Z
LAST-MODIFIED:20230912T084405Z
UID:10001682-1697716800-1697720400@kalenteri.niemikoti.fi
SUMMARY:Kävelyryhmä
DESCRIPTION:Ulkoilua\, sauvakävelyä ja roskakävelyä Villa Borgiksen lähiympäristössä\, ilmoittaudu.
URL:https://kalenteri.niemikoti.fi/en/tapahtuma/kavelyryhma/2023-10-19/
LOCATION:Toimintakeskus Villa Borgis\, Linnavuorentie 13\, Helsinki\, 00950\, Finland
CATEGORIES:Toimintakeskus Villa Borgis
END:VEVENT
BEGIN:VEVENT
DTSTART;TZID=Europe/Helsinki:20231019T130000
DTEND;TZID=Europe/Helsinki:20231019T160000
DTSTAMP:20260421T192654
CREATED:20231016T064945Z
LAST-MODIFIED:20231016T083019Z
UID:10003804-1697720400-1697731200@kalenteri.niemikoti.fi
SUMMARY:Malmin pihatalkoot
DESCRIPTION:Pihan haravointia ja muita ulkotöitä leppoisaan tahtiin. Talkoolaisille tarjolla makkaraa ja kaalipiirakkaa.
URL:https://kalenteri.niemikoti.fi/en/tapahtuma/malmin-pihatalkoot/
LOCATION:Malmin päivätoimintakeskus\, Vanha Helsingintie 9\, Helsinki\, 00700\, Finland
CATEGORIES:Malmin päivätoimintakeskus
END:VEVENT
END:VCALENDAR