BEGIN:VCALENDAR
VERSION:2.0
PRODID:-//Tapahtumakalenteri - ECPv6.15.18//NONSGML v1.0//EN
CALSCALE:GREGORIAN
METHOD:PUBLISH
X-ORIGINAL-URL:https://kalenteri.niemikoti.fi/en/
X-WR-CALDESC:Events for Tapahtumakalenteri
REFRESH-INTERVAL;VALUE=DURATION:PT1H
X-Robots-Tag:noindex
X-PUBLISHED-TTL:PT1H
BEGIN:VTIMEZONE
TZID:Europe/Helsinki
BEGIN:DAYLIGHT
TZOFFSETFROM:+0200
TZOFFSETTO:+0300
TZNAME:EEST
DTSTART:20220327T010000
END:DAYLIGHT
BEGIN:STANDARD
TZOFFSETFROM:+0300
TZOFFSETTO:+0200
TZNAME:EET
DTSTART:20221030T010000
END:STANDARD
BEGIN:DAYLIGHT
TZOFFSETFROM:+0200
TZOFFSETTO:+0300
TZNAME:EEST
DTSTART:20230326T010000
END:DAYLIGHT
BEGIN:STANDARD
TZOFFSETFROM:+0300
TZOFFSETTO:+0200
TZNAME:EET
DTSTART:20231029T010000
END:STANDARD
BEGIN:DAYLIGHT
TZOFFSETFROM:+0200
TZOFFSETTO:+0300
TZNAME:EEST
DTSTART:20240331T010000
END:DAYLIGHT
BEGIN:STANDARD
TZOFFSETFROM:+0300
TZOFFSETTO:+0200
TZNAME:EET
DTSTART:20241027T010000
END:STANDARD
END:VTIMEZONE
BEGIN:VEVENT
DTSTART;TZID=Europe/Helsinki:20231215T090000
DTEND;TZID=Europe/Helsinki:20231215T130000
DTSTAMP:20260421T210711
CREATED:20230823T123530Z
LAST-MODIFIED:20240528T092233Z
UID:10003669-1702630800-1702645200@kalenteri.niemikoti.fi
SUMMARY:Yhteisöpäivä Malmilla klo 9-14
DESCRIPTION:Yhteisöpäivä\, Malmin päivätoimintakeskus auki klo 9-14. Ilmoittaudu mukaan!
URL:https://kalenteri.niemikoti.fi/en/tapahtuma/yhteisopaiva-malmilla-klo-9-13-5/2023-12-15/
LOCATION:Malmin päivätoimintakeskus\, Vanha Helsingintie 9\, Helsinki\, 00700\, Finland
CATEGORIES:Malmin päivätoimintakeskus
END:VEVENT
BEGIN:VEVENT
DTSTART;TZID=Europe/Helsinki:20231215T090000
DTEND;TZID=Europe/Helsinki:20231215T180000
DTSTAMP:20260421T210711
CREATED:20231027T072039Z
LAST-MODIFIED:20231211T104614Z
UID:10004151-1702630800-1702663200@kalenteri.niemikoti.fi
SUMMARY:Pikkujouluretki Kesäharjuun
DESCRIPTION:Koko päivätoiminnan yhdessä järjestämä pikkujouluretki Iitin Kesäharjuun. Ilmoittaudu!
URL:https://kalenteri.niemikoti.fi/en/tapahtuma/pikkujouluretki-kesaharjuun/
LOCATION:Toimintakeskus Villa Borgis\, Linnavuorentie 13\, Helsinki\, 00950\, Finland
CATEGORIES:Toimintakeskus Villa Borgis
ATTACH;FMTTYPE=image/jpeg:https://kalenteri.niemikoti.fi/wp-content/uploads/2023/10/pikkujouluretki2023.jpg
END:VEVENT
BEGIN:VEVENT
DTSTART;TZID=Europe/Helsinki:20231215T100000
DTEND;TZID=Europe/Helsinki:20231215T103000
DTSTAMP:20260421T210711
CREATED:20230823T123714Z
LAST-MODIFIED:20240528T092313Z
UID:10003687-1702634400-1702636200@kalenteri.niemikoti.fi
SUMMARY:Yhteisöpäivän aamukokous Malmilla
DESCRIPTION:Yhteisöpäivän aamukokouksessa käydään läpi päivän ohjelma\, tulevat tapahtumat ja kuulumiskierros.
URL:https://kalenteri.niemikoti.fi/en/tapahtuma/yhteisopaivan-aamukokous-malmilla-4/2023-12-15/
LOCATION:Malmin päivätoimintakeskus\, Vanha Helsingintie 9\, Helsinki\, 00700\, Finland
CATEGORIES:Malmin päivätoimintakeskus
END:VEVENT
BEGIN:VEVENT
DTSTART;TZID=Europe/Helsinki:20231215T103000
DTEND;TZID=Europe/Helsinki:20231215T111500
DTSTAMP:20260421T210711
CREATED:20230823T124255Z
LAST-MODIFIED:20240129T124123Z
UID:10003705-1702636200-1702638900@kalenteri.niemikoti.fi
SUMMARY:Perjantain päähänpistot -ryhmä Malmilla
DESCRIPTION:Vaihtuvaa yhteisön ohjelmaa ryhmän toiveiden mukaan\, esimerkiksi pelaamista\, tietovisa tai leipomista. Täydentyvä ryhmä\, ilmoittaudu mukaan!
URL:https://kalenteri.niemikoti.fi/en/tapahtuma/ajan-tasalla-ryhma-malmilla/2023-12-15/
LOCATION:Malmin päivätoimintakeskus\, Vanha Helsingintie 9\, Helsinki\, 00700\, Finland
CATEGORIES:Malmin päivätoimintakeskus
END:VEVENT
BEGIN:VEVENT
DTSTART;TZID=Europe/Helsinki:20231215T123000
DTEND;TZID=Europe/Helsinki:20231215T141500
DTSTAMP:20260421T210711
CREATED:20230823T124747Z
LAST-MODIFIED:20240314T105912Z
UID:10003723-1702643400-1702649700@kalenteri.niemikoti.fi
SUMMARY:Uintiryhmä
DESCRIPTION:Omatoiminen liikuntaryhmä Malmin liikuntahallille. Täydentyvä ryhmä\, ilmoittaudu mukaan!
URL:https://kalenteri.niemikoti.fi/en/tapahtuma/uintiryhma-2/2023-12-15/
LOCATION:Malmin päivätoimintakeskus\, Vanha Helsingintie 9\, Helsinki\, 00700\, Finland
CATEGORIES:Malmin päivätoimintakeskus
END:VEVENT
END:VCALENDAR