BEGIN:VCALENDAR
VERSION:2.0
PRODID:-//Tapahtumakalenteri - ECPv6.15.18//NONSGML v1.0//EN
CALSCALE:GREGORIAN
METHOD:PUBLISH
X-ORIGINAL-URL:https://kalenteri.niemikoti.fi/en/
X-WR-CALDESC:Events for Tapahtumakalenteri
REFRESH-INTERVAL;VALUE=DURATION:PT1H
X-Robots-Tag:noindex
X-PUBLISHED-TTL:PT1H
BEGIN:VTIMEZONE
TZID:Europe/Helsinki
BEGIN:DAYLIGHT
TZOFFSETFROM:+0200
TZOFFSETTO:+0300
TZNAME:EEST
DTSTART:20230326T010000
END:DAYLIGHT
BEGIN:STANDARD
TZOFFSETFROM:+0300
TZOFFSETTO:+0200
TZNAME:EET
DTSTART:20231029T010000
END:STANDARD
BEGIN:DAYLIGHT
TZOFFSETFROM:+0200
TZOFFSETTO:+0300
TZNAME:EEST
DTSTART:20240331T010000
END:DAYLIGHT
BEGIN:STANDARD
TZOFFSETFROM:+0300
TZOFFSETTO:+0200
TZNAME:EET
DTSTART:20241027T010000
END:STANDARD
BEGIN:DAYLIGHT
TZOFFSETFROM:+0200
TZOFFSETTO:+0300
TZNAME:EEST
DTSTART:20250330T010000
END:DAYLIGHT
BEGIN:STANDARD
TZOFFSETFROM:+0300
TZOFFSETTO:+0200
TZNAME:EET
DTSTART:20251026T010000
END:STANDARD
END:VTIMEZONE
BEGIN:VEVENT
DTSTART;TZID=Europe/Helsinki:20240418T110000
DTEND;TZID=Europe/Helsinki:20240418T120000
DTSTAMP:20260423T151242
CREATED:20231110T103101Z
LAST-MODIFIED:20240911T111654Z
UID:10010638-1713438000-1713441600@kalenteri.niemikoti.fi
SUMMARY:Rento jooga Malmilla
DESCRIPTION:Lempeää ja helppoa venyttelyä sekä rentoutusta. Täydentyvä ryhmä\, ilmoittaudu mukaan!
URL:https://kalenteri.niemikoti.fi/en/tapahtuma/jooga-malmilla/2024-04-18/
LOCATION:Malmin päivätoimintakeskus\, Vanha Helsingintie 9\, Helsinki\, 00700\, Finland
CATEGORIES:Malmin päivätoimintakeskus
END:VEVENT
BEGIN:VEVENT
DTSTART;TZID=Europe/Helsinki:20240418T110000
DTEND;TZID=Europe/Helsinki:20240418T120000
DTSTAMP:20260423T151242
CREATED:20240125T131132Z
LAST-MODIFIED:20240408T123339Z
UID:10006025-1713438000-1713441600@kalenteri.niemikoti.fi
SUMMARY:Morning Coffee in english
DESCRIPTION:Opitaan ja pidetään yllä englannin kielen taitoa yhdessä keskustellen. Sopii kaikille kiinnostuneille\, ei taitotasovaatimuksia. \nConversation in English. No skill level requirements. \n 
URL:https://kalenteri.niemikoti.fi/en/tapahtuma/morning-coffee-in-english/2024-04-18/
LOCATION:Toimintakeskus Villa Borgis\, Linnavuorentie 13\, Helsinki\, 00950\, Finland
CATEGORIES:Toimintakeskus Villa Borgis
END:VEVENT
BEGIN:VEVENT
DTSTART;TZID=Europe/Helsinki:20240418T130000
DTEND;TZID=Europe/Helsinki:20240418T143000
DTSTAMP:20260423T151242
CREATED:20240123T094518Z
LAST-MODIFIED:20240318T125309Z
UID:10006019-1713445200-1713450600@kalenteri.niemikoti.fi
SUMMARY:Luontokävelijät
DESCRIPTION:Kävelyretkiä keväisessä lähiluonnossa. Tarkkaillaan ja havainnoidaan kevään etenemistä.
URL:https://kalenteri.niemikoti.fi/en/tapahtuma/luontokavelijat/2024-04-18/
LOCATION:Toimintakeskus Villa Borgis\, Linnavuorentie 13\, Helsinki\, 00950\, Finland
CATEGORIES:Toimintakeskus Villa Borgis
END:VEVENT
BEGIN:VEVENT
DTSTART;TZID=Europe/Helsinki:20240418T130000
DTEND;TZID=Europe/Helsinki:20240418T143000
DTSTAMP:20260423T151242
CREATED:20240408T075429Z
LAST-MODIFIED:20240408T075429Z
UID:10010244-1713445200-1713450600@kalenteri.niemikoti.fi
SUMMARY:Pohdi-Kehity-Innostu
DESCRIPTION:Valtti Valmennuksen kaikille avoin ryhmä. Aiheena motivaatio.
URL:https://kalenteri.niemikoti.fi/en/tapahtuma/pohdi-kehity-innostu/
CATEGORIES:Valtti Valmennus
END:VEVENT
BEGIN:VEVENT
DTSTART;TZID=Europe/Helsinki:20240418T130000
DTEND;TZID=Europe/Helsinki:20240418T143000
DTSTAMP:20260423T151242
CREATED:20240408T091351Z
LAST-MODIFIED:20240408T091351Z
UID:10010246-1713445200-1713450600@kalenteri.niemikoti.fi
SUMMARY:Pohdi-Kehity-Innostu
DESCRIPTION:Kaikille avoimet Valtti Valmennuksen ryhmät. \nTänään aiheena motivaatio! \n 
URL:https://kalenteri.niemikoti.fi/en/tapahtuma/pohdi-kehity-innostu/
CATEGORIES:Valtti Valmennus
END:VEVENT
BEGIN:VEVENT
DTSTART;TZID=Europe/Helsinki:20240418T130000
DTEND;TZID=Europe/Helsinki:20240418T143000
DTSTAMP:20260423T151242
CREATED:20240408T093209Z
LAST-MODIFIED:20240408T093209Z
UID:10010248-1713445200-1713450600@kalenteri.niemikoti.fi
SUMMARY:POHDI-KEHITY-INNOSTU-ryhmä
DESCRIPTION:Aiheena motivaatio
URL:https://kalenteri.niemikoti.fi/en/tapahtuma/pohdi-kehity-innostu-ryhma-4/
CATEGORIES:Valtti Valmennus
END:VEVENT
END:VCALENDAR