BEGIN:VCALENDAR
VERSION:2.0
PRODID:-//Tapahtumakalenteri - ECPv6.15.18//NONSGML v1.0//EN
CALSCALE:GREGORIAN
METHOD:PUBLISH
X-WR-CALNAME:Tapahtumakalenteri
X-ORIGINAL-URL:https://kalenteri.niemikoti.fi/en/
X-WR-CALDESC:Events for Tapahtumakalenteri
REFRESH-INTERVAL;VALUE=DURATION:PT1H
X-Robots-Tag:noindex
X-PUBLISHED-TTL:PT1H
BEGIN:VTIMEZONE
TZID:Europe/Helsinki
BEGIN:DAYLIGHT
TZOFFSETFROM:+0200
TZOFFSETTO:+0300
TZNAME:EEST
DTSTART:20230326T010000
END:DAYLIGHT
BEGIN:STANDARD
TZOFFSETFROM:+0300
TZOFFSETTO:+0200
TZNAME:EET
DTSTART:20231029T010000
END:STANDARD
BEGIN:DAYLIGHT
TZOFFSETFROM:+0200
TZOFFSETTO:+0300
TZNAME:EEST
DTSTART:20240331T010000
END:DAYLIGHT
BEGIN:STANDARD
TZOFFSETFROM:+0300
TZOFFSETTO:+0200
TZNAME:EET
DTSTART:20241027T010000
END:STANDARD
BEGIN:DAYLIGHT
TZOFFSETFROM:+0200
TZOFFSETTO:+0300
TZNAME:EEST
DTSTART:20250330T010000
END:DAYLIGHT
BEGIN:STANDARD
TZOFFSETFROM:+0300
TZOFFSETTO:+0200
TZNAME:EET
DTSTART:20251026T010000
END:STANDARD
END:VTIMEZONE
BEGIN:VEVENT
DTSTART;TZID=Europe/Helsinki:20240608T120000
DTEND;TZID=Europe/Helsinki:20240608T160000
DTSTAMP:20260424T155155
CREATED:20240606T115526Z
LAST-MODIFIED:20240606T115526Z
UID:10011935-1717848000-1717862400@kalenteri.niemikoti.fi
SUMMARY:Punkmuseon avajaiset 8.6.2024
DESCRIPTION:Punkmuseo avaa ovensa Kampin Graniittitalossa (Jaakonkatu 3) lauantaina 8.6. Museo on pystyssä koko kesän\, elokuun loppuun asti. Museon aukioloajat ovat ti-pe klo 12-18 ja la 12-16. \nNormaalisti sisäänpääsymaksu on 5€\, mutta ilmoittamalla etukäteen\, pääsee Niemikotisäätiön palvelunkäyttäjät (ja heidän mukanaan ohjaajat) ilmaiseksi. Sähköpostia voi laittaa punk@punkmuseo.fi\, ja sopia tulosta. \nMuseossa on esillä vaihtuvia näyttelyitä\, joiden kautta pääsee tutustumaan punkin historiaan kuvien\, esineiden ja tarinoiden muodossa.
URL:https://kalenteri.niemikoti.fi/en/tapahtuma/punkmuseon-avajaiset-8-6-2024/
LOCATION:Graniittitalo\, Jaakonkatu 3\, Helsinki\, Finland
ATTACH;FMTTYPE=image/png:https://kalenteri.niemikoti.fi/wp-content/uploads/2024/06/punkmuseo.png
END:VEVENT
END:VCALENDAR