BEGIN:VCALENDAR
VERSION:2.0
PRODID:-//Tapahtumakalenteri - ECPv6.15.18//NONSGML v1.0//EN
CALSCALE:GREGORIAN
METHOD:PUBLISH
X-ORIGINAL-URL:https://kalenteri.niemikoti.fi/en/
X-WR-CALDESC:Events for Tapahtumakalenteri
REFRESH-INTERVAL;VALUE=DURATION:PT1H
X-Robots-Tag:noindex
X-PUBLISHED-TTL:PT1H
BEGIN:VTIMEZONE
TZID:Europe/Helsinki
BEGIN:DAYLIGHT
TZOFFSETFROM:+0200
TZOFFSETTO:+0300
TZNAME:EEST
DTSTART:20230326T010000
END:DAYLIGHT
BEGIN:STANDARD
TZOFFSETFROM:+0300
TZOFFSETTO:+0200
TZNAME:EET
DTSTART:20231029T010000
END:STANDARD
BEGIN:DAYLIGHT
TZOFFSETFROM:+0200
TZOFFSETTO:+0300
TZNAME:EEST
DTSTART:20240331T010000
END:DAYLIGHT
BEGIN:STANDARD
TZOFFSETFROM:+0300
TZOFFSETTO:+0200
TZNAME:EET
DTSTART:20241027T010000
END:STANDARD
BEGIN:DAYLIGHT
TZOFFSETFROM:+0200
TZOFFSETTO:+0300
TZNAME:EEST
DTSTART:20250330T010000
END:DAYLIGHT
BEGIN:STANDARD
TZOFFSETFROM:+0300
TZOFFSETTO:+0200
TZNAME:EET
DTSTART:20251026T010000
END:STANDARD
END:VTIMEZONE
BEGIN:VEVENT
DTSTART;TZID=Europe/Helsinki:20241010T093000
DTEND;TZID=Europe/Helsinki:20241010T130000
DTSTAMP:20260421T182537
CREATED:20241004T053155Z
LAST-MODIFIED:20241004T053155Z
UID:10013401-1728552600-1728565200@kalenteri.niemikoti.fi
SUMMARY:Yhteislähtö Vantaan Megarekry-tapahtumaan
DESCRIPTION:Vantaan suurin rekrytointitapahtuma järjestetään kauppakeskus Jumbo-Flamingossa. Paikalla on kymmeniä työnantajia sekä oppilaitoksia. Lähdetään yhdessä aistimaan tunnelmaa :)! \nTapaaminen Valtti Valmennuksessa klo 9.30\, josta lähdetään porukalla Vantaalle. Perille pääsee AB-lipulla. \nValtti Valmennuksessa on mahdollista tulostaa pari CV:tä mukaan\, jos haluat sellaisen ojentaa potentiaaliselle työnantajalle.
URL:https://kalenteri.niemikoti.fi/en/tapahtuma/yhteislahto-vantaan-megarekry-tapahtumaan/
LOCATION:Valtti Valmennus\, Elimäenkatu 26\, Helsinki\, 00510\, Finland
CATEGORIES:Valtti Valmennus
ATTACH;FMTTYPE=image/png:https://kalenteri.niemikoti.fi/wp-content/uploads/2024/10/Megarekry.png
END:VEVENT
BEGIN:VEVENT
DTSTART;TZID=Europe/Helsinki:20241010T110000
DTEND;TZID=Europe/Helsinki:20241010T120000
DTSTAMP:20260421T182537
CREATED:20240911T111956Z
LAST-MODIFIED:20250120T140121Z
UID:10012658-1728558000-1728561600@kalenteri.niemikoti.fi
SUMMARY:Rento jooga
DESCRIPTION:Lempeää ja helppoa venyttelyä sekä rentoutusta. Täydentyvä ryhmä\, ilmoittaudu mukaan!
URL:https://kalenteri.niemikoti.fi/en/tapahtuma/rento-jooga/2024-10-10/
LOCATION:Malmin päivätoimintakeskus\, Vanha Helsingintie 9\, Helsinki\, 00700\, Finland
CATEGORIES:Malmin päivätoimintakeskus
ATTACH;FMTTYPE=image/jpeg:https://kalenteri.niemikoti.fi/wp-content/uploads/2024/09/Jooga.jpg
END:VEVENT
BEGIN:VEVENT
DTSTART;TZID=Europe/Helsinki:20241010T113000
DTEND;TZID=Europe/Helsinki:20241010T130000
DTSTAMP:20260421T182537
CREATED:20240923T084702Z
LAST-MODIFIED:20240923T090534Z
UID:10013233-1728559800-1728565200@kalenteri.niemikoti.fi
SUMMARY:Soppakokit Elviksessä
DESCRIPTION:Kokkaillaan ja syödään yhdessä hyvää kasvisruokaa.
URL:https://kalenteri.niemikoti.fi/en/tapahtuma/soppakokit-elviksessa/2024-10-10/
LOCATION:Kulttuuripaja ELVIS\, Lautatarhankatu 4\, Helsinki\, 00580\, Finland
CATEGORIES:Kulttuuripaja ELVIS
END:VEVENT
BEGIN:VEVENT
DTSTART;TZID=Europe/Helsinki:20241010T123000
DTEND;TZID=Europe/Helsinki:20241010T140000
DTSTAMP:20260421T182537
CREATED:20240430T113701Z
LAST-MODIFIED:20241108T084027Z
UID:10011195-1728563400-1728568800@kalenteri.niemikoti.fi
SUMMARY:Hygge
DESCRIPTION:Villasukat jalkaan\, maailman murheet hetkeksi syrjään ja olo mukavaksi teekupposen äärellä. Rentoa yhdessäoloa ja mahdollisuus tehdä esim. käsitöitä tai kuvataidetta.
URL:https://kalenteri.niemikoti.fi/en/tapahtuma/hygge-malmilla-2/2024-10-10/
LOCATION:Malmin päivätoimintakeskus\, Vanha Helsingintie 9\, Helsinki\, 00700\, Finland
CATEGORIES:Malmin päivätoimintakeskus
END:VEVENT
BEGIN:VEVENT
DTSTART;TZID=Europe/Helsinki:20241010T133000
DTEND;TZID=Europe/Helsinki:20241010T150000
DTSTAMP:20260421T182537
CREATED:20240923T085212Z
LAST-MODIFIED:20240923T090713Z
UID:10013239-1728567000-1728572400@kalenteri.niemikoti.fi
SUMMARY:Musavideoraati
DESCRIPTION:Katsotaan musiikkivideoita vaihtuvin teemoin ja keskustellaan musiikista.
URL:https://kalenteri.niemikoti.fi/en/tapahtuma/musavideoraati-4/2024-10-10/
LOCATION:Kulttuuripaja ELVIS\, Lautatarhankatu 4\, Helsinki\, 00580\, Finland
CATEGORIES:Kulttuuripaja ELVIS
END:VEVENT
BEGIN:VEVENT
DTSTART;TZID=Europe/Helsinki:20241010T140000
DTEND;TZID=Europe/Helsinki:20241010T150000
DTSTAMP:20260421T182537
CREATED:20241010T032808Z
LAST-MODIFIED:20241010T033008Z
UID:10013417-1728568800-1728572400@kalenteri.niemikoti.fi
SUMMARY:Aleksis Kivi -kierros
DESCRIPTION:Tapahtuma Lapinlahden Lähteen Facebookista: \nTorstai 10.10. on Aleksis Kiven päivä ja Maailman mielenterveyspäivä!\nTervetuloa silloin klo 14 maksuttomalle historiakierrokselle Lapinlahteen. Kierroksella kuulet erityisesti Aleksis Kiven elämästä koko hänen elämänkaarensa ajalta. Mukana kierroksella on myös annos Lapinlahden historiaa\, viettihän Aleksis potilaana Lapinlahdessa pitkän ajan.\n\nKierros lähtee Kahvila Lähteen edestä (päärakennuksen etupiha) ja kestää noin tunnin. Oppaana kierroksella toimii Lapinlahden sairaalan historiaan perehtynyt Risto Ruuth.\n\nLapinlahdenpolku 8\, 00180 Helsinki\nJärjestäjät Lapinlahden Lähde ja Pro Lapinlahti mielenterveysseura ry
URL:https://kalenteri.niemikoti.fi/en/tapahtuma/aleksis-kivi-kierros/
LOCATION:Lapinlahden lähde\, Lapinlahdenpolku 8\, Helsinki\, 00180\, Finland
ATTACH;FMTTYPE=image/jpeg:https://kalenteri.niemikoti.fi/wp-content/uploads/2024/10/462257713_925301819632172_4084363900871778369_n.jpg
END:VEVENT
BEGIN:VEVENT
DTSTART;TZID=Europe/Helsinki:20241010T140000
DTEND;TZID=Europe/Helsinki:20241010T160000
DTSTAMP:20260421T182537
CREATED:20240814T074314Z
LAST-MODIFIED:20241009T065309Z
UID:10012200-1728568800-1728576000@kalenteri.niemikoti.fi
SUMMARY:Kaupunkiviljely Malmilla
DESCRIPTION:Kaupunkiviljelyä Green City Farmin puutarhurien opastamana. Ryhmä starttaa Malmin päivätoimintakeskuksesta.
URL:https://kalenteri.niemikoti.fi/en/tapahtuma/kaupunkiviljely-malmilla-5/2024-10-10/
LOCATION:Malmin päivätoimintakeskus\, Vanha Helsingintie 9\, Helsinki\, 00700\, Finland
CATEGORIES:Toimintakeskus Villa Borgis
END:VEVENT
BEGIN:VEVENT
DTSTART;TZID=Europe/Helsinki:20241010T140000
DTEND;TZID=Europe/Helsinki:20241010T160000
DTSTAMP:20260421T182537
CREATED:20240911T125845Z
LAST-MODIFIED:20240912T103547Z
UID:10013050-1728568800-1728576000@kalenteri.niemikoti.fi
SUMMARY:Kaupunkiviljelyryhmä
DESCRIPTION:Tutustutaan luonnon hyvinvointivaikutuksiin\, kestävään kehitykseen ja yhteispeltotoimintaan. Ryhmä toimii toukokuusta lokakuun puoliväliin. Kokoontuminen Malmin päivätoimintakeskuksella\, jossa kahvit ja ja yhteislähtö viereiselle Green City Farmin pellolle. Ilmoittaudu ryhmään!  \nRyhmän esittelyvideo: https://youtu.be/CROvZBijTY8
URL:https://kalenteri.niemikoti.fi/en/tapahtuma/kaupunkiviljelyryhma/2024-10-10/
LOCATION:Malmin päivätoimintakeskus\, Vanha Helsingintie 9\, Helsinki\, 00700\, Finland
CATEGORIES:Malmin päivätoimintakeskus
ATTACH;FMTTYPE=image/jpeg:https://kalenteri.niemikoti.fi/wp-content/uploads/2024/09/GreenCityFarm_logo_2019k-289x300-1.jpg
END:VEVENT
BEGIN:VEVENT
DTSTART;TZID=Europe/Helsinki:20241010T150000
DTEND;TZID=Europe/Helsinki:20241010T163000
DTSTAMP:20260421T182537
CREATED:20240923T085509Z
LAST-MODIFIED:20240923T090855Z
UID:10013252-1728572400-1728577800@kalenteri.niemikoti.fi
SUMMARY:Kirjoituspaja
DESCRIPTION:Viikoittain vaihtuvia kirjoitusharjoituksia. Mahdollisuus keskustella kirjoituksista.
URL:https://kalenteri.niemikoti.fi/en/tapahtuma/kirjoituspaja/2024-10-10/
LOCATION:Kulttuuripaja ELVIS\, Lautatarhankatu 4\, Helsinki\, 00580\, Finland
CATEGORIES:Kulttuuripaja ELVIS
END:VEVENT
END:VCALENDAR