BEGIN:VCALENDAR
VERSION:2.0
PRODID:-//Tapahtumakalenteri - ECPv6.15.18//NONSGML v1.0//EN
CALSCALE:GREGORIAN
METHOD:PUBLISH
X-ORIGINAL-URL:https://kalenteri.niemikoti.fi/en/
X-WR-CALDESC:Events for Tapahtumakalenteri
REFRESH-INTERVAL;VALUE=DURATION:PT1H
X-Robots-Tag:noindex
X-PUBLISHED-TTL:PT1H
BEGIN:VTIMEZONE
TZID:Europe/Helsinki
BEGIN:DAYLIGHT
TZOFFSETFROM:+0200
TZOFFSETTO:+0300
TZNAME:EEST
DTSTART:20240331T010000
END:DAYLIGHT
BEGIN:STANDARD
TZOFFSETFROM:+0300
TZOFFSETTO:+0200
TZNAME:EET
DTSTART:20241027T010000
END:STANDARD
BEGIN:DAYLIGHT
TZOFFSETFROM:+0200
TZOFFSETTO:+0300
TZNAME:EEST
DTSTART:20250330T010000
END:DAYLIGHT
BEGIN:STANDARD
TZOFFSETFROM:+0300
TZOFFSETTO:+0200
TZNAME:EET
DTSTART:20251026T010000
END:STANDARD
BEGIN:DAYLIGHT
TZOFFSETFROM:+0200
TZOFFSETTO:+0300
TZNAME:EEST
DTSTART:20260329T010000
END:DAYLIGHT
BEGIN:STANDARD
TZOFFSETFROM:+0300
TZOFFSETTO:+0200
TZNAME:EET
DTSTART:20261025T010000
END:STANDARD
END:VTIMEZONE
BEGIN:VEVENT
DTSTART;TZID=Europe/Helsinki:20250605T110000
DTEND;TZID=Europe/Helsinki:20250605T120000
DTSTAMP:20260422T145932
CREATED:20250110T120858Z
LAST-MODIFIED:20250811T001608Z
UID:10024174-1749121200-1749124800@kalenteri.niemikoti.fi
SUMMARY:Letkeä liikunta
DESCRIPTION:Yhteisön rentoa liikuntaa\, esimerkiksi tanssia\, jumppaa\, joogaa tai sauvakävelyä. Täydentyvä ryhmä\, ilmoittaudu mukaan! \nEi ryhmää 1.5.\, 15.5. ja 29.5.
URL:https://kalenteri.niemikoti.fi/en/tapahtuma/letkea-liikunta-malmilla/2025-06-05/
LOCATION:Malmin päivätoimintakeskus\, Vanha Helsingintie 9\, Helsinki\, 00700\, Finland
CATEGORIES:Malmin päivätoimintakeskus
ATTACH;FMTTYPE=image/jpeg:https://kalenteri.niemikoti.fi/wp-content/uploads/2025/01/Letkea_liikunta.jpg
END:VEVENT
BEGIN:VEVENT
DTSTART;TZID=Europe/Helsinki:20250605T110000
DTEND;TZID=Europe/Helsinki:20250605T120000
DTSTAMP:20260422T145932
CREATED:20250325T062827Z
LAST-MODIFIED:20250522T074931Z
UID:10022064-1749121200-1749124800@kalenteri.niemikoti.fi
SUMMARY:Morning Coffee -englanninkielinen keskusteluryhmä
DESCRIPTION:Opitaan ja pidetään yllä englannin kielen taitoa yhdessä keskustellen. Discussing in English – learning and keeping up English skills together.
URL:https://kalenteri.niemikoti.fi/en/tapahtuma/morning-coffee-englanninkielinen-keskusteluryhma/2025-06-05/
LOCATION:Toimintakeskus Villa Borgis\, Linnavuorentie 13\, Helsinki\, 00950\, Finland
CATEGORIES:Toimintakeskus Villa Borgis
END:VEVENT
BEGIN:VEVENT
DTSTART;TZID=Europe/Helsinki:20250605T123000
DTEND;TZID=Europe/Helsinki:20250605T170000
DTSTAMP:20260422T145932
CREATED:20250603T071517Z
LAST-MODIFIED:20250603T071517Z
UID:10023238-1749126600-1749142800@kalenteri.niemikoti.fi
SUMMARY:Retki Ilon pilke -tapahtumaan
DESCRIPTION:Ilon pilke -tapahtuma Lapinlahden lähteellä klo 14-17. Yhteislähtö Malmin päivätoimintakeskukselta klo 12.30.
URL:https://kalenteri.niemikoti.fi/en/tapahtuma/retki-ilon-pilke-tapahtumaan-2/
LOCATION:Lapinlahden lähde\, Lapinlahdenpolku 8\, Helsinki\, 00180\, Finland
CATEGORIES:Malmin päivätoimintakeskus
ATTACH;FMTTYPE=image/jpeg:https://kalenteri.niemikoti.fi/wp-content/uploads/2025/06/491848097_992793882959460_4330055292850110054_n.jpg
END:VEVENT
BEGIN:VEVENT
DTSTART;TZID=Europe/Helsinki:20250605T130000
DTEND;TZID=Europe/Helsinki:20250605T160000
DTSTAMP:20260422T145932
CREATED:20250526T115202Z
LAST-MODIFIED:20250526T115202Z
UID:10023203-1749128400-1749139200@kalenteri.niemikoti.fi
SUMMARY:Retki Ilon pilke -tapahtumaan
DESCRIPTION:Ilon pilke -tapahtuma järjestetään Lapinlahden lähteellä klo 14-16. Yhteislähtö Villa Borgiksesta klo 13.
URL:https://kalenteri.niemikoti.fi/en/tapahtuma/retki-ilon-pilke-tapahtumaan/
LOCATION:Toimintakeskus Villa Borgis\, Linnavuorentie 13\, Helsinki\, 00950\, Finland
CATEGORIES:Toimintakeskus Villa Borgis
END:VEVENT
BEGIN:VEVENT
DTSTART;TZID=Europe/Helsinki:20250605T133000
DTEND;TZID=Europe/Helsinki:20250605T170000
DTSTAMP:20260422T145932
CREATED:20250522T053418Z
LAST-MODIFIED:20250522T053418Z
UID:10022672-1749130200-1749142800@kalenteri.niemikoti.fi
SUMMARY:Retki Ilonpilke-tapahtumaan
DESCRIPTION:Lähdetään yhdessä IlonPilke-tapahtumaan Lapinlahden lähteelle! IlonPilke-tapahtumassa paikalla järjestöjä\, toiminnallista tekemistä\, musiikkiesityksiä ja pientä purtavaa. \nIlonPilke 2025 | Facebook \n  \nLähtö Valtti Valmennuksen tiloista (Kuortaneenkatu 1\, 4. krs) kokemusasiantuntija Ainon kanssa. Julkisella liikenteellä matka kestää n. 30-40 minuuttia. \nIlmoittauduthan ennakkoon sähköpostitse aino.kokemusasiantuntija@niemikoti.fi 3.6. mennessä!
URL:https://kalenteri.niemikoti.fi/en/tapahtuma/retki-ilonpilke-tapahtumaan-2/
LOCATION:Valtti Valmennus\, Elimäenkatu 26\, Helsinki\, 00510\, Finland
CATEGORIES:Valtti Valmennus
ATTACH;FMTTYPE=image/png:https://kalenteri.niemikoti.fi/wp-content/uploads/2025/05/Ilonpilke.png
END:VEVENT
BEGIN:VEVENT
DTSTART;TZID=Europe/Helsinki:20250605T140000
DTEND;TZID=Europe/Helsinki:20250605T160000
DTSTAMP:20260422T145932
CREATED:20250415T102003Z
LAST-MODIFIED:20250523T070820Z
UID:10022058-1749132000-1749139200@kalenteri.niemikoti.fi
SUMMARY:Kaupunkiviljely Malmilla
DESCRIPTION:Jo kolmatta kesää yhteistyössä Perho-liiketalousopiston Green City Farm -toiminnan kanssa: Keväästä syksyyn kestävää peltotoimintaa. Peltoryhmään osallistumalla näet kasvin koko kasvukaaren siemenestä sadonkorjuuseen.
URL:https://kalenteri.niemikoti.fi/en/tapahtuma/kaupunkiviljely-malmilla-6/2025-06-05/
LOCATION:Green City Farm c/o Perho Liiketalousopisto\, Vanha Helsingintie 13\, Helsinki\, 00700
CATEGORIES:Toimintakeskus Villa Borgis
END:VEVENT
BEGIN:VEVENT
DTSTART;TZID=Europe/Helsinki:20250605T140000
DTEND;TZID=Europe/Helsinki:20250605T160000
DTSTAMP:20260422T145932
CREATED:20250612T132706Z
LAST-MODIFIED:20250612T133150Z
UID:10023261-1749132000-1749139200@kalenteri.niemikoti.fi
SUMMARY:Kaupunkiviljelyryhmä
DESCRIPTION:Kokoontuminen ryhmän alussa Malmin päivätoimintakeskuksella. Malmilla kahvit ja yhteislähtö viereiselle Perhon Green City Farmin pellolle. Malmilta saat mukaasi myös puutarhahanskat. Kaupunkiviljelyryhmä toimii toukokuusta lokakuulle. \n19.6. ryhmä poikkeuksellisesti klo 12-14!
URL:https://kalenteri.niemikoti.fi/en/tapahtuma/kaupunkiviljelyryhma-2/2025-06-05/
LOCATION:Malmin päivätoimintakeskus\, Vanha Helsingintie 9\, Helsinki\, 00700\, Finland
CATEGORIES:Malmin päivätoimintakeskus
ATTACH;FMTTYPE=image/jpeg:https://kalenteri.niemikoti.fi/wp-content/uploads/2025/06/Green-City-Farm-paivatoiminnan-suunnitelma-768x834-1.jpg
END:VEVENT
BEGIN:VEVENT
DTSTART;TZID=Europe/Helsinki:20250605T140000
DTEND;TZID=Europe/Helsinki:20250605T170000
DTSTAMP:20260422T145932
CREATED:20250523T075610Z
LAST-MODIFIED:20250523T080102Z
UID:10023194-1749132000-1749142800@kalenteri.niemikoti.fi
SUMMARY:Ilonpilke 2025
DESCRIPTION:
URL:https://kalenteri.niemikoti.fi/en/tapahtuma/ilonpilke-2025/
LOCATION:Lapinlahden lähde\, Lapinlahdenpolku 8\, Helsinki\, 00180\, Finland
CATEGORIES:Muut tapahtumajärjestäjät
ATTACH;FMTTYPE=image/jpeg:https://kalenteri.niemikoti.fi/wp-content/uploads/2025/05/Ilonpilke-1.jpg
END:VEVENT
BEGIN:VEVENT
DTSTART;TZID=Europe/Helsinki:20250605T170000
DTEND;TZID=Europe/Helsinki:20250605T193000
DTSTAMP:20260422T145932
CREATED:20250521T141123Z
LAST-MODIFIED:20250521T141722Z
UID:10022671-1749142800-1749151800@kalenteri.niemikoti.fi
SUMMARY:ÄÄNET PÄÄSSÄNI 🙆‍♂️ – Hulluutta vai luovuuden lähde?
DESCRIPTION:Avajaisseminaari to 5.6. klo 17-19:30 Helsingissä\n👉 MYÖS ETÄNÄ!\n\n📢  Ilkka Taipale: Ääniä kuulevien liike Suomessa\n🎨  Moniääniset taiteilijat esittäytyvät\n👂  Annika Roihujuuri: Äänet – mistä on kyse?\n🌩  Sini Kirvesmäki: Traumat\, äänet ja taide\n\nLisäksi paikan päällä: Äänetön ääni -bändi esiintyy 🎶 ja taidenäyttelyn esittely 👩‍🎨\n\nVoit osallistua \n– Paikan päällä (Pertin Valinta -galleria\, Hakaniemenkuja 2\, 00530 Helsinki)\n– Tai etänä (ilmoittautuminen etäosallistumiseen 4.6. mennessä toimisto@moniaaniset.fi )\n\nSeminaari käynnistää Moniääniset taiteilijat -kollektiivin taidenäyttelyn Pertin Valinta -galleriassa. Taiteilijat murtautuvat ulos sairauden ja hulluuden leimoista. “Kuulemme ääniä ja se on meille merkityksellinen kokemus!” Äänet voivat olla inspiraatio taiteeseen\, tapa käsitellä tunteita tai persoonallinen ominaisuus.\n\nSeminaari ja näyttely ovat maksuttomat.\n\nLisätietoa täältä. \n\nTervetuloa mukaan! 🌷🌷🌷\n\n\n\naanetpaassaniseminaarimainos2025
URL:https://kalenteri.niemikoti.fi/en/tapahtuma/aanet-paassani-%f0%9f%99%86%e2%99%82%ef%b8%8f-hulluutta-vai-luovuuden-lahde/
LOCATION:Pertin Valinta -galleria\, Hakaniemenkuja 2\, Helsinki\, 00530\, Finland
CATEGORIES:Muut tapahtumajärjestäjät
ATTACH;FMTTYPE=image/png:https://kalenteri.niemikoti.fi/wp-content/uploads/2025/05/Screenshot-2025-05-21-at-17.16.51.png
END:VEVENT
END:VCALENDAR