BEGIN:VCALENDAR
VERSION:2.0
PRODID:-//Tapahtumakalenteri - ECPv6.15.18//NONSGML v1.0//EN
CALSCALE:GREGORIAN
METHOD:PUBLISH
X-ORIGINAL-URL:https://kalenteri.niemikoti.fi/en/
X-WR-CALDESC:Events for Tapahtumakalenteri
REFRESH-INTERVAL;VALUE=DURATION:PT1H
X-Robots-Tag:noindex
X-PUBLISHED-TTL:PT1H
BEGIN:VTIMEZONE
TZID:Europe/Helsinki
BEGIN:DAYLIGHT
TZOFFSETFROM:+0200
TZOFFSETTO:+0300
TZNAME:EEST
DTSTART:20240331T010000
END:DAYLIGHT
BEGIN:STANDARD
TZOFFSETFROM:+0300
TZOFFSETTO:+0200
TZNAME:EET
DTSTART:20241027T010000
END:STANDARD
BEGIN:DAYLIGHT
TZOFFSETFROM:+0200
TZOFFSETTO:+0300
TZNAME:EEST
DTSTART:20250330T010000
END:DAYLIGHT
BEGIN:STANDARD
TZOFFSETFROM:+0300
TZOFFSETTO:+0200
TZNAME:EET
DTSTART:20251026T010000
END:STANDARD
BEGIN:DAYLIGHT
TZOFFSETFROM:+0200
TZOFFSETTO:+0300
TZNAME:EEST
DTSTART:20260329T010000
END:DAYLIGHT
BEGIN:STANDARD
TZOFFSETFROM:+0300
TZOFFSETTO:+0200
TZNAME:EET
DTSTART:20261025T010000
END:STANDARD
END:VTIMEZONE
BEGIN:VEVENT
DTSTART;TZID=Europe/Helsinki:20250818T080000
DTEND;TZID=Europe/Helsinki:20250818T170000
DTSTAMP:20260423T142247
CREATED:20250818T131826Z
LAST-MODIFIED:20250818T131826Z
UID:10024571-1755504000-1755536400@kalenteri.niemikoti.fi
SUMMARY:Niilon chat-kahvila 18.8 klo 17-18
DESCRIPTION:Jäikö kesäauringon lämmöstä kipinää liikkumiseen? Vaikuttipa kesä suuntaan tai toiseen liikkumisen suhteen\, tervetuloa keskustelemaan siitä Niilon Chat-kahvilaan maanantaina 18.8 klo 17-18\, jolloin baristana toimii Sanniainen. Jos sinulla ei ole vielä Niiloa\, voit ladata sen täältä https://niilo.niemikoti.fi
URL:https://kalenteri.niemikoti.fi/en/tapahtuma/niilon-chat-kahvila-18-8-klo-17-18/
CATEGORIES:Niilo-sovellus
ATTACH;FMTTYPE=image/png:https://kalenteri.niemikoti.fi/wp-content/uploads/2025/08/1.png
END:VEVENT
BEGIN:VEVENT
DTSTART;TZID=Europe/Helsinki:20250818T090000
DTEND;TZID=Europe/Helsinki:20250818T100000
DTSTAMP:20260423T142247
CREATED:20250810T183356Z
LAST-MODIFIED:20250811T005052Z
UID:10023626-1755507600-1755511200@kalenteri.niemikoti.fi
SUMMARY:Yhteisön aamiainen
DESCRIPTION:Aamiainen yhteisöpäivän kävijöille. Aamiainen sisältää puuroa\, leipää ja leivänpäällisiä\, kahvia tai teetä sekä mehua. Aamiaisen hinta on 1\,50€.
URL:https://kalenteri.niemikoti.fi/en/tapahtuma/yhteison-aamiainen-2/2025-08-18/
LOCATION:Malmin päivätoimintakeskus\, Vanha Helsingintie 9\, Helsinki\, 00700\, Finland
CATEGORIES:Malmin päivätoimintakeskus
END:VEVENT
BEGIN:VEVENT
DTSTART;TZID=Europe/Helsinki:20250818T090000
DTEND;TZID=Europe/Helsinki:20250818T130000
DTSTAMP:20260423T142247
CREATED:20250810T183125Z
LAST-MODIFIED:20250811T004733Z
UID:10023342-1755507600-1755522000@kalenteri.niemikoti.fi
SUMMARY:Yhteisöpäivä
DESCRIPTION:Yhteisöpäivä klo 9-13 Malmin päivätoimintakeskuksessa. Ilmoittaudu mukaan! \nYhteisöpäivän ohjelma: \nKlo 9.00 Aamiainen \nKlo 10.00 Aamukokous \nKlo 10.30 Talon työt \nKlo 11.00 Toiminnallinen ryhmä \nKlo 12.00 Lounas
URL:https://kalenteri.niemikoti.fi/en/tapahtuma/yhteisopaiva-2/2025-08-18/
LOCATION:Malmin päivätoimintakeskus\, Vanha Helsingintie 9\, Helsinki\, 00700\, Finland
CATEGORIES:Malmin päivätoimintakeskus
END:VEVENT
BEGIN:VEVENT
DTSTART;TZID=Europe/Helsinki:20250818T100000
DTEND;TZID=Europe/Helsinki:20250818T103000
DTSTAMP:20260423T142247
CREATED:20250810T183649Z
LAST-MODIFIED:20250902T090521Z
UID:10023910-1755511200-1755513000@kalenteri.niemikoti.fi
SUMMARY:Yhteisöpäivän aamukokous
DESCRIPTION:Yhteisöpäivän aamukokouksessa tutustutaan yhdessä päivän ohjelmaan sekä tuleviin tapahtumiin ja käydään kuulumiskierros.
URL:https://kalenteri.niemikoti.fi/en/tapahtuma/yhteisopaivan-aamukokous-5/2025-08-18/
LOCATION:Malmin päivätoimintakeskus\, Vanha Helsingintie 9\, Helsinki\, 00700\, Finland
CATEGORIES:Malmin päivätoimintakeskus
END:VEVENT
BEGIN:VEVENT
DTSTART;TZID=Europe/Helsinki:20250818T103000
DTEND;TZID=Europe/Helsinki:20250818T110000
DTSTAMP:20260423T142247
CREATED:20250810T184113Z
LAST-MODIFIED:20250902T085538Z
UID:10023986-1755513000-1755514800@kalenteri.niemikoti.fi
SUMMARY:Talon töitä
DESCRIPTION:Tehdään yhdessä yhteisön yhteisiä talon töitä esimerkiksi ruuanlaitossa avustaminen\, tiskikoneen tyhjennys\, viherkasvien kastelu ja pyykkien pesu\, ripustus ja viikkaaminen. Syksyllä haravointia\, talvella lumitöitä\, keväällä ja kesällä istutusten huoltoa ja kastelua.
URL:https://kalenteri.niemikoti.fi/en/tapahtuma/talon-toita-6/2025-08-18/
LOCATION:Malmin päivätoimintakeskus\, Vanha Helsingintie 9\, Helsinki\, 00700\, Finland
CATEGORIES:Malmin päivätoimintakeskus
END:VEVENT
BEGIN:VEVENT
DTSTART;TZID=Europe/Helsinki:20250818T103000
DTEND;TZID=Europe/Helsinki:20250818T120000
DTSTAMP:20260423T142247
CREATED:20240814T064605Z
LAST-MODIFIED:20260331T080702Z
UID:10022649-1755513000-1755518400@kalenteri.niemikoti.fi
SUMMARY:Talon töitä
DESCRIPTION:Yhteisön yhteisiä talon töitä; siivousta\, pihatöitä\, keittiötöitä\, sisustusta yms.
URL:https://kalenteri.niemikoti.fi/en/tapahtuma/talon-toita-3/2025-08-18/
LOCATION:Toimintakeskus Villa Borgis\, Linnavuorentie 13\, Helsinki\, 00950\, Finland
CATEGORIES:Toimintakeskus Villa Borgis
END:VEVENT
BEGIN:VEVENT
DTSTART;TZID=Europe/Helsinki:20250818T110000
DTEND;TZID=Europe/Helsinki:20250818T120000
DTSTAMP:20260423T142247
CREATED:20250810T184858Z
LAST-MODIFIED:20250930T083849Z
UID:10024059-1755514800-1755518400@kalenteri.niemikoti.fi
SUMMARY:Maanantaidokkari
DESCRIPTION:Täydentyvä ryhmä\, ilmoittaudu. Katsotaan yhdessä ajankohtainen tai muuten kiinnostava dokumentti ja keskustellaan siitä.  \nTäydentyvä ryhmä\, ilmoittaudu mukaan.
URL:https://kalenteri.niemikoti.fi/en/tapahtuma/maanantaidokkari-2/2025-08-18/
LOCATION:Malmin päivätoimintakeskus\, Vanha Helsingintie 9\, Helsinki\, 00700\, Finland
CATEGORIES:Malmin päivätoimintakeskus
ATTACH;FMTTYPE=image/jpeg:https://kalenteri.niemikoti.fi/wp-content/uploads/2025/08/Maanantaidokkari.jpg
END:VEVENT
BEGIN:VEVENT
DTSTART;TZID=Europe/Helsinki:20250818T120000
DTEND;TZID=Europe/Helsinki:20250818T130000
DTSTAMP:20260423T142247
CREATED:20250811T003503Z
LAST-MODIFIED:20250902T085611Z
UID:10024221-1755518400-1755522000@kalenteri.niemikoti.fi
SUMMARY:Yhteisön lounas
DESCRIPTION:Lounas yhteisöpäivän kävijöille. Lounaaseen sisältyy arkiruokaa\, salaatti ja kahvi sekä kahvileipä. Lounaan hinta on 3\,50€.
URL:https://kalenteri.niemikoti.fi/en/tapahtuma/yhteison-lounas-2/2025-08-18/
LOCATION:Malmin päivätoimintakeskus\, Vanha Helsingintie 9\, Helsinki\, 00700\, Finland
CATEGORIES:Malmin päivätoimintakeskus
END:VEVENT
BEGIN:VEVENT
DTSTART;TZID=Europe/Helsinki:20250818T130000
DTEND;TZID=Europe/Helsinki:20250818T140000
DTSTAMP:20260423T142247
CREATED:20250723T112759Z
LAST-MODIFIED:20250929T065512Z
UID:10023314-1755522000-1755525600@kalenteri.niemikoti.fi
SUMMARY:Lempeää liikuntaa
DESCRIPTION:Rauhallista\, kaikille soveltuvaa liikuntaa\, sään salliessa ulkona.
URL:https://kalenteri.niemikoti.fi/en/tapahtuma/lempeaa-liikuntaa-3/2025-08-18/
LOCATION:Toimintakeskus Villa Borgis\, Linnavuorentie 13\, Helsinki\, 00950\, Finland
CATEGORIES:Toimintakeskus Villa Borgis
END:VEVENT
BEGIN:VEVENT
DTSTART;TZID=Europe/Helsinki:20250818T130000
DTEND;TZID=Europe/Helsinki:20250818T140000
DTSTAMP:20260423T142247
CREATED:20250819T083012Z
LAST-MODIFIED:20250819T083012Z
UID:10024575-1755522000-1755525600@kalenteri.niemikoti.fi
SUMMARY:Lempeä liikunta
DESCRIPTION:Rauhallista kaikille sopivaa liikuntaa\, sään salliessa ulkona.
URL:https://kalenteri.niemikoti.fi/en/tapahtuma/lempea-liikunta-2/2025-08-18/
LOCATION:Toimintakeskus Villa Borgis\, Linnavuorentie 13\, Helsinki\, 00950\, Finland
CATEGORIES:Toimintakeskus Villa Borgis
END:VEVENT
BEGIN:VEVENT
DTSTART;TZID=Europe/Helsinki:20250818T130000
DTEND;TZID=Europe/Helsinki:20250818T150000
DTSTAMP:20260423T142247
CREATED:20250810T185325Z
LAST-MODIFIED:20251201T115834Z
UID:10024078-1755522000-1755529200@kalenteri.niemikoti.fi
SUMMARY:Peliryhmä
DESCRIPTION:Helppoja seurapelejä mukavassa seurassa. Hyllystä löytyy mm. Dixit\, Dobble\, Carcassonne\, Bananagrams ja Saboteur. Voit myös tuoda pelattavaksi omia pelejä. \nTäydentyvä ryhmä\, ilmoittaudu mukaan.
URL:https://kalenteri.niemikoti.fi/en/tapahtuma/peliryhma-5/2025-08-18/
LOCATION:Malmin päivätoimintakeskus\, Vanha Helsingintie 9\, Helsinki\, 00700\, Finland
CATEGORIES:Malmin päivätoimintakeskus
ATTACH;FMTTYPE=image/jpeg:https://kalenteri.niemikoti.fi/wp-content/uploads/2025/08/Peliryhma.jpg
END:VEVENT
END:VCALENDAR