BEGIN:VCALENDAR
VERSION:2.0
PRODID:-//Tapahtumakalenteri - ECPv6.15.18//NONSGML v1.0//EN
CALSCALE:GREGORIAN
METHOD:PUBLISH
X-WR-CALNAME:Tapahtumakalenteri
X-ORIGINAL-URL:https://kalenteri.niemikoti.fi/en/
X-WR-CALDESC:Events for Tapahtumakalenteri
REFRESH-INTERVAL;VALUE=DURATION:PT1H
X-Robots-Tag:noindex
X-PUBLISHED-TTL:PT1H
BEGIN:VTIMEZONE
TZID:Europe/Helsinki
BEGIN:DAYLIGHT
TZOFFSETFROM:+0200
TZOFFSETTO:+0300
TZNAME:EEST
DTSTART:20240331T010000
END:DAYLIGHT
BEGIN:STANDARD
TZOFFSETFROM:+0300
TZOFFSETTO:+0200
TZNAME:EET
DTSTART:20241027T010000
END:STANDARD
BEGIN:DAYLIGHT
TZOFFSETFROM:+0200
TZOFFSETTO:+0300
TZNAME:EEST
DTSTART:20250330T010000
END:DAYLIGHT
BEGIN:STANDARD
TZOFFSETFROM:+0300
TZOFFSETTO:+0200
TZNAME:EET
DTSTART:20251026T010000
END:STANDARD
BEGIN:DAYLIGHT
TZOFFSETFROM:+0200
TZOFFSETTO:+0300
TZNAME:EEST
DTSTART:20260329T010000
END:DAYLIGHT
BEGIN:STANDARD
TZOFFSETFROM:+0300
TZOFFSETTO:+0200
TZNAME:EET
DTSTART:20261025T010000
END:STANDARD
END:VTIMEZONE
BEGIN:VEVENT
DTSTART;TZID=Europe/Helsinki:20250627T100000
DTEND;TZID=Europe/Helsinki:20250919T110000
DTSTAMP:20260421T221118
CREATED:20250522T084825Z
LAST-MODIFIED:20260421T134929Z
UID:10022980-1751018400-1758279600@kalenteri.niemikoti.fi
SUMMARY:Aamujooga
DESCRIPTION:Kaikille sopivaa\, lempeää ja rauhallista joogaa. Max. 10 osallistujaa. Ilmoittaudu.
URL:https://kalenteri.niemikoti.fi/en/tapahtuma/aamujooga-3/2025-06-27/
LOCATION:Toimintakeskus Villa Borgis\, Linnavuorentie 13\, Helsinki\, 00950\, Finland
CATEGORIES:Toimintakeskus Villa Borgis
ATTACH;FMTTYPE=image/jpeg:https://kalenteri.niemikoti.fi/wp-content/uploads/2025/05/VillaBorgiksen-Aamujooga.jpg
END:VEVENT
BEGIN:VEVENT
DTSTART;TZID=Europe/Helsinki:20250704T100000
DTEND;TZID=Europe/Helsinki:20250926T110000
DTSTAMP:20260421T221118
CREATED:20250522T084825Z
LAST-MODIFIED:20260421T134929Z
UID:10022981-1751623200-1758884400@kalenteri.niemikoti.fi
SUMMARY:Aamujooga
DESCRIPTION:Kaikille sopivaa\, lempeää ja rauhallista joogaa. Max. 10 osallistujaa. Ilmoittaudu.
URL:https://kalenteri.niemikoti.fi/en/tapahtuma/aamujooga-3/2025-07-04/
LOCATION:Toimintakeskus Villa Borgis\, Linnavuorentie 13\, Helsinki\, 00950\, Finland
CATEGORIES:Toimintakeskus Villa Borgis
ATTACH;FMTTYPE=image/jpeg:https://kalenteri.niemikoti.fi/wp-content/uploads/2025/05/VillaBorgiksen-Aamujooga.jpg
END:VEVENT
BEGIN:VEVENT
DTSTART;TZID=Europe/Helsinki:20250711T100000
DTEND;TZID=Europe/Helsinki:20251003T110000
DTSTAMP:20260421T221118
CREATED:20250522T084825Z
LAST-MODIFIED:20260421T134929Z
UID:10022982-1752228000-1759489200@kalenteri.niemikoti.fi
SUMMARY:Aamujooga
DESCRIPTION:Kaikille sopivaa\, lempeää ja rauhallista joogaa. Max. 10 osallistujaa. Ilmoittaudu.
URL:https://kalenteri.niemikoti.fi/en/tapahtuma/aamujooga-3/2025-07-11/
LOCATION:Toimintakeskus Villa Borgis\, Linnavuorentie 13\, Helsinki\, 00950\, Finland
CATEGORIES:Toimintakeskus Villa Borgis
ATTACH;FMTTYPE=image/jpeg:https://kalenteri.niemikoti.fi/wp-content/uploads/2025/05/VillaBorgiksen-Aamujooga.jpg
END:VEVENT
BEGIN:VEVENT
DTSTART;TZID=Europe/Helsinki:20250718T100000
DTEND;TZID=Europe/Helsinki:20251010T110000
DTSTAMP:20260421T221118
CREATED:20250522T084825Z
LAST-MODIFIED:20260421T134929Z
UID:10022983-1752832800-1760094000@kalenteri.niemikoti.fi
SUMMARY:Aamujooga
DESCRIPTION:Kaikille sopivaa\, lempeää ja rauhallista joogaa. Max. 10 osallistujaa. Ilmoittaudu.
URL:https://kalenteri.niemikoti.fi/en/tapahtuma/aamujooga-3/2025-07-18/
LOCATION:Toimintakeskus Villa Borgis\, Linnavuorentie 13\, Helsinki\, 00950\, Finland
CATEGORIES:Toimintakeskus Villa Borgis
ATTACH;FMTTYPE=image/jpeg:https://kalenteri.niemikoti.fi/wp-content/uploads/2025/05/VillaBorgiksen-Aamujooga.jpg
END:VEVENT
BEGIN:VEVENT
DTSTART;TZID=Europe/Helsinki:20250725T100000
DTEND;TZID=Europe/Helsinki:20251017T110000
DTSTAMP:20260421T221118
CREATED:20250522T084825Z
LAST-MODIFIED:20260421T134929Z
UID:10022984-1753437600-1760698800@kalenteri.niemikoti.fi
SUMMARY:Aamujooga
DESCRIPTION:Kaikille sopivaa\, lempeää ja rauhallista joogaa. Max. 10 osallistujaa. Ilmoittaudu.
URL:https://kalenteri.niemikoti.fi/en/tapahtuma/aamujooga-3/2025-07-25/
LOCATION:Toimintakeskus Villa Borgis\, Linnavuorentie 13\, Helsinki\, 00950\, Finland
CATEGORIES:Toimintakeskus Villa Borgis
ATTACH;FMTTYPE=image/jpeg:https://kalenteri.niemikoti.fi/wp-content/uploads/2025/05/VillaBorgiksen-Aamujooga.jpg
END:VEVENT
BEGIN:VEVENT
DTSTART;TZID=Europe/Helsinki:20250801T100000
DTEND;TZID=Europe/Helsinki:20251024T110000
DTSTAMP:20260421T221118
CREATED:20250522T084825Z
LAST-MODIFIED:20260421T134929Z
UID:10022985-1754042400-1761303600@kalenteri.niemikoti.fi
SUMMARY:Aamujooga
DESCRIPTION:Kaikille sopivaa\, lempeää ja rauhallista joogaa. Max. 10 osallistujaa. Ilmoittaudu.
URL:https://kalenteri.niemikoti.fi/en/tapahtuma/aamujooga-3/2025-08-01/
LOCATION:Toimintakeskus Villa Borgis\, Linnavuorentie 13\, Helsinki\, 00950\, Finland
CATEGORIES:Toimintakeskus Villa Borgis
ATTACH;FMTTYPE=image/jpeg:https://kalenteri.niemikoti.fi/wp-content/uploads/2025/05/VillaBorgiksen-Aamujooga.jpg
END:VEVENT
BEGIN:VEVENT
DTSTART;TZID=Europe/Helsinki:20250808T100000
DTEND;TZID=Europe/Helsinki:20251031T100000
DTSTAMP:20260421T221118
CREATED:20250522T084825Z
LAST-MODIFIED:20260421T134929Z
UID:10022986-1754647200-1761904800@kalenteri.niemikoti.fi
SUMMARY:Aamujooga
DESCRIPTION:Kaikille sopivaa\, lempeää ja rauhallista joogaa. Max. 10 osallistujaa. Ilmoittaudu.
URL:https://kalenteri.niemikoti.fi/en/tapahtuma/aamujooga-3/2025-08-08/
LOCATION:Toimintakeskus Villa Borgis\, Linnavuorentie 13\, Helsinki\, 00950\, Finland
CATEGORIES:Toimintakeskus Villa Borgis
ATTACH;FMTTYPE=image/jpeg:https://kalenteri.niemikoti.fi/wp-content/uploads/2025/05/VillaBorgiksen-Aamujooga.jpg
END:VEVENT
BEGIN:VEVENT
DTSTART;TZID=Europe/Helsinki:20250815T100000
DTEND;TZID=Europe/Helsinki:20251107T100000
DTSTAMP:20260421T221118
CREATED:20250522T084825Z
LAST-MODIFIED:20260421T134929Z
UID:10022987-1755252000-1762509600@kalenteri.niemikoti.fi
SUMMARY:Aamujooga
DESCRIPTION:Kaikille sopivaa\, lempeää ja rauhallista joogaa. Max. 10 osallistujaa. Ilmoittaudu.
URL:https://kalenteri.niemikoti.fi/en/tapahtuma/aamujooga-3/2025-08-15/
LOCATION:Toimintakeskus Villa Borgis\, Linnavuorentie 13\, Helsinki\, 00950\, Finland
CATEGORIES:Toimintakeskus Villa Borgis
ATTACH;FMTTYPE=image/jpeg:https://kalenteri.niemikoti.fi/wp-content/uploads/2025/05/VillaBorgiksen-Aamujooga.jpg
END:VEVENT
BEGIN:VEVENT
DTSTART;TZID=Europe/Helsinki:20250822T100000
DTEND;TZID=Europe/Helsinki:20251114T100000
DTSTAMP:20260421T221118
CREATED:20250522T084825Z
LAST-MODIFIED:20260421T134929Z
UID:10022988-1755856800-1763114400@kalenteri.niemikoti.fi
SUMMARY:Aamujooga
DESCRIPTION:Kaikille sopivaa\, lempeää ja rauhallista joogaa. Max. 10 osallistujaa. Ilmoittaudu.
URL:https://kalenteri.niemikoti.fi/en/tapahtuma/aamujooga-3/2025-08-22/
LOCATION:Toimintakeskus Villa Borgis\, Linnavuorentie 13\, Helsinki\, 00950\, Finland
CATEGORIES:Toimintakeskus Villa Borgis
ATTACH;FMTTYPE=image/jpeg:https://kalenteri.niemikoti.fi/wp-content/uploads/2025/05/VillaBorgiksen-Aamujooga.jpg
END:VEVENT
BEGIN:VEVENT
DTSTART;TZID=Europe/Helsinki:20250829T100000
DTEND;TZID=Europe/Helsinki:20251121T100000
DTSTAMP:20260421T221118
CREATED:20250522T084825Z
LAST-MODIFIED:20260421T134929Z
UID:10022989-1756461600-1763719200@kalenteri.niemikoti.fi
SUMMARY:Aamujooga
DESCRIPTION:Kaikille sopivaa\, lempeää ja rauhallista joogaa. Max. 10 osallistujaa. Ilmoittaudu.
URL:https://kalenteri.niemikoti.fi/en/tapahtuma/aamujooga-3/2025-08-29/
LOCATION:Toimintakeskus Villa Borgis\, Linnavuorentie 13\, Helsinki\, 00950\, Finland
CATEGORIES:Toimintakeskus Villa Borgis
ATTACH;FMTTYPE=image/jpeg:https://kalenteri.niemikoti.fi/wp-content/uploads/2025/05/VillaBorgiksen-Aamujooga.jpg
END:VEVENT
BEGIN:VEVENT
DTSTART;TZID=Europe/Helsinki:20250905T100000
DTEND;TZID=Europe/Helsinki:20251128T100000
DTSTAMP:20260421T221118
CREATED:20250522T084825Z
LAST-MODIFIED:20260421T134929Z
UID:10023142-1757066400-1764324000@kalenteri.niemikoti.fi
SUMMARY:Aamujooga
DESCRIPTION:Kaikille sopivaa\, lempeää ja rauhallista joogaa. Max. 10 osallistujaa. Ilmoittaudu.
URL:https://kalenteri.niemikoti.fi/en/tapahtuma/aamujooga-3/2025-09-05/
LOCATION:Toimintakeskus Villa Borgis\, Linnavuorentie 13\, Helsinki\, 00950\, Finland
CATEGORIES:Toimintakeskus Villa Borgis
ATTACH;FMTTYPE=image/jpeg:https://kalenteri.niemikoti.fi/wp-content/uploads/2025/05/VillaBorgiksen-Aamujooga.jpg
END:VEVENT
BEGIN:VEVENT
DTSTART;TZID=Europe/Helsinki:20250910T090000
DTEND;TZID=Europe/Helsinki:20250910T094500
DTSTAMP:20260421T221118
CREATED:20250820T065259Z
LAST-MODIFIED:20260331T081723Z
UID:10026042-1757494800-1757497500@kalenteri.niemikoti.fi
SUMMARY:Yhteisön aamiainen
DESCRIPTION:Aamiainen yhteisöpäivän kävijöille. Sisältää puuron\, talon omenahilloa\, leipää\, leivänpäällisiä\, jugurttia\, hedelmiä\, kahvia\, teetä ja mehua. Hinta aamiaiselle 3 e\, sisältää myös iltapäiväkahvin.
URL:https://kalenteri.niemikoti.fi/en/tapahtuma/yhteison-aamiainen-3/2025-09-10/
LOCATION:Toimintakeskus Villa Borgis\, Linnavuorentie 13\, Helsinki\, 00950\, Finland
CATEGORIES:Toimintakeskus Villa Borgis
END:VEVENT
BEGIN:VEVENT
DTSTART;TZID=Europe/Helsinki:20250910T090000
DTEND;TZID=Europe/Helsinki:20250910T100000
DTSTAMP:20260421T221118
CREATED:20250810T183356Z
LAST-MODIFIED:20250811T005052Z
UID:10023640-1757494800-1757498400@kalenteri.niemikoti.fi
SUMMARY:Yhteisön aamiainen
DESCRIPTION:Aamiainen yhteisöpäivän kävijöille. Aamiainen sisältää puuroa\, leipää ja leivänpäällisiä\, kahvia tai teetä sekä mehua. Aamiaisen hinta on 1\,50€.
URL:https://kalenteri.niemikoti.fi/en/tapahtuma/yhteison-aamiainen-2/2025-09-10/
LOCATION:Malmin päivätoimintakeskus\, Vanha Helsingintie 9\, Helsinki\, 00700\, Finland
CATEGORIES:Malmin päivätoimintakeskus
END:VEVENT
BEGIN:VEVENT
DTSTART;TZID=Europe/Helsinki:20250910T090000
DTEND;TZID=Europe/Helsinki:20250910T130000
DTSTAMP:20260421T221118
CREATED:20250810T183125Z
LAST-MODIFIED:20250811T004733Z
UID:10023356-1757494800-1757509200@kalenteri.niemikoti.fi
SUMMARY:Yhteisöpäivä
DESCRIPTION:Yhteisöpäivä klo 9-13 Malmin päivätoimintakeskuksessa. Ilmoittaudu mukaan! \nYhteisöpäivän ohjelma: \nKlo 9.00 Aamiainen \nKlo 10.00 Aamukokous \nKlo 10.30 Talon työt \nKlo 11.00 Toiminnallinen ryhmä \nKlo 12.00 Lounas
URL:https://kalenteri.niemikoti.fi/en/tapahtuma/yhteisopaiva-2/2025-09-10/
LOCATION:Malmin päivätoimintakeskus\, Vanha Helsingintie 9\, Helsinki\, 00700\, Finland
CATEGORIES:Malmin päivätoimintakeskus
END:VEVENT
BEGIN:VEVENT
DTSTART;TZID=Europe/Helsinki:20250910T100000
DTEND;TZID=Europe/Helsinki:20250910T103000
DTSTAMP:20260421T221118
CREATED:20250810T183649Z
LAST-MODIFIED:20250902T090521Z
UID:10023924-1757498400-1757500200@kalenteri.niemikoti.fi
SUMMARY:Yhteisöpäivän aamukokous
DESCRIPTION:Yhteisöpäivän aamukokouksessa tutustutaan yhdessä päivän ohjelmaan sekä tuleviin tapahtumiin ja käydään kuulumiskierros.
URL:https://kalenteri.niemikoti.fi/en/tapahtuma/yhteisopaivan-aamukokous-5/2025-09-10/
LOCATION:Malmin päivätoimintakeskus\, Vanha Helsingintie 9\, Helsinki\, 00700\, Finland
CATEGORIES:Malmin päivätoimintakeskus
END:VEVENT
BEGIN:VEVENT
DTSTART;TZID=Europe/Helsinki:20250910T100000
DTEND;TZID=Europe/Helsinki:20250910T103000
DTSTAMP:20260421T221118
CREATED:20250818T063824Z
LAST-MODIFIED:20260331T081921Z
UID:10024508-1757498400-1757500200@kalenteri.niemikoti.fi
SUMMARY:Yhteisöpäivän aamukokous
DESCRIPTION:Yhteisöpäivän aamukokouksessa tutustutaan päivän ohjelmaan ja tuleviin tapahtumiin sekä käydään kuulumiskierros.
URL:https://kalenteri.niemikoti.fi/en/tapahtuma/yhteisopaivan-aamukokous-6/2025-09-10/
LOCATION:Toimintakeskus Villa Borgis\, Linnavuorentie 13\, Helsinki\, 00950\, Finland
CATEGORIES:Toimintakeskus Villa Borgis
END:VEVENT
BEGIN:VEVENT
DTSTART;TZID=Europe/Helsinki:20250910T103000
DTEND;TZID=Europe/Helsinki:20250910T110000
DTSTAMP:20260421T221118
CREATED:20250810T184113Z
LAST-MODIFIED:20250902T085538Z
UID:10024000-1757500200-1757502000@kalenteri.niemikoti.fi
SUMMARY:Talon töitä
DESCRIPTION:Tehdään yhdessä yhteisön yhteisiä talon töitä esimerkiksi ruuanlaitossa avustaminen\, tiskikoneen tyhjennys\, viherkasvien kastelu ja pyykkien pesu\, ripustus ja viikkaaminen. Syksyllä haravointia\, talvella lumitöitä\, keväällä ja kesällä istutusten huoltoa ja kastelua.
URL:https://kalenteri.niemikoti.fi/en/tapahtuma/talon-toita-6/2025-09-10/
LOCATION:Malmin päivätoimintakeskus\, Vanha Helsingintie 9\, Helsinki\, 00700\, Finland
CATEGORIES:Malmin päivätoimintakeskus
END:VEVENT
BEGIN:VEVENT
DTSTART;TZID=Europe/Helsinki:20250910T103000
DTEND;TZID=Europe/Helsinki:20250910T120000
DTSTAMP:20260421T221118
CREATED:20250723T113810Z
LAST-MODIFIED:20250818T062836Z
UID:10024501-1757500200-1757505600@kalenteri.niemikoti.fi
SUMMARY:Soppakokit
DESCRIPTION:Tehdään yhdessä ruokaa kauden kasviksista. Ruoan hinta osallistujille 2 €.
URL:https://kalenteri.niemikoti.fi/en/tapahtuma/soppakokit-11/2025-09-10/
LOCATION:Toimintakeskus Villa Borgis\, Linnavuorentie 13\, Helsinki\, 00950\, Finland
CATEGORIES:Toimintakeskus Villa Borgis
END:VEVENT
BEGIN:VEVENT
DTSTART;TZID=Europe/Helsinki:20250910T110000
DTEND;TZID=Europe/Helsinki:20250910T120000
DTSTAMP:20260421T221118
CREATED:20250811T000409Z
LAST-MODIFIED:20250930T114507Z
UID:10024141-1757502000-1757505600@kalenteri.niemikoti.fi
SUMMARY:Luonto & liikunta -kävelyryhmä
DESCRIPTION:Kävelemme Malmin päivätoimintakeskuksen lähiluonnossa mukavan kävelylenkin. Kaksi ryhmää\, joista voit valita rauhallisesti tai reippaasti etenevän ryhmän. \nTäydentyvä ryhmä\, ilmoittaudu mukaan! \nEi ryhmää 1.10. (Pihatalkoot)
URL:https://kalenteri.niemikoti.fi/en/tapahtuma/luonto-liikunta-kavelyryhma-5/2025-09-10/
LOCATION:Malmin päivätoimintakeskus\, Vanha Helsingintie 9\, Helsinki\, 00700\, Finland
CATEGORIES:Malmin päivätoimintakeskus
ATTACH;FMTTYPE=image/jpeg:https://kalenteri.niemikoti.fi/wp-content/uploads/2025/08/Kavelyryhma.jpg
END:VEVENT
BEGIN:VEVENT
DTSTART;TZID=Europe/Helsinki:20250910T120000
DTEND;TZID=Europe/Helsinki:20250910T130000
DTSTAMP:20260421T221118
CREATED:20250811T003503Z
LAST-MODIFIED:20250902T085611Z
UID:10024234-1757505600-1757509200@kalenteri.niemikoti.fi
SUMMARY:Yhteisön lounas
DESCRIPTION:Lounas yhteisöpäivän kävijöille. Lounaaseen sisältyy arkiruokaa\, salaatti ja kahvi sekä kahvileipä. Lounaan hinta on 3\,50€.
URL:https://kalenteri.niemikoti.fi/en/tapahtuma/yhteison-lounas-2/2025-09-10/
LOCATION:Malmin päivätoimintakeskus\, Vanha Helsingintie 9\, Helsinki\, 00700\, Finland
CATEGORIES:Malmin päivätoimintakeskus
END:VEVENT
BEGIN:VEVENT
DTSTART;TZID=Europe/Helsinki:20250910T130000
DTEND;TZID=Europe/Helsinki:20250910T143000
DTSTAMP:20260421T221118
CREATED:20250811T000825Z
LAST-MODIFIED:20250902T085930Z
UID:10024159-1757509200-1757514600@kalenteri.niemikoti.fi
SUMMARY:Väriä elämään -taideryhmä
DESCRIPTION:Visuaalista taidetta vaihtuvin teemoin ja tekniikoin. \nMax. 8 osallistujaa\, ilmoittaudu mukaan! \nEi ryhmää Malmilla 3.9. ja 24.9\, koska teemme syyskuussa retkiä taidemuseoihin. Yhteislähtö Malmilta klo 12.30. \nKE 3.9. Kiasma: Kivi\, paperi\, sakset -kokoelmanäyttely\, Monira Al Qadiri: Deep Fate sekä Dafna Maimon: Oireita. \nKE 24.9. Helsingin kaupunginmuseo: Roskaa! – Mitä jätämme jälkeemme\, Krunikan kortteleissa ja Helsingin valitut palat -näyttelyt
URL:https://kalenteri.niemikoti.fi/en/tapahtuma/varia-elamaan-taideryhma/2025-09-10/
LOCATION:Malmin päivätoimintakeskus\, Vanha Helsingintie 9\, Helsinki\, 00700\, Finland
CATEGORIES:Malmin päivätoimintakeskus
ATTACH;FMTTYPE=image/jpeg:https://kalenteri.niemikoti.fi/wp-content/uploads/2025/08/Varia_elamaan.jpg
END:VEVENT
BEGIN:VEVENT
DTSTART;TZID=Europe/Helsinki:20250910T130000
DTEND;TZID=Europe/Helsinki:20250910T143000
DTSTAMP:20260421T221118
CREATED:20250903T114932Z
LAST-MODIFIED:20250903T114932Z
UID:10024812-1757509200-1757514600@kalenteri.niemikoti.fi
SUMMARY:Puukässäryhmä
DESCRIPTION:Puun tuoksua ja onnistumisen iloa – tule veistämään yhdessä!\n\nPuutyöt ovat paljon enemmän kuin lautoja ja työkaluja. Kun tekeminen tarttuu käsiin\, kiireet unohtuvat ja keskittyminen löytää uuden suunnan. \nTule mukaan ryhmään\, jossa opit rauhassa\, saat tukea ohjaajalta ja pääset jakamaan onnistumisen hetket muiden kanssa. Et tarvitse aiempaa osaamista – into riittää. Yhdessä veistäminen on mukavaa seuraa\, uutta oppia ja oman käden jäljen näkemisen riemua. \nKokeile\, innostu ja veistä itsellesi hyvää mieltä!
URL:https://kalenteri.niemikoti.fi/en/tapahtuma/puukassaryhma/
CATEGORIES:Tapahtumat palvelunkäyttäjille,Toimintakeskus Villa Borgis
ATTACH;FMTTYPE=image/jpeg:https://kalenteri.niemikoti.fi/wp-content/uploads/2025/09/Puutyot-kuva-ja-teksti-keskitetty.jpg
END:VEVENT
END:VCALENDAR