BEGIN:VCALENDAR
VERSION:2.0
PRODID:-//Tapahtumakalenteri - ECPv6.15.18//NONSGML v1.0//EN
CALSCALE:GREGORIAN
METHOD:PUBLISH
X-WR-CALNAME:Tapahtumakalenteri
X-ORIGINAL-URL:https://kalenteri.niemikoti.fi/en/
X-WR-CALDESC:Events for Tapahtumakalenteri
REFRESH-INTERVAL;VALUE=DURATION:PT1H
X-Robots-Tag:noindex
X-PUBLISHED-TTL:PT1H
BEGIN:VTIMEZONE
TZID:Europe/Helsinki
BEGIN:DAYLIGHT
TZOFFSETFROM:+0200
TZOFFSETTO:+0300
TZNAME:EEST
DTSTART:20250330T010000
END:DAYLIGHT
BEGIN:STANDARD
TZOFFSETFROM:+0300
TZOFFSETTO:+0200
TZNAME:EET
DTSTART:20251026T010000
END:STANDARD
BEGIN:DAYLIGHT
TZOFFSETFROM:+0200
TZOFFSETTO:+0300
TZNAME:EEST
DTSTART:20260329T010000
END:DAYLIGHT
BEGIN:STANDARD
TZOFFSETFROM:+0300
TZOFFSETTO:+0200
TZNAME:EET
DTSTART:20261025T010000
END:STANDARD
BEGIN:DAYLIGHT
TZOFFSETFROM:+0200
TZOFFSETTO:+0300
TZNAME:EEST
DTSTART:20270328T010000
END:DAYLIGHT
BEGIN:STANDARD
TZOFFSETFROM:+0300
TZOFFSETTO:+0200
TZNAME:EET
DTSTART:20271031T010000
END:STANDARD
END:VTIMEZONE
BEGIN:VEVENT
DTSTART;TZID=Europe/Helsinki:20260320T090000
DTEND;TZID=Europe/Helsinki:20260320T100000
DTSTAMP:20260421T060140
CREATED:20260302T134800Z
LAST-MODIFIED:20260302T134800Z
UID:10033977-1773997200-1774000800@kalenteri.niemikoti.fi
SUMMARY:Yhteisön aamiainen Malmilla
DESCRIPTION:Aamiaisella puuroa\, muroja tai jogurttia vaihtelevasti sekä leipää päällisineen. Juomaksi tuoremehua sekä kahvia tai teetä. Hinta 1\,5 e.
URL:https://kalenteri.niemikoti.fi/en/tapahtuma/yhteison-aamiainen-malmilla/2026-03-20/
LOCATION:Malmin päivätoimintakeskus\, Vanha Helsingintie 9\, Helsinki\, 00700\, Finland
CATEGORIES:Malmin päivätoimintakeskus
END:VEVENT
BEGIN:VEVENT
DTSTART;TZID=Europe/Helsinki:20260320T100000
DTEND;TZID=Europe/Helsinki:20260320T110000
DTSTAMP:20260421T060140
CREATED:20250522T084825Z
LAST-MODIFIED:20260331T075857Z
UID:10025566-1774000800-1774004400@kalenteri.niemikoti.fi
SUMMARY:Aamujooga
DESCRIPTION:Kaikille sopivaa\, lempeää ja rauhallista joogaa. Max. 10 osallistujaa. Ilmoittaudu.
URL:https://kalenteri.niemikoti.fi/en/tapahtuma/aamujooga-3/2026-03-20/
LOCATION:Toimintakeskus Villa Borgis\, Linnavuorentie 13\, Helsinki\, 00950\, Finland
CATEGORIES:Toimintakeskus Villa Borgis
ATTACH;FMTTYPE=image/jpeg:https://kalenteri.niemikoti.fi/wp-content/uploads/2025/05/VillaBorgiksen-Aamujooga.jpg
END:VEVENT
BEGIN:VEVENT
DTSTART;TZID=Europe/Helsinki:20260320T100000
DTEND;TZID=Europe/Helsinki:20260320T110000
DTSTAMP:20260421T060140
CREATED:20260126T132848Z
LAST-MODIFIED:20260304T131909Z
UID:10036060-1774000800-1774004400@kalenteri.niemikoti.fi
SUMMARY:Tuolijooga
DESCRIPTION:Rauhallista venyttelyä tuolilla istuen ja tuolia tukena käyttäen. Lopussa rentoutus. \nTäydentyvä ryhmä\, ilmoittaudu.
URL:https://kalenteri.niemikoti.fi/en/tapahtuma/tuolijooga-malmilla/2026-03-20/
LOCATION:Malmin päivätoimintakeskus\, Vanha Helsingintie 9\, Helsinki\, 00700\, Finland
CATEGORIES:Malmin päivätoimintakeskus
ATTACH;FMTTYPE=image/jpeg:https://kalenteri.niemikoti.fi/wp-content/uploads/2026/01/Tuolijooga.jpg
END:VEVENT
BEGIN:VEVENT
DTSTART;TZID=Europe/Helsinki:20260320T100000
DTEND;TZID=Europe/Helsinki:20260320T120000
DTSTAMP:20260421T060140
CREATED:20251030T135629Z
LAST-MODIFIED:20260331T075950Z
UID:10026017-1774000800-1774008000@kalenteri.niemikoti.fi
SUMMARY:Sauna
DESCRIPTION:Sauna lämpiää perjantaisin\, jos on ilmoittautuneita. Miehet klo 10 – 11\, naiset klo 11 – 12. Ilmoittautuminen viim. samana päivänä klo 9 mennessä. Oma pyyhe ja pesuaineet mukaan.
URL:https://kalenteri.niemikoti.fi/en/tapahtuma/sauna-2/2026-03-20/
LOCATION:Toimintakeskus Villa Borgis\, Linnavuorentie 13\, Helsinki\, 00950\, Finland
CATEGORIES:Toimintakeskus Villa Borgis
END:VEVENT
BEGIN:VEVENT
DTSTART;TZID=Europe/Helsinki:20260320T110000
DTEND;TZID=Europe/Helsinki:20260320T120000
DTSTAMP:20260421T060140
CREATED:20260303T072331Z
LAST-MODIFIED:20260303T072331Z
UID:10036617-1774004400-1774008000@kalenteri.niemikoti.fi
SUMMARY:Yhteisön lounas Malmilla
DESCRIPTION:Lounas ja lounaskahvit. Ruokalista vaihtelee kuukausittain ja on nähtävillä Malmin päivätoimintakeskuksessa. Hinta 3\,5 euroa.
URL:https://kalenteri.niemikoti.fi/en/tapahtuma/yhteison-lounas-malmilla-2/2026-03-20/
LOCATION:Malmin päivätoimintakeskus\, Vanha Helsingintie 9\, Helsinki\, 00700\, Finland
CATEGORIES:Malmin päivätoimintakeskus
END:VEVENT
BEGIN:VEVENT
DTSTART;TZID=Europe/Helsinki:20260320T120000
DTEND;TZID=Europe/Helsinki:20260320T130000
DTSTAMP:20260421T060140
CREATED:20260112T134429Z
LAST-MODIFIED:20260303T073209Z
UID:10036355-1774008000-1774011600@kalenteri.niemikoti.fi
SUMMARY:Soittoryhmä Malmilla
DESCRIPTION:Tutustaan yhdessä pianon\, ukulelen ja kitaran soiton alkeisiin. Ryhmään mahtuu enintään 6 osallistujaa kerralla. Täydentyvä ryhmä\, ilmoittaudu mukaan!
URL:https://kalenteri.niemikoti.fi/en/tapahtuma/soittoryhma-malmilla/2026-03-20/
LOCATION:Malmin päivätoimintakeskus\, Vanha Helsingintie 9\, Helsinki\, 00700\, Finland
CATEGORIES:Malmin päivätoimintakeskus
END:VEVENT
BEGIN:VEVENT
DTSTART;TZID=Europe/Helsinki:20260320T120000
DTEND;TZID=Europe/Helsinki:20260320T130000
DTSTAMP:20260421T060140
CREATED:20260217T130252Z
LAST-MODIFIED:20260327T091849Z
UID:10033947-1774008000-1774011600@kalenteri.niemikoti.fi
SUMMARY:Perjantai-chillailut
DESCRIPTION:Leppoisaa yhteistä tekemistä; kädentaitoja\, lautapelejä\, musiikin kuuntelua yms.
URL:https://kalenteri.niemikoti.fi/en/tapahtuma/perjantai-chillailut/2026-03-20/
LOCATION:Toimintakeskus Villa Borgis\, Linnavuorentie 13\, Helsinki\, 00950\, Finland
CATEGORIES:Toimintakeskus Villa Borgis
END:VEVENT
BEGIN:VEVENT
DTSTART;TZID=Europe/Helsinki:20260320T143000
DTEND;TZID=Europe/Helsinki:20260320T160000
DTSTAMP:20260421T060140
CREATED:20260220T122501Z
LAST-MODIFIED:20260220T122501Z
UID:10033949-1774017000-1774022400@kalenteri.niemikoti.fi
SUMMARY:Hyvinvoinnin ja kohtaamisen tila-ryhmä: Taloudellinen hyvinvointi. 20.3. klo 14.30-16.00
DESCRIPTION:Hyvinvoinnin ja kohtaamisen tila-ryhmä: Taloudellinen hyvinvointi. Tutustutaan Takuusäätiön Penno-taloudenhallintasovellukseen ja ladattavaan työkirjaan. Pohditaan yhdessä ja jaetaan vinkkejä miten pärjätä taloudellisesti ja mikä on suhteemme kuluttamiseen. Mietitään ratkaisuja mahdollisiin ongelmatilanteisiin. \n  \nTaloudellinen hyvinvointi\nPe 20.3. Klo 14.30–16.\nLautatarhankatu 4\, 00580 Hki\, Kulttuuripaja Elvis.\nRyhmä on kaikille Niemikotisäätiön kävijöille.\nLisätiedot\, kysymykset Teppo Tolvanen\, 050-5882282\, teppo.tolvanen@niemikoti.fi.\nRyhmää ohjaa kokemusasiantuntija Sanna-Mari. \n 
URL:https://kalenteri.niemikoti.fi/en/tapahtuma/hyvinvoinnin-ja-kohtaamisen-tila-ryhma-taloudellinen-hyvinvointi-20-3-klo-14-30-16-00/
LOCATION:Kulttuuripaja ELVIS\, Lautatarhankatu 4\, Helsinki\, 00580\, Finland
CATEGORIES:Kulttuuripaja ELVIS
ATTACH;FMTTYPE=image/png:https://kalenteri.niemikoti.fi/wp-content/uploads/2026/02/TaloudellinenHyvinvointi.png
END:VEVENT
END:VCALENDAR