BEGIN:VCALENDAR
VERSION:2.0
PRODID:-//Tapahtumakalenteri - ECPv6.15.18//NONSGML v1.0//EN
CALSCALE:GREGORIAN
METHOD:PUBLISH
X-WR-CALNAME:Tapahtumakalenteri
X-ORIGINAL-URL:https://kalenteri.niemikoti.fi/en/
X-WR-CALDESC:Events for Tapahtumakalenteri
REFRESH-INTERVAL;VALUE=DURATION:PT1H
X-Robots-Tag:noindex
X-PUBLISHED-TTL:PT1H
BEGIN:VTIMEZONE
TZID:Europe/Helsinki
BEGIN:DAYLIGHT
TZOFFSETFROM:+0200
TZOFFSETTO:+0300
TZNAME:EEST
DTSTART:20250330T010000
END:DAYLIGHT
BEGIN:STANDARD
TZOFFSETFROM:+0300
TZOFFSETTO:+0200
TZNAME:EET
DTSTART:20251026T010000
END:STANDARD
BEGIN:DAYLIGHT
TZOFFSETFROM:+0200
TZOFFSETTO:+0300
TZNAME:EEST
DTSTART:20260329T010000
END:DAYLIGHT
BEGIN:STANDARD
TZOFFSETFROM:+0300
TZOFFSETTO:+0200
TZNAME:EET
DTSTART:20261025T010000
END:STANDARD
BEGIN:DAYLIGHT
TZOFFSETFROM:+0200
TZOFFSETTO:+0300
TZNAME:EEST
DTSTART:20270328T010000
END:DAYLIGHT
BEGIN:STANDARD
TZOFFSETFROM:+0300
TZOFFSETTO:+0200
TZNAME:EET
DTSTART:20271031T010000
END:STANDARD
END:VTIMEZONE
BEGIN:VEVENT
DTSTART;TZID=Europe/Helsinki:20260420T090000
DTEND;TZID=Europe/Helsinki:20260420T100000
DTSTAMP:20260421T090141
CREATED:20260302T134800Z
LAST-MODIFIED:20260302T134800Z
UID:10033994-1776675600-1776679200@kalenteri.niemikoti.fi
SUMMARY:Yhteisön aamiainen Malmilla
DESCRIPTION:Aamiaisella puuroa\, muroja tai jogurttia vaihtelevasti sekä leipää päällisineen. Juomaksi tuoremehua sekä kahvia tai teetä. Hinta 1\,5 e.
URL:https://kalenteri.niemikoti.fi/en/tapahtuma/yhteison-aamiainen-malmilla/2026-04-20/
LOCATION:Malmin päivätoimintakeskus\, Vanha Helsingintie 9\, Helsinki\, 00700\, Finland
CATEGORIES:Malmin päivätoimintakeskus
END:VEVENT
BEGIN:VEVENT
DTSTART;TZID=Europe/Helsinki:20260420T100000
DTEND;TZID=Europe/Helsinki:20260420T103000
DTSTAMP:20260421T090141
CREATED:20260112T105633Z
LAST-MODIFIED:20260303T072458Z
UID:10028691-1776679200-1776681000@kalenteri.niemikoti.fi
SUMMARY:Aamukokous Malmilla
DESCRIPTION:Kokoonnutaan yhteen vaihtamaan kuulumisia ja keskustellaan päivän ohjelmasta.
URL:https://kalenteri.niemikoti.fi/en/tapahtuma/aamukokous-malmilla/2026-04-20/
LOCATION:Malmin päivätoimintakeskus\, Vanha Helsingintie 9\, Helsinki\, 00700\, Finland
CATEGORIES:Malmin päivätoimintakeskus
END:VEVENT
BEGIN:VEVENT
DTSTART;TZID=Europe/Helsinki:20260420T103000
DTEND;TZID=Europe/Helsinki:20260420T110000
DTSTAMP:20260421T090141
CREATED:20260112T111935Z
LAST-MODIFIED:20260410T061604Z
UID:10031013-1776681000-1776682800@kalenteri.niemikoti.fi
SUMMARY:Talon töitä Malmilla
DESCRIPTION:Pidetään yhdessä huolta yhteisistä tiloista ja tiluksista. Osallistua voi omien voimavarojen mukaan.
URL:https://kalenteri.niemikoti.fi/en/tapahtuma/talon-toita-7/2026-04-20/
LOCATION:Malmin päivätoimintakeskus\, Vanha Helsingintie 9\, Helsinki\, 00700\, Finland
CATEGORIES:Malmin päivätoimintakeskus
END:VEVENT
BEGIN:VEVENT
DTSTART;TZID=Europe/Helsinki:20260420T110000
DTEND;TZID=Europe/Helsinki:20260420T120000
DTSTAMP:20260421T090141
CREATED:20260126T112617Z
LAST-MODIFIED:20260304T132032Z
UID:10031821-1776682800-1776686400@kalenteri.niemikoti.fi
SUMMARY:Sanapaja
DESCRIPTION:Ryhmässä tehdään luovia kirjoitusharjoituksia kuten lyhyitä tarinoita ja runoja. \nTäydentyvä ryhmä\, ilmoittaudu mukaan!
URL:https://kalenteri.niemikoti.fi/en/tapahtuma/sanapaja-malmilla-3/2026-04-20/
LOCATION:Malmin päivätoimintakeskus\, Vanha Helsingintie 9\, Helsinki\, 00700\, Finland
CATEGORIES:Malmin päivätoimintakeskus
ATTACH;FMTTYPE=image/jpeg:https://kalenteri.niemikoti.fi/wp-content/uploads/2026/01/Sanapaja.jpg
END:VEVENT
BEGIN:VEVENT
DTSTART;TZID=Europe/Helsinki:20260420T120000
DTEND;TZID=Europe/Helsinki:20260420T130000
DTSTAMP:20260421T090141
CREATED:20260302T135525Z
LAST-MODIFIED:20260303T072113Z
UID:10035038-1776686400-1776690000@kalenteri.niemikoti.fi
SUMMARY:Yhteisön lounas Malmilla
DESCRIPTION:Lounas ja lounaskahvit. Ruokalista vaihtelee kuukausittain ja on nähtävillä Malmin päivätoimintakeskuksessa. Hinta 3\,5 euroa.
URL:https://kalenteri.niemikoti.fi/en/tapahtuma/yhteison-lounas-malmilla/2026-04-20/
LOCATION:Malmin päivätoimintakeskus\, Vanha Helsingintie 9\, Helsinki\, 00700\, Finland
CATEGORIES:Malmin päivätoimintakeskus
END:VEVENT
BEGIN:VEVENT
DTSTART;TZID=Europe/Helsinki:20260420T123000
DTEND;TZID=Europe/Helsinki:20260420T140000
DTSTAMP:20260421T090141
CREATED:20260330T100545Z
LAST-MODIFIED:20260330T100545Z
UID:10036943-1776688200-1776693600@kalenteri.niemikoti.fi
SUMMARY:Rentouttava jooga
DESCRIPTION:Rentouttavaa ja rauhoittavaa joogaa.
URL:https://kalenteri.niemikoti.fi/en/tapahtuma/rentouttava-jooga/2026-04-20/
CATEGORIES:Kulttuuripaja ELVIS
END:VEVENT
BEGIN:VEVENT
DTSTART;TZID=Europe/Helsinki:20260420T130000
DTEND;TZID=Europe/Helsinki:20260420T150000
DTSTAMP:20260421T090141
CREATED:20260302T071622Z
LAST-MODIFIED:20260410T063814Z
UID:10033963-1776690000-1776697200@kalenteri.niemikoti.fi
SUMMARY:One shot  -roolipeliryhmä Malmilla
DESCRIPTION:One shot -roolipeliryhmä maanantaisin klo 13-15. One shotit ovat kertaluonteisia lyhyitä yhdellä istumalla pelattavia roolipelejä. Voit tulla pelaamaan ilman aiempaa kokemusta tai omia noppia. Tule ja ihastu roolipelaamiseen! Mukaan mahtuu 6 osallistujaa\, muista siis ilmoittautua! \n13.4. Elämäni supersankarina \n20.4. Lohikäärmeiden ensilento \n27.4. Juhannusseikkailu
URL:https://kalenteri.niemikoti.fi/en/tapahtuma/one-shot-roolipeliryhma/2026-04-20/
LOCATION:Malmin päivätoimintakeskus\, Vanha Helsingintie 9\, Helsinki\, 00700\, Finland
CATEGORIES:Malmin päivätoimintakeskus
ATTACH;FMTTYPE=image/jpeg:https://kalenteri.niemikoti.fi/wp-content/uploads/2026/03/One_shot-roolipeliryhma_Huhtikuu.jpg
END:VEVENT
BEGIN:VEVENT
DTSTART;TZID=Europe/Helsinki:20260420T140000
DTEND;TZID=Europe/Helsinki:20260420T160000
DTSTAMP:20260421T090141
CREATED:20260330T125833Z
LAST-MODIFIED:20260330T125833Z
UID:10036969-1776693600-1776700800@kalenteri.niemikoti.fi
SUMMARY:Hygge
DESCRIPTION:Rentoa vapaamuotoista yhdessäoloa. Teetä tarjolla.
URL:https://kalenteri.niemikoti.fi/en/tapahtuma/hygge-2/2026-04-20/
CATEGORIES:Kulttuuripaja ELVIS
END:VEVENT
BEGIN:VEVENT
DTSTART;TZID=Europe/Helsinki:20260420T153000
DTEND;TZID=Europe/Helsinki:20260420T180000
DTSTAMP:20260421T090141
CREATED:20260330T104238Z
LAST-MODIFIED:20260330T104238Z
UID:10036956-1776699000-1776708000@kalenteri.niemikoti.fi
SUMMARY:Avoin bändi
DESCRIPTION:Tervetuloa soittamaan tai kuuntelemaan.
URL:https://kalenteri.niemikoti.fi/en/tapahtuma/avoin-bandi-2/2026-04-20/
CATEGORIES:Kulttuuripaja ELVIS
END:VEVENT
BEGIN:VEVENT
DTSTART;TZID=Europe/Helsinki:20260420T170000
DTEND;TZID=Europe/Helsinki:20260420T180000
DTSTAMP:20260421T090141
CREATED:20241014T035536Z
LAST-MODIFIED:20260107T102402Z
UID:10026109-1776704400-1776708000@kalenteri.niemikoti.fi
SUMMARY:Niilon chat-kahvila maanantaisin kello 17-18☕
DESCRIPTION:“Niilo tuo lisää tukea ja yhteisöllisyyttä palveluidenkäyttäjille – helposti ja digitaalisesti!” \nKahvilan teemat vaihtelevat?\nChat-kavilat ovat rentoa rupattelua tunnin ajan chattaillen ?? \nNiilo \n? Helppo tapa vahvistaa osallisuutta: Tämä mobiilisovellus antaa palveluidenkäyttäjille mahdollisuuden olla yhteydessä\, saada vertaistukea ja löytää tietoa silloin\, kun he sitä tarvitsevat. Pieni vinkkaus sovelluksesta voi avata heille uuden tukikanavan! \n? Kannattaa itsekin kokeilla: Kun tunnet sovelluksen\, voit helpommin suositella sitä. Lataaminen vie vain hetken\, mutta voi tarjota paljon uusia mahdollisuuksia sekä työn tueksi että palveluidenkäyttäjien hyvinvoinnin vahvistamiseksi. \n? Jokainen maininta merkitsee: Kun mainitset sovelluksesta arjessa\, autat tekemään siitä luontevan osan käyttäjien tukea. Se on pieni teko\, jolla voi olla suuri vaikutus! \n? Lataa sovellus ja tutustu – yhdessä voimme paremmin! ? \n➡️ Voit ladata sen täältä https://niilo.niemikoti.fi
URL:https://kalenteri.niemikoti.fi/en/tapahtuma/niilon-chat-kahvila-maanantaisin-kello-17-18%e2%98%95/2026-04-20/
CATEGORIES:Niilo-sovellus
ATTACH;FMTTYPE=image/png:https://kalenteri.niemikoti.fi/wp-content/uploads/2024/10/Chat-kahvila-klo-17-19_tapahtumakalenteri2025.png
END:VEVENT
BEGIN:VEVENT
DTSTART;TZID=Europe/Helsinki:20260420T170000
DTEND;TZID=Europe/Helsinki:20260420T180000
DTSTAMP:20260421T090141
CREATED:20260413T131543Z
LAST-MODIFIED:20260413T131543Z
UID:10037352-1776704400-1776708000@kalenteri.niemikoti.fi
SUMMARY:Niilon chat-kahvila 20.4. klo 17-18
DESCRIPTION:Tervetuloa ensi maanantaina 20.4. klo 17-18 chatkahvilaan juttelemaan mukavaan seuraan sinua kiinnostavista aiheista. Vetäjänä on Heini. \n 
URL:https://kalenteri.niemikoti.fi/en/tapahtuma/niilon-chat-kahvila-20-4-klo-17-18/
CATEGORIES:Niilo-sovellus
ATTACH;FMTTYPE=image/png:https://kalenteri.niemikoti.fi/wp-content/uploads/2026/04/Kahvila20042026.png
END:VEVENT
END:VCALENDAR