BEGIN:VCALENDAR
VERSION:2.0
PRODID:-//Tapahtumakalenteri - ECPv6.15.18//NONSGML v1.0//EN
CALSCALE:GREGORIAN
METHOD:PUBLISH
X-WR-CALNAME:Tapahtumakalenteri
X-ORIGINAL-URL:https://kalenteri.niemikoti.fi/en/
X-WR-CALDESC:Events for Tapahtumakalenteri
REFRESH-INTERVAL;VALUE=DURATION:PT1H
X-Robots-Tag:noindex
X-PUBLISHED-TTL:PT1H
BEGIN:VTIMEZONE
TZID:Europe/Helsinki
BEGIN:DAYLIGHT
TZOFFSETFROM:+0200
TZOFFSETTO:+0300
TZNAME:EEST
DTSTART:20220327T010000
END:DAYLIGHT
BEGIN:STANDARD
TZOFFSETFROM:+0300
TZOFFSETTO:+0200
TZNAME:EET
DTSTART:20221030T010000
END:STANDARD
BEGIN:DAYLIGHT
TZOFFSETFROM:+0200
TZOFFSETTO:+0300
TZNAME:EEST
DTSTART:20230326T010000
END:DAYLIGHT
BEGIN:STANDARD
TZOFFSETFROM:+0300
TZOFFSETTO:+0200
TZNAME:EET
DTSTART:20231029T010000
END:STANDARD
BEGIN:DAYLIGHT
TZOFFSETFROM:+0200
TZOFFSETTO:+0300
TZNAME:EEST
DTSTART:20240331T010000
END:DAYLIGHT
BEGIN:STANDARD
TZOFFSETFROM:+0300
TZOFFSETTO:+0200
TZNAME:EET
DTSTART:20241027T010000
END:STANDARD
BEGIN:DAYLIGHT
TZOFFSETFROM:+0200
TZOFFSETTO:+0300
TZNAME:EEST
DTSTART:20250330T010000
END:DAYLIGHT
BEGIN:STANDARD
TZOFFSETFROM:+0300
TZOFFSETTO:+0200
TZNAME:EET
DTSTART:20251026T010000
END:STANDARD
END:VTIMEZONE
BEGIN:VEVENT
DTSTART;TZID=Europe/Helsinki:20241029T130000
DTEND;TZID=Europe/Helsinki:20241029T143000
DTSTAMP:20260421T220023
CREATED:20240911T120648Z
LAST-MODIFIED:20250120T150453Z
UID:10012723-1730206800-1730212200@kalenteri.niemikoti.fi
SUMMARY:Jälleenvuokrauksen bändi
DESCRIPTION:Bändissä on vakiintunut kokoonpano. Lisätietoja bändistä voi kysyä ohjaajilta.
URL:https://kalenteri.niemikoti.fi/en/tapahtuma/jalleenvuokrauksen-bandi-2/2024-10-29/
LOCATION:Malmin päivätoimintakeskus\, Vanha Helsingintie 9\, Helsinki\, 00700\, Finland
CATEGORIES:Jälleenvuokraus,Malmin päivätoimintakeskus
END:VEVENT
BEGIN:VEVENT
DTSTART;TZID=Europe/Helsinki:20241022T130000
DTEND;TZID=Europe/Helsinki:20241022T143000
DTSTAMP:20260421T220023
CREATED:20240911T120648Z
LAST-MODIFIED:20250120T150453Z
UID:10012722-1729602000-1729607400@kalenteri.niemikoti.fi
SUMMARY:Jälleenvuokrauksen bändi
DESCRIPTION:Bändissä on vakiintunut kokoonpano. Lisätietoja bändistä voi kysyä ohjaajilta.
URL:https://kalenteri.niemikoti.fi/en/tapahtuma/jalleenvuokrauksen-bandi-2/2024-10-22/
LOCATION:Malmin päivätoimintakeskus\, Vanha Helsingintie 9\, Helsinki\, 00700\, Finland
CATEGORIES:Jälleenvuokraus,Malmin päivätoimintakeskus
END:VEVENT
BEGIN:VEVENT
DTSTART;TZID=Europe/Helsinki:20241015T130000
DTEND;TZID=Europe/Helsinki:20241015T143000
DTSTAMP:20260421T220023
CREATED:20240911T120648Z
LAST-MODIFIED:20250120T150453Z
UID:10012721-1728997200-1729002600@kalenteri.niemikoti.fi
SUMMARY:Jälleenvuokrauksen bändi
DESCRIPTION:Bändissä on vakiintunut kokoonpano. Lisätietoja bändistä voi kysyä ohjaajilta.
URL:https://kalenteri.niemikoti.fi/en/tapahtuma/jalleenvuokrauksen-bandi-2/2024-10-15/
LOCATION:Malmin päivätoimintakeskus\, Vanha Helsingintie 9\, Helsinki\, 00700\, Finland
CATEGORIES:Jälleenvuokraus,Malmin päivätoimintakeskus
END:VEVENT
BEGIN:VEVENT
DTSTART;TZID=Europe/Helsinki:20241008T130000
DTEND;TZID=Europe/Helsinki:20241008T143000
DTSTAMP:20260421T220023
CREATED:20240911T120648Z
LAST-MODIFIED:20250120T150453Z
UID:10012720-1728392400-1728397800@kalenteri.niemikoti.fi
SUMMARY:Jälleenvuokrauksen bändi
DESCRIPTION:Bändissä on vakiintunut kokoonpano. Lisätietoja bändistä voi kysyä ohjaajilta.
URL:https://kalenteri.niemikoti.fi/en/tapahtuma/jalleenvuokrauksen-bandi-2/2024-10-08/
LOCATION:Malmin päivätoimintakeskus\, Vanha Helsingintie 9\, Helsinki\, 00700\, Finland
CATEGORIES:Jälleenvuokraus,Malmin päivätoimintakeskus
END:VEVENT
BEGIN:VEVENT
DTSTART;TZID=Europe/Helsinki:20241001T130000
DTEND;TZID=Europe/Helsinki:20241001T143000
DTSTAMP:20260421T220023
CREATED:20240911T120648Z
LAST-MODIFIED:20250120T150453Z
UID:10012719-1727787600-1727793000@kalenteri.niemikoti.fi
SUMMARY:Jälleenvuokrauksen bändi
DESCRIPTION:Bändissä on vakiintunut kokoonpano. Lisätietoja bändistä voi kysyä ohjaajilta.
URL:https://kalenteri.niemikoti.fi/en/tapahtuma/jalleenvuokrauksen-bandi-2/2024-10-01/
LOCATION:Malmin päivätoimintakeskus\, Vanha Helsingintie 9\, Helsinki\, 00700\, Finland
CATEGORIES:Jälleenvuokraus,Malmin päivätoimintakeskus
END:VEVENT
BEGIN:VEVENT
DTSTART;TZID=Europe/Helsinki:20240924T130000
DTEND;TZID=Europe/Helsinki:20240924T143000
DTSTAMP:20260421T220023
CREATED:20240911T120648Z
LAST-MODIFIED:20250120T150453Z
UID:10012718-1727182800-1727188200@kalenteri.niemikoti.fi
SUMMARY:Jälleenvuokrauksen bändi
DESCRIPTION:Bändissä on vakiintunut kokoonpano. Lisätietoja bändistä voi kysyä ohjaajilta.
URL:https://kalenteri.niemikoti.fi/en/tapahtuma/jalleenvuokrauksen-bandi-2/2024-09-24/
LOCATION:Malmin päivätoimintakeskus\, Vanha Helsingintie 9\, Helsinki\, 00700\, Finland
CATEGORIES:Jälleenvuokraus,Malmin päivätoimintakeskus
END:VEVENT
BEGIN:VEVENT
DTSTART;TZID=Europe/Helsinki:20240917T130000
DTEND;TZID=Europe/Helsinki:20240917T143000
DTSTAMP:20260421T220023
CREATED:20240911T120648Z
LAST-MODIFIED:20250120T150453Z
UID:10012717-1726578000-1726583400@kalenteri.niemikoti.fi
SUMMARY:Jälleenvuokrauksen bändi
DESCRIPTION:Bändissä on vakiintunut kokoonpano. Lisätietoja bändistä voi kysyä ohjaajilta.
URL:https://kalenteri.niemikoti.fi/en/tapahtuma/jalleenvuokrauksen-bandi-2/2024-09-17/
LOCATION:Malmin päivätoimintakeskus\, Vanha Helsingintie 9\, Helsinki\, 00700\, Finland
CATEGORIES:Jälleenvuokraus,Malmin päivätoimintakeskus
END:VEVENT
BEGIN:VEVENT
DTSTART;TZID=Europe/Helsinki:20240910T130000
DTEND;TZID=Europe/Helsinki:20240910T143000
DTSTAMP:20260421T220023
CREATED:20240911T120648Z
LAST-MODIFIED:20250120T150453Z
UID:10012716-1725973200-1725978600@kalenteri.niemikoti.fi
SUMMARY:Jälleenvuokrauksen bändi
DESCRIPTION:Bändissä on vakiintunut kokoonpano. Lisätietoja bändistä voi kysyä ohjaajilta.
URL:https://kalenteri.niemikoti.fi/en/tapahtuma/jalleenvuokrauksen-bandi-2/2024-09-10/
LOCATION:Malmin päivätoimintakeskus\, Vanha Helsingintie 9\, Helsinki\, 00700\, Finland
CATEGORIES:Jälleenvuokraus,Malmin päivätoimintakeskus
END:VEVENT
BEGIN:VEVENT
DTSTART;TZID=Europe/Helsinki:20240903T130000
DTEND;TZID=Europe/Helsinki:20240903T143000
DTSTAMP:20260421T220023
CREATED:20240911T120648Z
LAST-MODIFIED:20250120T150453Z
UID:10012715-1725368400-1725373800@kalenteri.niemikoti.fi
SUMMARY:Jälleenvuokrauksen bändi
DESCRIPTION:Bändissä on vakiintunut kokoonpano. Lisätietoja bändistä voi kysyä ohjaajilta.
URL:https://kalenteri.niemikoti.fi/en/tapahtuma/jalleenvuokrauksen-bandi-2/2024-09-03/
LOCATION:Malmin päivätoimintakeskus\, Vanha Helsingintie 9\, Helsinki\, 00700\, Finland
CATEGORIES:Jälleenvuokraus,Malmin päivätoimintakeskus
END:VEVENT
BEGIN:VEVENT
DTSTART;TZID=Europe/Helsinki:20240827T130000
DTEND;TZID=Europe/Helsinki:20240827T143000
DTSTAMP:20260421T220023
CREATED:20240911T120648Z
LAST-MODIFIED:20250120T150453Z
UID:10012714-1724763600-1724769000@kalenteri.niemikoti.fi
SUMMARY:Jälleenvuokrauksen bändi
DESCRIPTION:Bändissä on vakiintunut kokoonpano. Lisätietoja bändistä voi kysyä ohjaajilta.
URL:https://kalenteri.niemikoti.fi/en/tapahtuma/jalleenvuokrauksen-bandi-2/2024-08-27/
LOCATION:Malmin päivätoimintakeskus\, Vanha Helsingintie 9\, Helsinki\, 00700\, Finland
CATEGORIES:Jälleenvuokraus,Malmin päivätoimintakeskus
END:VEVENT
BEGIN:VEVENT
DTSTART;TZID=Europe/Helsinki:20240820T130000
DTEND;TZID=Europe/Helsinki:20240820T143000
DTSTAMP:20260421T220023
CREATED:20240911T120648Z
LAST-MODIFIED:20250120T150453Z
UID:10012713-1724158800-1724164200@kalenteri.niemikoti.fi
SUMMARY:Jälleenvuokrauksen bändi
DESCRIPTION:Bändissä on vakiintunut kokoonpano. Lisätietoja bändistä voi kysyä ohjaajilta.
URL:https://kalenteri.niemikoti.fi/en/tapahtuma/jalleenvuokrauksen-bandi-2/2024-08-20/
LOCATION:Malmin päivätoimintakeskus\, Vanha Helsingintie 9\, Helsinki\, 00700\, Finland
CATEGORIES:Jälleenvuokraus,Malmin päivätoimintakeskus
END:VEVENT
BEGIN:VEVENT
DTSTART;TZID=Europe/Helsinki:20240813T130000
DTEND;TZID=Europe/Helsinki:20240813T143000
DTSTAMP:20260421T220023
CREATED:20240911T120648Z
LAST-MODIFIED:20250120T150453Z
UID:10012712-1723554000-1723559400@kalenteri.niemikoti.fi
SUMMARY:Jälleenvuokrauksen bändi
DESCRIPTION:Bändissä on vakiintunut kokoonpano. Lisätietoja bändistä voi kysyä ohjaajilta.
URL:https://kalenteri.niemikoti.fi/en/tapahtuma/jalleenvuokrauksen-bandi-2/2024-08-13/
LOCATION:Malmin päivätoimintakeskus\, Vanha Helsingintie 9\, Helsinki\, 00700\, Finland
CATEGORIES:Jälleenvuokraus,Malmin päivätoimintakeskus
END:VEVENT
BEGIN:VEVENT
DTSTART;TZID=Europe/Helsinki:20240806T130000
DTEND;TZID=Europe/Helsinki:20240806T143000
DTSTAMP:20260421T220023
CREATED:20240911T120648Z
LAST-MODIFIED:20250120T150453Z
UID:10012711-1722949200-1722954600@kalenteri.niemikoti.fi
SUMMARY:Jälleenvuokrauksen bändi
DESCRIPTION:Bändissä on vakiintunut kokoonpano. Lisätietoja bändistä voi kysyä ohjaajilta.
URL:https://kalenteri.niemikoti.fi/en/tapahtuma/jalleenvuokrauksen-bandi-2/2024-08-06/
LOCATION:Malmin päivätoimintakeskus\, Vanha Helsingintie 9\, Helsinki\, 00700\, Finland
CATEGORIES:Jälleenvuokraus,Malmin päivätoimintakeskus
END:VEVENT
BEGIN:VEVENT
DTSTART;TZID=Europe/Helsinki:20240628T120000
DTEND;TZID=Europe/Helsinki:20240628T130000
DTSTAMP:20260421T220023
CREATED:20240514T040213Z
LAST-MODIFIED:20240515T110537Z
UID:10011865-1719576000-1719579600@kalenteri.niemikoti.fi
SUMMARY:Sählyä perjantaisin klo 12-13
DESCRIPTION:Liike on lääke! \nJälleenvuokrauksen sähly perjantaisin klo 12-13. Myllypuron Liikuntamylly\, Jauhokuja 3.  \nSählyvuoron alussa tehdään joukkueiden jako ja tämän jälkeen pelataan noin tunnin ajan. Mukaan saa tulla kuka vain\, sellaisena kuin on\, lajitaustaa ei tarvitse.  \nOta mukaan vesipullo ja sisäliikuntaan soveltuva vaatetus. Myös oma maila olisi hyvä olla\, Niemikotisäätiöllä on pari ylimääräistä mailaa.  \nLisätietoa ja ilmoittautuminen: Lauri Hernetkoski puh. 045 635 7437  \nJuhannusperjantaina pidetään tauko ja viimeinen kesävuoro on 28.6. Pelit jatkuvat taas syksyllä 2.9.
URL:https://kalenteri.niemikoti.fi/en/tapahtuma/sahlya-perjantaisin-klo-12-13/2024-06-28/
LOCATION:Myllypuron Liikuntamylly\, Jauhokuja 3\, Helsinki
CATEGORIES:Jälleenvuokraus
ATTACH;FMTTYPE=image/jpeg:https://kalenteri.niemikoti.fi/wp-content/uploads/2024/05/hyvamieli2022-2.jpg
END:VEVENT
BEGIN:VEVENT
DTSTART;TZID=Europe/Helsinki:20240614T120000
DTEND;TZID=Europe/Helsinki:20240614T130000
DTSTAMP:20260421T220023
CREATED:20240514T040213Z
LAST-MODIFIED:20240515T110537Z
UID:10011864-1718366400-1718370000@kalenteri.niemikoti.fi
SUMMARY:Sählyä perjantaisin klo 12-13
DESCRIPTION:Liike on lääke! \nJälleenvuokrauksen sähly perjantaisin klo 12-13. Myllypuron Liikuntamylly\, Jauhokuja 3.  \nSählyvuoron alussa tehdään joukkueiden jako ja tämän jälkeen pelataan noin tunnin ajan. Mukaan saa tulla kuka vain\, sellaisena kuin on\, lajitaustaa ei tarvitse.  \nOta mukaan vesipullo ja sisäliikuntaan soveltuva vaatetus. Myös oma maila olisi hyvä olla\, Niemikotisäätiöllä on pari ylimääräistä mailaa.  \nLisätietoa ja ilmoittautuminen: Lauri Hernetkoski puh. 045 635 7437  \nJuhannusperjantaina pidetään tauko ja viimeinen kesävuoro on 28.6. Pelit jatkuvat taas syksyllä 2.9.
URL:https://kalenteri.niemikoti.fi/en/tapahtuma/sahlya-perjantaisin-klo-12-13/2024-06-14/
LOCATION:Myllypuron Liikuntamylly\, Jauhokuja 3\, Helsinki
CATEGORIES:Jälleenvuokraus
ATTACH;FMTTYPE=image/jpeg:https://kalenteri.niemikoti.fi/wp-content/uploads/2024/05/hyvamieli2022-2.jpg
END:VEVENT
BEGIN:VEVENT
DTSTART;TZID=Europe/Helsinki:20240611T120000
DTEND;TZID=Europe/Helsinki:20240611T140000
DTSTAMP:20260421T220023
CREATED:20240528T084409Z
LAST-MODIFIED:20240605T050304Z
UID:10011922-1718107200-1718114400@kalenteri.niemikoti.fi
SUMMARY:Kesäjuhla Malmilla
DESCRIPTION:Koko säätiön yhteinen vuotuinen kesäjuhla. Livemusiikkia ja grilliruokaa\, tervetuloa!
URL:https://kalenteri.niemikoti.fi/en/tapahtuma/kesajuhla-malmilla-2/
LOCATION:Malmin päivätoimintakeskus\, Vanha Helsingintie 9\, Helsinki\, 00700\, Finland
CATEGORIES:Jälleenvuokraus,Malmin päivätoimintakeskus
ATTACH;FMTTYPE=image/jpeg:https://kalenteri.niemikoti.fi/wp-content/uploads/2024/05/Kesajuhlamainos-1-1.jpg
END:VEVENT
BEGIN:VEVENT
DTSTART;TZID=Europe/Helsinki:20240607T120000
DTEND;TZID=Europe/Helsinki:20240607T130000
DTSTAMP:20260421T220023
CREATED:20240514T040213Z
LAST-MODIFIED:20240515T110537Z
UID:10011863-1717761600-1717765200@kalenteri.niemikoti.fi
SUMMARY:Sählyä perjantaisin klo 12-13
DESCRIPTION:Liike on lääke! \nJälleenvuokrauksen sähly perjantaisin klo 12-13. Myllypuron Liikuntamylly\, Jauhokuja 3.  \nSählyvuoron alussa tehdään joukkueiden jako ja tämän jälkeen pelataan noin tunnin ajan. Mukaan saa tulla kuka vain\, sellaisena kuin on\, lajitaustaa ei tarvitse.  \nOta mukaan vesipullo ja sisäliikuntaan soveltuva vaatetus. Myös oma maila olisi hyvä olla\, Niemikotisäätiöllä on pari ylimääräistä mailaa.  \nLisätietoa ja ilmoittautuminen: Lauri Hernetkoski puh. 045 635 7437  \nJuhannusperjantaina pidetään tauko ja viimeinen kesävuoro on 28.6. Pelit jatkuvat taas syksyllä 2.9.
URL:https://kalenteri.niemikoti.fi/en/tapahtuma/sahlya-perjantaisin-klo-12-13/2024-06-07/
LOCATION:Myllypuron Liikuntamylly\, Jauhokuja 3\, Helsinki
CATEGORIES:Jälleenvuokraus
ATTACH;FMTTYPE=image/jpeg:https://kalenteri.niemikoti.fi/wp-content/uploads/2024/05/hyvamieli2022-2.jpg
END:VEVENT
BEGIN:VEVENT
DTSTART;TZID=Europe/Helsinki:20240531T120000
DTEND;TZID=Europe/Helsinki:20240531T130000
DTSTAMP:20260421T220023
CREATED:20240514T040213Z
LAST-MODIFIED:20240515T110537Z
UID:10011862-1717156800-1717160400@kalenteri.niemikoti.fi
SUMMARY:Sählyä perjantaisin klo 12-13
DESCRIPTION:Liike on lääke! \nJälleenvuokrauksen sähly perjantaisin klo 12-13. Myllypuron Liikuntamylly\, Jauhokuja 3.  \nSählyvuoron alussa tehdään joukkueiden jako ja tämän jälkeen pelataan noin tunnin ajan. Mukaan saa tulla kuka vain\, sellaisena kuin on\, lajitaustaa ei tarvitse.  \nOta mukaan vesipullo ja sisäliikuntaan soveltuva vaatetus. Myös oma maila olisi hyvä olla\, Niemikotisäätiöllä on pari ylimääräistä mailaa.  \nLisätietoa ja ilmoittautuminen: Lauri Hernetkoski puh. 045 635 7437  \nJuhannusperjantaina pidetään tauko ja viimeinen kesävuoro on 28.6. Pelit jatkuvat taas syksyllä 2.9.
URL:https://kalenteri.niemikoti.fi/en/tapahtuma/sahlya-perjantaisin-klo-12-13/2024-05-31/
LOCATION:Myllypuron Liikuntamylly\, Jauhokuja 3\, Helsinki
CATEGORIES:Jälleenvuokraus
ATTACH;FMTTYPE=image/jpeg:https://kalenteri.niemikoti.fi/wp-content/uploads/2024/05/hyvamieli2022-2.jpg
END:VEVENT
BEGIN:VEVENT
DTSTART;TZID=Europe/Helsinki:20240524T120000
DTEND;TZID=Europe/Helsinki:20240524T130000
DTSTAMP:20260421T220023
CREATED:20240514T040213Z
LAST-MODIFIED:20240515T110537Z
UID:10011861-1716552000-1716555600@kalenteri.niemikoti.fi
SUMMARY:Sählyä perjantaisin klo 12-13
DESCRIPTION:Liike on lääke! \nJälleenvuokrauksen sähly perjantaisin klo 12-13. Myllypuron Liikuntamylly\, Jauhokuja 3.  \nSählyvuoron alussa tehdään joukkueiden jako ja tämän jälkeen pelataan noin tunnin ajan. Mukaan saa tulla kuka vain\, sellaisena kuin on\, lajitaustaa ei tarvitse.  \nOta mukaan vesipullo ja sisäliikuntaan soveltuva vaatetus. Myös oma maila olisi hyvä olla\, Niemikotisäätiöllä on pari ylimääräistä mailaa.  \nLisätietoa ja ilmoittautuminen: Lauri Hernetkoski puh. 045 635 7437  \nJuhannusperjantaina pidetään tauko ja viimeinen kesävuoro on 28.6. Pelit jatkuvat taas syksyllä 2.9.
URL:https://kalenteri.niemikoti.fi/en/tapahtuma/sahlya-perjantaisin-klo-12-13/2024-05-24/
LOCATION:Myllypuron Liikuntamylly\, Jauhokuja 3\, Helsinki
CATEGORIES:Jälleenvuokraus
ATTACH;FMTTYPE=image/jpeg:https://kalenteri.niemikoti.fi/wp-content/uploads/2024/05/hyvamieli2022-2.jpg
END:VEVENT
BEGIN:VEVENT
DTSTART;TZID=Europe/Helsinki:20240517T120000
DTEND;TZID=Europe/Helsinki:20240517T130000
DTSTAMP:20260421T220023
CREATED:20240514T040213Z
LAST-MODIFIED:20240515T110537Z
UID:10011703-1715947200-1715950800@kalenteri.niemikoti.fi
SUMMARY:Sählyä perjantaisin klo 12-13
DESCRIPTION:Liike on lääke! \nJälleenvuokrauksen sähly perjantaisin klo 12-13. Myllypuron Liikuntamylly\, Jauhokuja 3.  \nSählyvuoron alussa tehdään joukkueiden jako ja tämän jälkeen pelataan noin tunnin ajan. Mukaan saa tulla kuka vain\, sellaisena kuin on\, lajitaustaa ei tarvitse.  \nOta mukaan vesipullo ja sisäliikuntaan soveltuva vaatetus. Myös oma maila olisi hyvä olla\, Niemikotisäätiöllä on pari ylimääräistä mailaa.  \nLisätietoa ja ilmoittautuminen: Lauri Hernetkoski puh. 045 635 7437  \nJuhannusperjantaina pidetään tauko ja viimeinen kesävuoro on 28.6. Pelit jatkuvat taas syksyllä 2.9.
URL:https://kalenteri.niemikoti.fi/en/tapahtuma/sahlya-perjantaisin-klo-12-13/2024-05-17/
LOCATION:Myllypuron Liikuntamylly\, Jauhokuja 3\, Helsinki
CATEGORIES:Jälleenvuokraus
ATTACH;FMTTYPE=image/jpeg:https://kalenteri.niemikoti.fi/wp-content/uploads/2024/05/hyvamieli2022-2.jpg
END:VEVENT
BEGIN:VEVENT
DTSTART;TZID=Europe/Helsinki:20240126T123000
DTEND;TZID=Europe/Helsinki:20240126T133000
DTSTAMP:20260421T220023
CREATED:20240126T084555Z
LAST-MODIFIED:20240126T084916Z
UID:10005173-1706272200-1706275800@kalenteri.niemikoti.fi
SUMMARY:Valtti Valmennuksen infokahvila Niilossa pe 26.1. klo 12.30-13.30
DESCRIPTION:Tämä tapahtuma on kaikille Niemikotisäätiön yhteisön poppoolle! \nPaikalla Valtti Valmennuksen työvalmentajat Satu. \n\nKysymykset sallittuja ja tervetulleita\, voidaan myös keskustella vapaammin\, mitä mieleen tulee \n\n\n\nTervetuloa!
URL:https://kalenteri.niemikoti.fi/en/tapahtuma/valtti-valmennuksen-infokahvila-niilossa-pe-26-1-klo-12-30-13-30/
LOCATION:Kulttuuripaja ELVIS\, Lautatarhankatu 4\, Helsinki\, 00580\, Finland
CATEGORIES:Asumispalvelut,Haagan toimintatalo,Jälleenvuokraus,Kesäharjun toimintakeskus,Kokemusasiantuntija- ja vertaistoiminta,Kulttuuripaja ELVIS,Malmin päivätoimintakeskus,Mieli Töihin -valmennus,Muut tapahtumajärjestäjät,Omaisille ja läheisille,Ompelimo & Olohuone,Päivätoiminta,Toimintakeskus Villa Borgis,Työ- ja valmennustoiminta,Valtti Valmennus
ATTACH;FMTTYPE=image/jpeg:https://kalenteri.niemikoti.fi/wp-content/uploads/2024/01/Valtin-kahvila-26.1.2024.jpg
END:VEVENT
BEGIN:VEVENT
DTSTART;TZID=Europe/Helsinki:20240110T100000
DTEND;TZID=Europe/Helsinki:20240110T113000
DTSTAMP:20260421T220023
CREATED:20231114T145612Z
LAST-MODIFIED:20240109T070922Z
UID:10004384-1704880800-1704886200@kalenteri.niemikoti.fi
SUMMARY:Valtti Valmennus esittäytyy
DESCRIPTION:Työvalmentajat Ninnu ja Pasi sekä vertaisohjaaja Sulevi päättivät lähteä esittelemään Valtti Valmennuksen kaikille avointa ryhmätoimintaa Niemikotisäätiön yksiköihin. \nJos et pääse osallistumaan omassa yksikössäsi tapahtuvaan esittelyyn\, voit osallistua myös Jälleenvuokrauksen\, Haagan toimintatalon tai Ompelimo & Olohuoneessa järjestettävään infoon! \nJälleenvuokraus 10.1.2024 klo 10:00 \nHaagan toimintatalo 28.2.2024 klo 9:00 \nOmpelimo & Olohuone 28.2.2024 klo 13:30
URL:https://kalenteri.niemikoti.fi/en/tapahtuma/valtti-valmennus-esittaytyy/
LOCATION:Jälleenvuokraus\, Malminkaari 9\, Helsinki\, 00770
CATEGORIES:Jälleenvuokraus,Valtti Valmennus
ATTACH;FMTTYPE=image/png:https://kalenteri.niemikoti.fi/wp-content/uploads/2023/11/Pasi-ja-Ninnu.png
END:VEVENT
BEGIN:VEVENT
DTSTART;TZID=Europe/Helsinki:20230919T080000
DTEND;TZID=Europe/Helsinki:20230919T160000
DTSTAMP:20260421T220023
CREATED:20230510T064731Z
LAST-MODIFIED:20230510T082822Z
UID:10000315-1695110400-1695139200@kalenteri.niemikoti.fi
SUMMARY:Jalkapalloturnaus 19.9.2023 kello 8-16
DESCRIPTION:Kesäinen tervehdys! \nNiemikotisäätiö järjestää vuosittaisen mielenterveyskuntoutujien jalkapalloturnauksen. Turnaus järjestetään tiistaina 19.9.2023. Ottelut pelataan klo. 8-16 Käpylän Koskelantien kahdella puolikkaalla nappulatekonurmikentällä. \nJoukkueessa on maalivahdin lisäksi kuusi kenttäpelaajaa. Vaihtopelaajat sallittuja ja käytössä ns.lentävät vaihdot. Kaikkien pelaajien on oltava kuntoutujia. Mikäli pelaajista on puutetta\, voidaan tarvittaessa lainata pelaajia muilta joukkueilta. Ottelun peliaika 1×25 minuuttia.  Pelit viheltää virallinen erotuomarikerhon tuomari. Kolme parasta joukkuetta palkitaan mitalein. Otteluohjelman teossa huomioidaan kauempaa tulevat joukkueet (ei päivän ensimmäisiä pelejä heille). \nTurnaukseen mahtuu 16 joukkuetta\, joten ilmoittaudu kun saat joukkueen kasaan. \nOsallistuminen on ilmaista. Uudet osallistujat toivotetaan erityisen tervetulleiksi. Kutsua saa jakaa! \nIlmoittautumiset 1.9.2023 mennessä toni.mannikko@niemikoti.fi. Ilmoitathan joukkueen pelaajamäärän. \nVastaan mielelläni turnaukseen liittyviin kysymyksiin.
URL:https://kalenteri.niemikoti.fi/en/tapahtuma/jalkapalloturnaus-19-9-2023-kello-8-16/
CATEGORIES:Jälleenvuokraus
ATTACH;FMTTYPE=image/png:https://kalenteri.niemikoti.fi/wp-content/uploads/2023/05/Screenshot-2023-05-10-at-9.40.03.png
END:VEVENT
BEGIN:VEVENT
DTSTART;TZID=Europe/Helsinki:20230606T120000
DTEND;TZID=Europe/Helsinki:20230606T150000
DTSTAMP:20260421T220023
CREATED:20230528T033431Z
LAST-MODIFIED:20230606T043032Z
UID:10000335-1686052800-1686063600@kalenteri.niemikoti.fi
SUMMARY:Kesäjuhla Malmilla
DESCRIPTION:Perinteistä kesäjuhlaa vietetään Malmilla klo 12-14 ja juhlan jälkeen on mahdollisuus osallistua peltokierrokselle viereisellä Green City Farm -pellolla\, jossa peltoryhmät kokoontuvat kaupunkiviljelyn merkeissä torstaisin.
URL:https://kalenteri.niemikoti.fi/en/tapahtuma/kesajuhla/
LOCATION:Malmin päivätoimintakeskus\, Vanha Helsingintie 9\, Helsinki\, 00700\, Finland
CATEGORIES:Haagan toimintatalo,Jälleenvuokraus,Kokemusasiantuntija- ja vertaistoiminta,Kulttuuripaja ELVIS,Malmin päivätoimintakeskus,Mieli Töihin -valmennus,Omaisille ja läheisille,Ompelimo & Olohuone,Päivätoiminta,Toimintakeskus Villa Borgis,Työ- ja valmennustoiminta,Valtti Valmennus
ATTACH;FMTTYPE=image/png:https://kalenteri.niemikoti.fi/wp-content/uploads/2023/05/Kesajuhlaflaijeri.png
END:VEVENT
BEGIN:VEVENT
DTSTART;TZID=Europe/Helsinki:20230605T120000
DTEND;TZID=Europe/Helsinki:20230605T150000
DTSTAMP:20260421T220023
CREATED:20230529T080133Z
LAST-MODIFIED:20230529T080504Z
UID:10000341-1685966400-1685977200@kalenteri.niemikoti.fi
SUMMARY:Ilonpilke-kesätapahtuma 2023
DESCRIPTION:Mitä luvassa?\n\nToista kertaa järjestettävä rento ja iloinen tapahtuma\nMaksutonta ja hauskaa tekemistä ja yhdessä oloa\nKaikille sopivia erilaisia toimintapisteitä\nMielenterveysjärjestöihin tutustumista\nKahvia\, teetä\, mehua ja pullaa (70:lle ensimmäiselle)\nPorttiteatterin esitys\n\nTapahtumassa mukana\n\nMajakka\nKarvinen\nKlubitalot\nPro Lapinlahti\nLilinkotisäätiö\nNieikotisäätiö\nTaiteen Sulattamo\nKulttuuripaja K-35\nKulttuuripaja Kupla\nKaupungin liikuntapalvelut\n\nLisätiedot kokemusasiantuntija Laura Nuutinen\, puh. 040 768 3328\, laura92nuutinen@gmail.com \nLämpimästi tervetuloa yksin tai yhdessä! Ei tarvitse ilmoittautua!
URL:https://kalenteri.niemikoti.fi/en/tapahtuma/ilonpilke-kesatapahtuma-2023/
LOCATION:Lapinlahden lähde\, Lapinlahdenpolku 8\, Helsinki\, 00180\, Finland
CATEGORIES:Asumispalvelut,Haagan toimintatalo,Jälleenvuokraus,Kesäharjun toimintakeskus,Kokemusasiantuntija- ja vertaistoiminta,Kulttuuripaja ELVIS,Malmin päivätoimintakeskus,Mieli Töihin -valmennus,Omaisille ja läheisille,Ompelimo & Olohuone,Päivätoiminta,Toimintakeskus Villa Borgis,Työ- ja valmennustoiminta,Valtti Valmennus
ATTACH;FMTTYPE=image/png:https://kalenteri.niemikoti.fi/wp-content/uploads/2023/05/Screenshot-2023-05-29-at-10.56.25.png
END:VEVENT
END:VCALENDAR