BEGIN:VCALENDAR
VERSION:2.0
PRODID:-//Tapahtumakalenteri - ECPv6.15.18//NONSGML v1.0//EN
CALSCALE:GREGORIAN
METHOD:PUBLISH
X-WR-CALNAME:Tapahtumakalenteri
X-ORIGINAL-URL:https://kalenteri.niemikoti.fi/en/
X-WR-CALDESC:Events for Tapahtumakalenteri
REFRESH-INTERVAL;VALUE=DURATION:PT1H
X-Robots-Tag:noindex
X-PUBLISHED-TTL:PT1H
BEGIN:VTIMEZONE
TZID:Europe/Helsinki
BEGIN:DAYLIGHT
TZOFFSETFROM:+0200
TZOFFSETTO:+0300
TZNAME:EEST
DTSTART:20250330T010000
END:DAYLIGHT
BEGIN:STANDARD
TZOFFSETFROM:+0300
TZOFFSETTO:+0200
TZNAME:EET
DTSTART:20251026T010000
END:STANDARD
BEGIN:DAYLIGHT
TZOFFSETFROM:+0200
TZOFFSETTO:+0300
TZNAME:EEST
DTSTART:20260329T010000
END:DAYLIGHT
BEGIN:STANDARD
TZOFFSETFROM:+0300
TZOFFSETTO:+0200
TZNAME:EET
DTSTART:20261025T010000
END:STANDARD
BEGIN:DAYLIGHT
TZOFFSETFROM:+0200
TZOFFSETTO:+0300
TZNAME:EEST
DTSTART:20270328T010000
END:DAYLIGHT
BEGIN:STANDARD
TZOFFSETFROM:+0300
TZOFFSETTO:+0200
TZNAME:EET
DTSTART:20271031T010000
END:STANDARD
END:VTIMEZONE
BEGIN:VEVENT
DTSTART;TZID=Europe/Helsinki:20260302T170000
DTEND;TZID=Europe/Helsinki:20260302T180000
DTSTAMP:20260421T055706
CREATED:20241014T035536Z
LAST-MODIFIED:20260107T102402Z
UID:10026102-1772470800-1772474400@kalenteri.niemikoti.fi
SUMMARY:Niilon chat-kahvila maanantaisin kello 17-18☕
DESCRIPTION:“Niilo tuo lisää tukea ja yhteisöllisyyttä palveluidenkäyttäjille – helposti ja digitaalisesti!” \nKahvilan teemat vaihtelevat?\nChat-kavilat ovat rentoa rupattelua tunnin ajan chattaillen ?? \nNiilo \n? Helppo tapa vahvistaa osallisuutta: Tämä mobiilisovellus antaa palveluidenkäyttäjille mahdollisuuden olla yhteydessä\, saada vertaistukea ja löytää tietoa silloin\, kun he sitä tarvitsevat. Pieni vinkkaus sovelluksesta voi avata heille uuden tukikanavan! \n? Kannattaa itsekin kokeilla: Kun tunnet sovelluksen\, voit helpommin suositella sitä. Lataaminen vie vain hetken\, mutta voi tarjota paljon uusia mahdollisuuksia sekä työn tueksi että palveluidenkäyttäjien hyvinvoinnin vahvistamiseksi. \n? Jokainen maininta merkitsee: Kun mainitset sovelluksesta arjessa\, autat tekemään siitä luontevan osan käyttäjien tukea. Se on pieni teko\, jolla voi olla suuri vaikutus! \n? Lataa sovellus ja tutustu – yhdessä voimme paremmin! ? \n➡️ Voit ladata sen täältä https://niilo.niemikoti.fi
URL:https://kalenteri.niemikoti.fi/en/tapahtuma/niilon-chat-kahvila-maanantaisin-kello-17-18%e2%98%95/2026-03-02/
CATEGORIES:Niilo-sovellus
ATTACH;FMTTYPE=image/png:https://kalenteri.niemikoti.fi/wp-content/uploads/2024/10/Chat-kahvila-klo-17-19_tapahtumakalenteri2025.png
END:VEVENT
BEGIN:VEVENT
DTSTART;TZID=Europe/Helsinki:20260302T170000
DTEND;TZID=Europe/Helsinki:20260302T180000
DTSTAMP:20260421T055706
CREATED:20260224T113000Z
LAST-MODIFIED:20260224T113000Z
UID:10033951-1772470800-1772474400@kalenteri.niemikoti.fi
SUMMARY:Niilon chat-kahvila 2.3. klo 17-18
DESCRIPTION:Tervetuloa Niilon peliteemaiseen kahvilaan 2.3. kello 17-18 juttelemaan peleistä ja muusta. \nJos sinulla ei vielä ole Niiloa\, niemikotilaisena saat sen osoitteesta: https://niilo.niemikoti.fi/ \n 
URL:https://kalenteri.niemikoti.fi/en/tapahtuma/niilon-chat-kahvila-2-3-klo-17-18/
CATEGORIES:Niilo-sovellus
ATTACH;FMTTYPE=image/jpeg:https://kalenteri.niemikoti.fi/wp-content/uploads/2026/02/Kahvila02032026-scaled.jpg
END:VEVENT
BEGIN:VEVENT
DTSTART;TZID=Europe/Helsinki:20260309T170000
DTEND;TZID=Europe/Helsinki:20260309T180000
DTSTAMP:20260421T055706
CREATED:20241014T035536Z
LAST-MODIFIED:20260107T102402Z
UID:10026103-1773075600-1773079200@kalenteri.niemikoti.fi
SUMMARY:Niilon chat-kahvila maanantaisin kello 17-18☕
DESCRIPTION:“Niilo tuo lisää tukea ja yhteisöllisyyttä palveluidenkäyttäjille – helposti ja digitaalisesti!” \nKahvilan teemat vaihtelevat?\nChat-kavilat ovat rentoa rupattelua tunnin ajan chattaillen ?? \nNiilo \n? Helppo tapa vahvistaa osallisuutta: Tämä mobiilisovellus antaa palveluidenkäyttäjille mahdollisuuden olla yhteydessä\, saada vertaistukea ja löytää tietoa silloin\, kun he sitä tarvitsevat. Pieni vinkkaus sovelluksesta voi avata heille uuden tukikanavan! \n? Kannattaa itsekin kokeilla: Kun tunnet sovelluksen\, voit helpommin suositella sitä. Lataaminen vie vain hetken\, mutta voi tarjota paljon uusia mahdollisuuksia sekä työn tueksi että palveluidenkäyttäjien hyvinvoinnin vahvistamiseksi. \n? Jokainen maininta merkitsee: Kun mainitset sovelluksesta arjessa\, autat tekemään siitä luontevan osan käyttäjien tukea. Se on pieni teko\, jolla voi olla suuri vaikutus! \n? Lataa sovellus ja tutustu – yhdessä voimme paremmin! ? \n➡️ Voit ladata sen täältä https://niilo.niemikoti.fi
URL:https://kalenteri.niemikoti.fi/en/tapahtuma/niilon-chat-kahvila-maanantaisin-kello-17-18%e2%98%95/2026-03-09/
CATEGORIES:Niilo-sovellus
ATTACH;FMTTYPE=image/png:https://kalenteri.niemikoti.fi/wp-content/uploads/2024/10/Chat-kahvila-klo-17-19_tapahtumakalenteri2025.png
END:VEVENT
BEGIN:VEVENT
DTSTART;TZID=Europe/Helsinki:20260309T170000
DTEND;TZID=Europe/Helsinki:20260309T180000
DTSTAMP:20260421T055706
CREATED:20260302T130550Z
LAST-MODIFIED:20260302T130550Z
UID:10033965-1773075600-1773079200@kalenteri.niemikoti.fi
SUMMARY:Niilon chat-kahvila 9.3. klo 17-18
DESCRIPTION:Liike on lääke moneen asiaan! Miten se sinun kohdallasi näkyy? Olitpa sitten aktiiviliikkuja\, penkkiurheilija tai jotain siltä väliltä\, tule kanssamme keskustelemaan kaikesta liikkumiseen liittyvästä! Palutumisjuomaa tarjoilee Sanniainen. TERVETULOA!\nJos sinulla ei vielä ole Niiloa\, saat sen täältä:\nhttps://niilo.niemikoti.fi
URL:https://kalenteri.niemikoti.fi/en/tapahtuma/niilon-chat-kahvila-9-3-klo-17-18/
CATEGORIES:Niilo-sovellus
ATTACH;FMTTYPE=image/png:https://kalenteri.niemikoti.fi/wp-content/uploads/2026/03/Kahvila09032026.png
END:VEVENT
BEGIN:VEVENT
DTSTART;TZID=Europe/Helsinki:20260316T170000
DTEND;TZID=Europe/Helsinki:20260316T180000
DTSTAMP:20260421T055706
CREATED:20241014T035536Z
LAST-MODIFIED:20260107T102402Z
UID:10026104-1773680400-1773684000@kalenteri.niemikoti.fi
SUMMARY:Niilon chat-kahvila maanantaisin kello 17-18☕
DESCRIPTION:“Niilo tuo lisää tukea ja yhteisöllisyyttä palveluidenkäyttäjille – helposti ja digitaalisesti!” \nKahvilan teemat vaihtelevat?\nChat-kavilat ovat rentoa rupattelua tunnin ajan chattaillen ?? \nNiilo \n? Helppo tapa vahvistaa osallisuutta: Tämä mobiilisovellus antaa palveluidenkäyttäjille mahdollisuuden olla yhteydessä\, saada vertaistukea ja löytää tietoa silloin\, kun he sitä tarvitsevat. Pieni vinkkaus sovelluksesta voi avata heille uuden tukikanavan! \n? Kannattaa itsekin kokeilla: Kun tunnet sovelluksen\, voit helpommin suositella sitä. Lataaminen vie vain hetken\, mutta voi tarjota paljon uusia mahdollisuuksia sekä työn tueksi että palveluidenkäyttäjien hyvinvoinnin vahvistamiseksi. \n? Jokainen maininta merkitsee: Kun mainitset sovelluksesta arjessa\, autat tekemään siitä luontevan osan käyttäjien tukea. Se on pieni teko\, jolla voi olla suuri vaikutus! \n? Lataa sovellus ja tutustu – yhdessä voimme paremmin! ? \n➡️ Voit ladata sen täältä https://niilo.niemikoti.fi
URL:https://kalenteri.niemikoti.fi/en/tapahtuma/niilon-chat-kahvila-maanantaisin-kello-17-18%e2%98%95/2026-03-16/
CATEGORIES:Niilo-sovellus
ATTACH;FMTTYPE=image/png:https://kalenteri.niemikoti.fi/wp-content/uploads/2024/10/Chat-kahvila-klo-17-19_tapahtumakalenteri2025.png
END:VEVENT
BEGIN:VEVENT
DTSTART;TZID=Europe/Helsinki:20260316T170000
DTEND;TZID=Europe/Helsinki:20260316T180000
DTSTAMP:20260421T055706
CREATED:20260310T120927Z
LAST-MODIFIED:20260310T120927Z
UID:10036877-1773680400-1773684000@kalenteri.niemikoti.fi
SUMMARY:Niilon chat-kahvila 16.3. klo 17-18
DESCRIPTION:Niilon chat-kahvila 16.3. klo 17-18. Kiinnostaako opiskelu? Tule mukaan juttelemaan opinnoista tai mistä vaan. Pänttäämisessä auttaa Tapsa. \n 
URL:https://kalenteri.niemikoti.fi/en/tapahtuma/niilon-chat-kahvila-16-3-klo-17-18/
CATEGORIES:Niilo-sovellus
ATTACH;FMTTYPE=image/jpeg:https://kalenteri.niemikoti.fi/wp-content/uploads/2026/03/Kahvila16032026.jpg
END:VEVENT
BEGIN:VEVENT
DTSTART;TZID=Europe/Helsinki:20260323T170000
DTEND;TZID=Europe/Helsinki:20260323T180000
DTSTAMP:20260421T055706
CREATED:20241014T035536Z
LAST-MODIFIED:20260107T102402Z
UID:10026105-1774285200-1774288800@kalenteri.niemikoti.fi
SUMMARY:Niilon chat-kahvila maanantaisin kello 17-18☕
DESCRIPTION:“Niilo tuo lisää tukea ja yhteisöllisyyttä palveluidenkäyttäjille – helposti ja digitaalisesti!” \nKahvilan teemat vaihtelevat?\nChat-kavilat ovat rentoa rupattelua tunnin ajan chattaillen ?? \nNiilo \n? Helppo tapa vahvistaa osallisuutta: Tämä mobiilisovellus antaa palveluidenkäyttäjille mahdollisuuden olla yhteydessä\, saada vertaistukea ja löytää tietoa silloin\, kun he sitä tarvitsevat. Pieni vinkkaus sovelluksesta voi avata heille uuden tukikanavan! \n? Kannattaa itsekin kokeilla: Kun tunnet sovelluksen\, voit helpommin suositella sitä. Lataaminen vie vain hetken\, mutta voi tarjota paljon uusia mahdollisuuksia sekä työn tueksi että palveluidenkäyttäjien hyvinvoinnin vahvistamiseksi. \n? Jokainen maininta merkitsee: Kun mainitset sovelluksesta arjessa\, autat tekemään siitä luontevan osan käyttäjien tukea. Se on pieni teko\, jolla voi olla suuri vaikutus! \n? Lataa sovellus ja tutustu – yhdessä voimme paremmin! ? \n➡️ Voit ladata sen täältä https://niilo.niemikoti.fi
URL:https://kalenteri.niemikoti.fi/en/tapahtuma/niilon-chat-kahvila-maanantaisin-kello-17-18%e2%98%95/2026-03-23/
CATEGORIES:Niilo-sovellus
ATTACH;FMTTYPE=image/png:https://kalenteri.niemikoti.fi/wp-content/uploads/2024/10/Chat-kahvila-klo-17-19_tapahtumakalenteri2025.png
END:VEVENT
BEGIN:VEVENT
DTSTART;TZID=Europe/Helsinki:20260323T170000
DTEND;TZID=Europe/Helsinki:20260323T180000
DTSTAMP:20260421T055706
CREATED:20260317T113814Z
LAST-MODIFIED:20260317T113814Z
UID:10036878-1774285200-1774288800@kalenteri.niemikoti.fi
SUMMARY:Niilon chat-kahvila 23.3. klo 17-18
DESCRIPTION:Tervetuloa ensi maanantaina 23.3. klo 17-18 viettämään aikaa mukavaan seuraan juttelemaan sinua kiinnostavista aiheista. Vetäjänä on Heini. \n 
URL:https://kalenteri.niemikoti.fi/en/tapahtuma/niilon-chat-kahvila-23-3-klo-17-18/
CATEGORIES:Niilo-sovellus
ATTACH;FMTTYPE=image/png:https://kalenteri.niemikoti.fi/wp-content/uploads/2026/03/Kahvila23032026.png
END:VEVENT
BEGIN:VEVENT
DTSTART;TZID=Europe/Helsinki:20260330T170000
DTEND;TZID=Europe/Helsinki:20260330T180000
DTSTAMP:20260421T055706
CREATED:20241014T035536Z
LAST-MODIFIED:20260107T102402Z
UID:10026106-1774890000-1774893600@kalenteri.niemikoti.fi
SUMMARY:Niilon chat-kahvila maanantaisin kello 17-18☕
DESCRIPTION:“Niilo tuo lisää tukea ja yhteisöllisyyttä palveluidenkäyttäjille – helposti ja digitaalisesti!” \nKahvilan teemat vaihtelevat?\nChat-kavilat ovat rentoa rupattelua tunnin ajan chattaillen ?? \nNiilo \n? Helppo tapa vahvistaa osallisuutta: Tämä mobiilisovellus antaa palveluidenkäyttäjille mahdollisuuden olla yhteydessä\, saada vertaistukea ja löytää tietoa silloin\, kun he sitä tarvitsevat. Pieni vinkkaus sovelluksesta voi avata heille uuden tukikanavan! \n? Kannattaa itsekin kokeilla: Kun tunnet sovelluksen\, voit helpommin suositella sitä. Lataaminen vie vain hetken\, mutta voi tarjota paljon uusia mahdollisuuksia sekä työn tueksi että palveluidenkäyttäjien hyvinvoinnin vahvistamiseksi. \n? Jokainen maininta merkitsee: Kun mainitset sovelluksesta arjessa\, autat tekemään siitä luontevan osan käyttäjien tukea. Se on pieni teko\, jolla voi olla suuri vaikutus! \n? Lataa sovellus ja tutustu – yhdessä voimme paremmin! ? \n➡️ Voit ladata sen täältä https://niilo.niemikoti.fi
URL:https://kalenteri.niemikoti.fi/en/tapahtuma/niilon-chat-kahvila-maanantaisin-kello-17-18%e2%98%95/2026-03-30/
CATEGORIES:Niilo-sovellus
ATTACH;FMTTYPE=image/png:https://kalenteri.niemikoti.fi/wp-content/uploads/2024/10/Chat-kahvila-klo-17-19_tapahtumakalenteri2025.png
END:VEVENT
BEGIN:VEVENT
DTSTART;TZID=Europe/Helsinki:20260330T170000
DTEND;TZID=Europe/Helsinki:20260330T180000
DTSTAMP:20260421T055706
CREATED:20260326T114441Z
LAST-MODIFIED:20260326T114441Z
UID:10036880-1774890000-1774893600@kalenteri.niemikoti.fi
SUMMARY:Niilon chat-kahvila 30.3. klo 17-18
DESCRIPTION:Pääsiäinen\, Ostara\, vai ihan vaan kevät- hyvä syy juhlaan\, tai rauhoittumiseen arjen keskellä? Miten seuraavat juhlapäivät vietätkin\, tule kanssamme keskustelemaan kaikesta siihen liittyvästä tai muusta mielen päällä olevasta. Kahveja keittelee Sanniainen. TERVETULOA! \n 
URL:https://kalenteri.niemikoti.fi/en/tapahtuma/niilon-chat-kahvila-30-3-klo-17-18/
CATEGORIES:Niilo-sovellus
ATTACH;FMTTYPE=image/png:https://kalenteri.niemikoti.fi/wp-content/uploads/2026/03/Kahvila30032026.png
END:VEVENT
BEGIN:VEVENT
DTSTART;TZID=Europe/Helsinki:20260406T170000
DTEND;TZID=Europe/Helsinki:20260406T180000
DTSTAMP:20260421T055706
CREATED:20241014T035536Z
LAST-MODIFIED:20260107T102402Z
UID:10026107-1775494800-1775498400@kalenteri.niemikoti.fi
SUMMARY:Niilon chat-kahvila maanantaisin kello 17-18☕
DESCRIPTION:“Niilo tuo lisää tukea ja yhteisöllisyyttä palveluidenkäyttäjille – helposti ja digitaalisesti!” \nKahvilan teemat vaihtelevat?\nChat-kavilat ovat rentoa rupattelua tunnin ajan chattaillen ?? \nNiilo \n? Helppo tapa vahvistaa osallisuutta: Tämä mobiilisovellus antaa palveluidenkäyttäjille mahdollisuuden olla yhteydessä\, saada vertaistukea ja löytää tietoa silloin\, kun he sitä tarvitsevat. Pieni vinkkaus sovelluksesta voi avata heille uuden tukikanavan! \n? Kannattaa itsekin kokeilla: Kun tunnet sovelluksen\, voit helpommin suositella sitä. Lataaminen vie vain hetken\, mutta voi tarjota paljon uusia mahdollisuuksia sekä työn tueksi että palveluidenkäyttäjien hyvinvoinnin vahvistamiseksi. \n? Jokainen maininta merkitsee: Kun mainitset sovelluksesta arjessa\, autat tekemään siitä luontevan osan käyttäjien tukea. Se on pieni teko\, jolla voi olla suuri vaikutus! \n? Lataa sovellus ja tutustu – yhdessä voimme paremmin! ? \n➡️ Voit ladata sen täältä https://niilo.niemikoti.fi
URL:https://kalenteri.niemikoti.fi/en/tapahtuma/niilon-chat-kahvila-maanantaisin-kello-17-18%e2%98%95/2026-04-06/
CATEGORIES:Niilo-sovellus
ATTACH;FMTTYPE=image/png:https://kalenteri.niemikoti.fi/wp-content/uploads/2024/10/Chat-kahvila-klo-17-19_tapahtumakalenteri2025.png
END:VEVENT
BEGIN:VEVENT
DTSTART;TZID=Europe/Helsinki:20260406T170000
DTEND;TZID=Europe/Helsinki:20260406T180000
DTSTAMP:20260421T055706
CREATED:20260401T113224Z
LAST-MODIFIED:20260401T113224Z
UID:10036992-1775494800-1775498400@kalenteri.niemikoti.fi
SUMMARY:Niilon chat-kahvila 6.4. klo 17-18
DESCRIPTION:Niilon pääsiäiskahvilassa ma 6.4. aiheena Luovuus. Olit sitten luova tahi et\, niin tervetuloa rupattelemaan hyvässä seurassa! Kahvit keittää Tapsa. \n 
URL:https://kalenteri.niemikoti.fi/en/tapahtuma/niilon-chat-kahvila-6-4-klo-17-18/
CATEGORIES:Niilo-sovellus
ATTACH;FMTTYPE=image/jpeg:https://kalenteri.niemikoti.fi/wp-content/uploads/2026/04/Kahvila06042026-scaled.jpg
END:VEVENT
BEGIN:VEVENT
DTSTART;TZID=Europe/Helsinki:20260413T170000
DTEND;TZID=Europe/Helsinki:20260413T180000
DTSTAMP:20260421T055706
CREATED:20241014T035536Z
LAST-MODIFIED:20260107T102402Z
UID:10026108-1776099600-1776103200@kalenteri.niemikoti.fi
SUMMARY:Niilon chat-kahvila maanantaisin kello 17-18☕
DESCRIPTION:“Niilo tuo lisää tukea ja yhteisöllisyyttä palveluidenkäyttäjille – helposti ja digitaalisesti!” \nKahvilan teemat vaihtelevat?\nChat-kavilat ovat rentoa rupattelua tunnin ajan chattaillen ?? \nNiilo \n? Helppo tapa vahvistaa osallisuutta: Tämä mobiilisovellus antaa palveluidenkäyttäjille mahdollisuuden olla yhteydessä\, saada vertaistukea ja löytää tietoa silloin\, kun he sitä tarvitsevat. Pieni vinkkaus sovelluksesta voi avata heille uuden tukikanavan! \n? Kannattaa itsekin kokeilla: Kun tunnet sovelluksen\, voit helpommin suositella sitä. Lataaminen vie vain hetken\, mutta voi tarjota paljon uusia mahdollisuuksia sekä työn tueksi että palveluidenkäyttäjien hyvinvoinnin vahvistamiseksi. \n? Jokainen maininta merkitsee: Kun mainitset sovelluksesta arjessa\, autat tekemään siitä luontevan osan käyttäjien tukea. Se on pieni teko\, jolla voi olla suuri vaikutus! \n? Lataa sovellus ja tutustu – yhdessä voimme paremmin! ? \n➡️ Voit ladata sen täältä https://niilo.niemikoti.fi
URL:https://kalenteri.niemikoti.fi/en/tapahtuma/niilon-chat-kahvila-maanantaisin-kello-17-18%e2%98%95/2026-04-13/
CATEGORIES:Niilo-sovellus
ATTACH;FMTTYPE=image/png:https://kalenteri.niemikoti.fi/wp-content/uploads/2024/10/Chat-kahvila-klo-17-19_tapahtumakalenteri2025.png
END:VEVENT
BEGIN:VEVENT
DTSTART;TZID=Europe/Helsinki:20260413T170000
DTEND;TZID=Europe/Helsinki:20260413T180000
DTSTAMP:20260421T055706
CREATED:20260409T095319Z
LAST-MODIFIED:20260409T095319Z
UID:10036993-1776099600-1776103200@kalenteri.niemikoti.fi
SUMMARY:Niilon chat-kahvila 13.4. klo 17-18
DESCRIPTION:Niilon Chat-kahvila avoinna taas maanantaina 13.4. Kahvinkeitossa Sanniainen. Tule viivähtämään kupilliselle! TERVETULOA! \n 
URL:https://kalenteri.niemikoti.fi/en/tapahtuma/niilon-chat-kahvila-13-4-klo-17-18/
CATEGORIES:Niilo-sovellus
ATTACH;FMTTYPE=image/png:https://kalenteri.niemikoti.fi/wp-content/uploads/2026/04/Kahvila13042026.png
END:VEVENT
BEGIN:VEVENT
DTSTART;TZID=Europe/Helsinki:20260420T170000
DTEND;TZID=Europe/Helsinki:20260420T180000
DTSTAMP:20260421T055706
CREATED:20241014T035536Z
LAST-MODIFIED:20260107T102402Z
UID:10026109-1776704400-1776708000@kalenteri.niemikoti.fi
SUMMARY:Niilon chat-kahvila maanantaisin kello 17-18☕
DESCRIPTION:“Niilo tuo lisää tukea ja yhteisöllisyyttä palveluidenkäyttäjille – helposti ja digitaalisesti!” \nKahvilan teemat vaihtelevat?\nChat-kavilat ovat rentoa rupattelua tunnin ajan chattaillen ?? \nNiilo \n? Helppo tapa vahvistaa osallisuutta: Tämä mobiilisovellus antaa palveluidenkäyttäjille mahdollisuuden olla yhteydessä\, saada vertaistukea ja löytää tietoa silloin\, kun he sitä tarvitsevat. Pieni vinkkaus sovelluksesta voi avata heille uuden tukikanavan! \n? Kannattaa itsekin kokeilla: Kun tunnet sovelluksen\, voit helpommin suositella sitä. Lataaminen vie vain hetken\, mutta voi tarjota paljon uusia mahdollisuuksia sekä työn tueksi että palveluidenkäyttäjien hyvinvoinnin vahvistamiseksi. \n? Jokainen maininta merkitsee: Kun mainitset sovelluksesta arjessa\, autat tekemään siitä luontevan osan käyttäjien tukea. Se on pieni teko\, jolla voi olla suuri vaikutus! \n? Lataa sovellus ja tutustu – yhdessä voimme paremmin! ? \n➡️ Voit ladata sen täältä https://niilo.niemikoti.fi
URL:https://kalenteri.niemikoti.fi/en/tapahtuma/niilon-chat-kahvila-maanantaisin-kello-17-18%e2%98%95/2026-04-20/
CATEGORIES:Niilo-sovellus
ATTACH;FMTTYPE=image/png:https://kalenteri.niemikoti.fi/wp-content/uploads/2024/10/Chat-kahvila-klo-17-19_tapahtumakalenteri2025.png
END:VEVENT
BEGIN:VEVENT
DTSTART;TZID=Europe/Helsinki:20260420T170000
DTEND;TZID=Europe/Helsinki:20260420T180000
DTSTAMP:20260421T055706
CREATED:20260413T131543Z
LAST-MODIFIED:20260413T131543Z
UID:10037352-1776704400-1776708000@kalenteri.niemikoti.fi
SUMMARY:Niilon chat-kahvila 20.4. klo 17-18
DESCRIPTION:Tervetuloa ensi maanantaina 20.4. klo 17-18 chatkahvilaan juttelemaan mukavaan seuraan sinua kiinnostavista aiheista. Vetäjänä on Heini. \n 
URL:https://kalenteri.niemikoti.fi/en/tapahtuma/niilon-chat-kahvila-20-4-klo-17-18/
CATEGORIES:Niilo-sovellus
ATTACH;FMTTYPE=image/png:https://kalenteri.niemikoti.fi/wp-content/uploads/2026/04/Kahvila20042026.png
END:VEVENT
BEGIN:VEVENT
DTSTART;TZID=Europe/Helsinki:20260427T170000
DTEND;TZID=Europe/Helsinki:20260427T180000
DTSTAMP:20260421T055706
CREATED:20241014T035536Z
LAST-MODIFIED:20260107T102402Z
UID:10026110-1777309200-1777312800@kalenteri.niemikoti.fi
SUMMARY:Niilon chat-kahvila maanantaisin kello 17-18☕
DESCRIPTION:“Niilo tuo lisää tukea ja yhteisöllisyyttä palveluidenkäyttäjille – helposti ja digitaalisesti!” \nKahvilan teemat vaihtelevat?\nChat-kavilat ovat rentoa rupattelua tunnin ajan chattaillen ?? \nNiilo \n? Helppo tapa vahvistaa osallisuutta: Tämä mobiilisovellus antaa palveluidenkäyttäjille mahdollisuuden olla yhteydessä\, saada vertaistukea ja löytää tietoa silloin\, kun he sitä tarvitsevat. Pieni vinkkaus sovelluksesta voi avata heille uuden tukikanavan! \n? Kannattaa itsekin kokeilla: Kun tunnet sovelluksen\, voit helpommin suositella sitä. Lataaminen vie vain hetken\, mutta voi tarjota paljon uusia mahdollisuuksia sekä työn tueksi että palveluidenkäyttäjien hyvinvoinnin vahvistamiseksi. \n? Jokainen maininta merkitsee: Kun mainitset sovelluksesta arjessa\, autat tekemään siitä luontevan osan käyttäjien tukea. Se on pieni teko\, jolla voi olla suuri vaikutus! \n? Lataa sovellus ja tutustu – yhdessä voimme paremmin! ? \n➡️ Voit ladata sen täältä https://niilo.niemikoti.fi
URL:https://kalenteri.niemikoti.fi/en/tapahtuma/niilon-chat-kahvila-maanantaisin-kello-17-18%e2%98%95/2026-04-27/
CATEGORIES:Niilo-sovellus
ATTACH;FMTTYPE=image/png:https://kalenteri.niemikoti.fi/wp-content/uploads/2024/10/Chat-kahvila-klo-17-19_tapahtumakalenteri2025.png
END:VEVENT
BEGIN:VEVENT
DTSTART;TZID=Europe/Helsinki:20260504T170000
DTEND;TZID=Europe/Helsinki:20260504T180000
DTSTAMP:20260421T055706
CREATED:20241014T035536Z
LAST-MODIFIED:20260107T102402Z
UID:10026111-1777914000-1777917600@kalenteri.niemikoti.fi
SUMMARY:Niilon chat-kahvila maanantaisin kello 17-18☕
DESCRIPTION:“Niilo tuo lisää tukea ja yhteisöllisyyttä palveluidenkäyttäjille – helposti ja digitaalisesti!” \nKahvilan teemat vaihtelevat?\nChat-kavilat ovat rentoa rupattelua tunnin ajan chattaillen ?? \nNiilo \n? Helppo tapa vahvistaa osallisuutta: Tämä mobiilisovellus antaa palveluidenkäyttäjille mahdollisuuden olla yhteydessä\, saada vertaistukea ja löytää tietoa silloin\, kun he sitä tarvitsevat. Pieni vinkkaus sovelluksesta voi avata heille uuden tukikanavan! \n? Kannattaa itsekin kokeilla: Kun tunnet sovelluksen\, voit helpommin suositella sitä. Lataaminen vie vain hetken\, mutta voi tarjota paljon uusia mahdollisuuksia sekä työn tueksi että palveluidenkäyttäjien hyvinvoinnin vahvistamiseksi. \n? Jokainen maininta merkitsee: Kun mainitset sovelluksesta arjessa\, autat tekemään siitä luontevan osan käyttäjien tukea. Se on pieni teko\, jolla voi olla suuri vaikutus! \n? Lataa sovellus ja tutustu – yhdessä voimme paremmin! ? \n➡️ Voit ladata sen täältä https://niilo.niemikoti.fi
URL:https://kalenteri.niemikoti.fi/en/tapahtuma/niilon-chat-kahvila-maanantaisin-kello-17-18%e2%98%95/2026-05-04/
CATEGORIES:Niilo-sovellus
ATTACH;FMTTYPE=image/png:https://kalenteri.niemikoti.fi/wp-content/uploads/2024/10/Chat-kahvila-klo-17-19_tapahtumakalenteri2025.png
END:VEVENT
BEGIN:VEVENT
DTSTART;TZID=Europe/Helsinki:20260511T170000
DTEND;TZID=Europe/Helsinki:20260511T180000
DTSTAMP:20260421T055706
CREATED:20241014T035536Z
LAST-MODIFIED:20260107T102402Z
UID:10026112-1778518800-1778522400@kalenteri.niemikoti.fi
SUMMARY:Niilon chat-kahvila maanantaisin kello 17-18☕
DESCRIPTION:“Niilo tuo lisää tukea ja yhteisöllisyyttä palveluidenkäyttäjille – helposti ja digitaalisesti!” \nKahvilan teemat vaihtelevat?\nChat-kavilat ovat rentoa rupattelua tunnin ajan chattaillen ?? \nNiilo \n? Helppo tapa vahvistaa osallisuutta: Tämä mobiilisovellus antaa palveluidenkäyttäjille mahdollisuuden olla yhteydessä\, saada vertaistukea ja löytää tietoa silloin\, kun he sitä tarvitsevat. Pieni vinkkaus sovelluksesta voi avata heille uuden tukikanavan! \n? Kannattaa itsekin kokeilla: Kun tunnet sovelluksen\, voit helpommin suositella sitä. Lataaminen vie vain hetken\, mutta voi tarjota paljon uusia mahdollisuuksia sekä työn tueksi että palveluidenkäyttäjien hyvinvoinnin vahvistamiseksi. \n? Jokainen maininta merkitsee: Kun mainitset sovelluksesta arjessa\, autat tekemään siitä luontevan osan käyttäjien tukea. Se on pieni teko\, jolla voi olla suuri vaikutus! \n? Lataa sovellus ja tutustu – yhdessä voimme paremmin! ? \n➡️ Voit ladata sen täältä https://niilo.niemikoti.fi
URL:https://kalenteri.niemikoti.fi/en/tapahtuma/niilon-chat-kahvila-maanantaisin-kello-17-18%e2%98%95/2026-05-11/
CATEGORIES:Niilo-sovellus
ATTACH;FMTTYPE=image/png:https://kalenteri.niemikoti.fi/wp-content/uploads/2024/10/Chat-kahvila-klo-17-19_tapahtumakalenteri2025.png
END:VEVENT
BEGIN:VEVENT
DTSTART;TZID=Europe/Helsinki:20260518T170000
DTEND;TZID=Europe/Helsinki:20260518T180000
DTSTAMP:20260421T055706
CREATED:20241014T035536Z
LAST-MODIFIED:20260107T102402Z
UID:10026113-1779123600-1779127200@kalenteri.niemikoti.fi
SUMMARY:Niilon chat-kahvila maanantaisin kello 17-18☕
DESCRIPTION:“Niilo tuo lisää tukea ja yhteisöllisyyttä palveluidenkäyttäjille – helposti ja digitaalisesti!” \nKahvilan teemat vaihtelevat?\nChat-kavilat ovat rentoa rupattelua tunnin ajan chattaillen ?? \nNiilo \n? Helppo tapa vahvistaa osallisuutta: Tämä mobiilisovellus antaa palveluidenkäyttäjille mahdollisuuden olla yhteydessä\, saada vertaistukea ja löytää tietoa silloin\, kun he sitä tarvitsevat. Pieni vinkkaus sovelluksesta voi avata heille uuden tukikanavan! \n? Kannattaa itsekin kokeilla: Kun tunnet sovelluksen\, voit helpommin suositella sitä. Lataaminen vie vain hetken\, mutta voi tarjota paljon uusia mahdollisuuksia sekä työn tueksi että palveluidenkäyttäjien hyvinvoinnin vahvistamiseksi. \n? Jokainen maininta merkitsee: Kun mainitset sovelluksesta arjessa\, autat tekemään siitä luontevan osan käyttäjien tukea. Se on pieni teko\, jolla voi olla suuri vaikutus! \n? Lataa sovellus ja tutustu – yhdessä voimme paremmin! ? \n➡️ Voit ladata sen täältä https://niilo.niemikoti.fi
URL:https://kalenteri.niemikoti.fi/en/tapahtuma/niilon-chat-kahvila-maanantaisin-kello-17-18%e2%98%95/2026-05-18/
CATEGORIES:Niilo-sovellus
ATTACH;FMTTYPE=image/png:https://kalenteri.niemikoti.fi/wp-content/uploads/2024/10/Chat-kahvila-klo-17-19_tapahtumakalenteri2025.png
END:VEVENT
BEGIN:VEVENT
DTSTART;TZID=Europe/Helsinki:20260525T170000
DTEND;TZID=Europe/Helsinki:20260525T180000
DTSTAMP:20260421T055706
CREATED:20241014T035536Z
LAST-MODIFIED:20260107T102402Z
UID:10026114-1779728400-1779732000@kalenteri.niemikoti.fi
SUMMARY:Niilon chat-kahvila maanantaisin kello 17-18☕
DESCRIPTION:“Niilo tuo lisää tukea ja yhteisöllisyyttä palveluidenkäyttäjille – helposti ja digitaalisesti!” \nKahvilan teemat vaihtelevat?\nChat-kavilat ovat rentoa rupattelua tunnin ajan chattaillen ?? \nNiilo \n? Helppo tapa vahvistaa osallisuutta: Tämä mobiilisovellus antaa palveluidenkäyttäjille mahdollisuuden olla yhteydessä\, saada vertaistukea ja löytää tietoa silloin\, kun he sitä tarvitsevat. Pieni vinkkaus sovelluksesta voi avata heille uuden tukikanavan! \n? Kannattaa itsekin kokeilla: Kun tunnet sovelluksen\, voit helpommin suositella sitä. Lataaminen vie vain hetken\, mutta voi tarjota paljon uusia mahdollisuuksia sekä työn tueksi että palveluidenkäyttäjien hyvinvoinnin vahvistamiseksi. \n? Jokainen maininta merkitsee: Kun mainitset sovelluksesta arjessa\, autat tekemään siitä luontevan osan käyttäjien tukea. Se on pieni teko\, jolla voi olla suuri vaikutus! \n? Lataa sovellus ja tutustu – yhdessä voimme paremmin! ? \n➡️ Voit ladata sen täältä https://niilo.niemikoti.fi
URL:https://kalenteri.niemikoti.fi/en/tapahtuma/niilon-chat-kahvila-maanantaisin-kello-17-18%e2%98%95/2026-05-25/
CATEGORIES:Niilo-sovellus
ATTACH;FMTTYPE=image/png:https://kalenteri.niemikoti.fi/wp-content/uploads/2024/10/Chat-kahvila-klo-17-19_tapahtumakalenteri2025.png
END:VEVENT
END:VCALENDAR