BEGIN:VCALENDAR
VERSION:2.0
PRODID:-//Tapahtumakalenteri - ECPv6.15.18//NONSGML v1.0//EN
CALSCALE:GREGORIAN
METHOD:PUBLISH
X-ORIGINAL-URL:https://kalenteri.niemikoti.fi/en/
X-WR-CALDESC:Events for Tapahtumakalenteri
REFRESH-INTERVAL;VALUE=DURATION:PT1H
X-Robots-Tag:noindex
X-PUBLISHED-TTL:PT1H
BEGIN:VTIMEZONE
TZID:Europe/Helsinki
BEGIN:DAYLIGHT
TZOFFSETFROM:+0200
TZOFFSETTO:+0300
TZNAME:EEST
DTSTART:20250330T010000
END:DAYLIGHT
BEGIN:STANDARD
TZOFFSETFROM:+0300
TZOFFSETTO:+0200
TZNAME:EET
DTSTART:20251026T010000
END:STANDARD
BEGIN:DAYLIGHT
TZOFFSETFROM:+0200
TZOFFSETTO:+0300
TZNAME:EEST
DTSTART:20260329T010000
END:DAYLIGHT
BEGIN:STANDARD
TZOFFSETFROM:+0300
TZOFFSETTO:+0200
TZNAME:EET
DTSTART:20261025T010000
END:STANDARD
BEGIN:DAYLIGHT
TZOFFSETFROM:+0200
TZOFFSETTO:+0300
TZNAME:EEST
DTSTART:20270328T010000
END:DAYLIGHT
BEGIN:STANDARD
TZOFFSETFROM:+0300
TZOFFSETTO:+0200
TZNAME:EET
DTSTART:20271031T010000
END:STANDARD
END:VTIMEZONE
BEGIN:VEVENT
DTSTART;TZID=Europe/Helsinki:20260216T170000
DTEND;TZID=Europe/Helsinki:20260216T180000
DTSTAMP:20260421T083741
CREATED:20241014T035536Z
LAST-MODIFIED:20260107T102402Z
UID:10026100-1771261200-1771264800@kalenteri.niemikoti.fi
SUMMARY:Niilon chat-kahvila maanantaisin kello 17-18☕
DESCRIPTION:“Niilo tuo lisää tukea ja yhteisöllisyyttä palveluidenkäyttäjille – helposti ja digitaalisesti!” \nKahvilan teemat vaihtelevat?\nChat-kavilat ovat rentoa rupattelua tunnin ajan chattaillen ?? \nNiilo \n? Helppo tapa vahvistaa osallisuutta: Tämä mobiilisovellus antaa palveluidenkäyttäjille mahdollisuuden olla yhteydessä\, saada vertaistukea ja löytää tietoa silloin\, kun he sitä tarvitsevat. Pieni vinkkaus sovelluksesta voi avata heille uuden tukikanavan! \n? Kannattaa itsekin kokeilla: Kun tunnet sovelluksen\, voit helpommin suositella sitä. Lataaminen vie vain hetken\, mutta voi tarjota paljon uusia mahdollisuuksia sekä työn tueksi että palveluidenkäyttäjien hyvinvoinnin vahvistamiseksi. \n? Jokainen maininta merkitsee: Kun mainitset sovelluksesta arjessa\, autat tekemään siitä luontevan osan käyttäjien tukea. Se on pieni teko\, jolla voi olla suuri vaikutus! \n? Lataa sovellus ja tutustu – yhdessä voimme paremmin! ? \n➡️ Voit ladata sen täältä https://niilo.niemikoti.fi
URL:https://kalenteri.niemikoti.fi/en/tapahtuma/niilon-chat-kahvila-maanantaisin-kello-17-18%e2%98%95/2026-02-16/
CATEGORIES:Niilo-sovellus
ATTACH;FMTTYPE=image/png:https://kalenteri.niemikoti.fi/wp-content/uploads/2024/10/Chat-kahvila-klo-17-19_tapahtumakalenteri2025.png
END:VEVENT
BEGIN:VEVENT
DTSTART;TZID=Europe/Helsinki:20260216T170000
DTEND;TZID=Europe/Helsinki:20260216T180000
DTSTAMP:20260421T083741
CREATED:20260212T132231Z
LAST-MODIFIED:20260212T132231Z
UID:10033536-1771261200-1771264800@kalenteri.niemikoti.fi
SUMMARY:Niilon chat-kahvila 16.2. klo 17-18
DESCRIPTION:Kevättalvisessa Niilo-kahvilassa 16.2. klo 17-18 keskustellaan kuulumisista ja suunnitelmista\, joita osallistujilla on kevättä varten. Talvi pitää maisemaa otteessaan vielä tällä hetkellä mutta kohta talvi taittuu ja kevät alkaa. Kevättalvisen kahvilan pitää Santtu. Tervetuloa kahvilaan! \nJos olet Niemikotisäätiön asukas tai päiväkävijä\, eikä sinulla ole vielä Niilo-sovellusta\, saat sen täältä: https://niilo.niemikoti.fi \n 
URL:https://kalenteri.niemikoti.fi/en/tapahtuma/niilon-chat-kahvila-16-2-klo-17-18/
CATEGORIES:Niilo-sovellus
ATTACH;FMTTYPE=image/jpeg:https://kalenteri.niemikoti.fi/wp-content/uploads/2026/02/Kahvila16022026.jpg
END:VEVENT
END:VCALENDAR