BEGIN:VCALENDAR
VERSION:2.0
PRODID:-//Tapahtumakalenteri - ECPv6.15.18//NONSGML v1.0//EN
CALSCALE:GREGORIAN
METHOD:PUBLISH
X-WR-CALNAME:Tapahtumakalenteri
X-ORIGINAL-URL:https://kalenteri.niemikoti.fi/en/
X-WR-CALDESC:Events for Tapahtumakalenteri
REFRESH-INTERVAL;VALUE=DURATION:PT1H
X-Robots-Tag:noindex
X-PUBLISHED-TTL:PT1H
BEGIN:VTIMEZONE
TZID:Europe/Helsinki
BEGIN:DAYLIGHT
TZOFFSETFROM:+0200
TZOFFSETTO:+0300
TZNAME:EEST
DTSTART:20250330T010000
END:DAYLIGHT
BEGIN:STANDARD
TZOFFSETFROM:+0300
TZOFFSETTO:+0200
TZNAME:EET
DTSTART:20251026T010000
END:STANDARD
BEGIN:DAYLIGHT
TZOFFSETFROM:+0200
TZOFFSETTO:+0300
TZNAME:EEST
DTSTART:20260329T010000
END:DAYLIGHT
BEGIN:STANDARD
TZOFFSETFROM:+0300
TZOFFSETTO:+0200
TZNAME:EET
DTSTART:20261025T010000
END:STANDARD
BEGIN:DAYLIGHT
TZOFFSETFROM:+0200
TZOFFSETTO:+0300
TZNAME:EEST
DTSTART:20270328T010000
END:DAYLIGHT
BEGIN:STANDARD
TZOFFSETFROM:+0300
TZOFFSETTO:+0200
TZNAME:EET
DTSTART:20271031T010000
END:STANDARD
END:VTIMEZONE
BEGIN:VEVENT
DTSTART;TZID=Europe/Helsinki:20260507T140000
DTEND;TZID=Europe/Helsinki:20260625T160000
DTSTAMP:20260423T220219
CREATED:20260421T101538Z
LAST-MODIFIED:20260422T174148Z
UID:10037531-1778162400-1782403200@kalenteri.niemikoti.fi
SUMMARY:Kaupunkiviljely Malmilla
DESCRIPTION:Kaupunkiviljelyryhmä Malmilla. Ilmoittaudu.
URL:https://kalenteri.niemikoti.fi/en/tapahtuma/kaupunkiviljely-malmilla-8/2026-05-07/
LOCATION:Green City Farm c/o Perho Liiketalousopisto\, Vanha Helsingintie 13\, Helsinki\, 00700
CATEGORIES:Toimintakeskus Villa Borgis
END:VEVENT
BEGIN:VEVENT
DTSTART;TZID=Europe/Helsinki:20260508T100000
DTEND;TZID=Europe/Helsinki:20260731T110000
DTSTAMP:20260423T220219
CREATED:20250522T084825Z
LAST-MODIFIED:20260422T165922Z
UID:10025573-1778234400-1785495600@kalenteri.niemikoti.fi
SUMMARY:Aamujooga
DESCRIPTION:Kaikille sopivaa\, lempeää ja rauhallista joogaa. Max. 10 osallistujaa. Ilmoittaudu.
URL:https://kalenteri.niemikoti.fi/en/tapahtuma/aamujooga-3/2026-05-08/
LOCATION:Toimintakeskus Villa Borgis\, Linnavuorentie 13\, Helsinki\, 00950\, Finland
CATEGORIES:Toimintakeskus Villa Borgis
ATTACH;FMTTYPE=image/jpeg:https://kalenteri.niemikoti.fi/wp-content/uploads/2025/05/VillaBorgiksen-Aamujooga.jpg
END:VEVENT
BEGIN:VEVENT
DTSTART;TZID=Europe/Helsinki:20260511T130000
DTEND;TZID=Europe/Helsinki:20260525T140000
DTSTAMP:20260423T220219
CREATED:20260421T065648Z
LAST-MODIFIED:20260422T174426Z
UID:10037354-1778504400-1779717600@kalenteri.niemikoti.fi
SUMMARY:Akvarelli-unelmia
DESCRIPTION:Maalataan vesiväreillä.
URL:https://kalenteri.niemikoti.fi/en/tapahtuma/akvarelli-unelmia/2026-05-11/
LOCATION:Toimintakeskus Villa Borgis\, Linnavuorentie 13\, Helsinki\, 00950\, Finland
CATEGORIES:Toimintakeskus Villa Borgis
END:VEVENT
BEGIN:VEVENT
DTSTART;TZID=Europe/Helsinki:20260515T100000
DTEND;TZID=Europe/Helsinki:20260807T110000
DTSTAMP:20260423T220219
CREATED:20250522T084825Z
LAST-MODIFIED:20260422T165922Z
UID:10025574-1778839200-1786100400@kalenteri.niemikoti.fi
SUMMARY:Aamujooga
DESCRIPTION:Kaikille sopivaa\, lempeää ja rauhallista joogaa. Max. 10 osallistujaa. Ilmoittaudu.
URL:https://kalenteri.niemikoti.fi/en/tapahtuma/aamujooga-3/2026-05-15/
LOCATION:Toimintakeskus Villa Borgis\, Linnavuorentie 13\, Helsinki\, 00950\, Finland
CATEGORIES:Toimintakeskus Villa Borgis
ATTACH;FMTTYPE=image/jpeg:https://kalenteri.niemikoti.fi/wp-content/uploads/2025/05/VillaBorgiksen-Aamujooga.jpg
END:VEVENT
BEGIN:VEVENT
DTSTART;TZID=Europe/Helsinki:20260518T130000
DTEND;TZID=Europe/Helsinki:20260601T140000
DTSTAMP:20260423T220219
CREATED:20260421T065648Z
LAST-MODIFIED:20260422T174426Z
UID:10037355-1779109200-1780322400@kalenteri.niemikoti.fi
SUMMARY:Akvarelli-unelmia
DESCRIPTION:Maalataan vesiväreillä.
URL:https://kalenteri.niemikoti.fi/en/tapahtuma/akvarelli-unelmia/2026-05-18/
LOCATION:Toimintakeskus Villa Borgis\, Linnavuorentie 13\, Helsinki\, 00950\, Finland
CATEGORIES:Toimintakeskus Villa Borgis
END:VEVENT
BEGIN:VEVENT
DTSTART;TZID=Europe/Helsinki:20260521T140000
DTEND;TZID=Europe/Helsinki:20260709T160000
DTSTAMP:20260423T220219
CREATED:20260421T101538Z
LAST-MODIFIED:20260422T174148Z
UID:10037665-1779372000-1783612800@kalenteri.niemikoti.fi
SUMMARY:Kaupunkiviljely Malmilla
DESCRIPTION:Kaupunkiviljelyryhmä Malmilla. Ilmoittaudu.
URL:https://kalenteri.niemikoti.fi/en/tapahtuma/kaupunkiviljely-malmilla-8/2026-05-21/
LOCATION:Green City Farm c/o Perho Liiketalousopisto\, Vanha Helsingintie 13\, Helsinki\, 00700
CATEGORIES:Toimintakeskus Villa Borgis
END:VEVENT
BEGIN:VEVENT
DTSTART;TZID=Europe/Helsinki:20260522T090000
DTEND;TZID=Europe/Helsinki:20260522T100000
DTSTAMP:20260423T220219
CREATED:20260302T134800Z
LAST-MODIFIED:20260302T134800Z
UID:10034013-1779440400-1779444000@kalenteri.niemikoti.fi
SUMMARY:Yhteisön aamiainen Malmilla
DESCRIPTION:Aamiaisella puuroa\, muroja tai jogurttia vaihtelevasti sekä leipää päällisineen. Juomaksi tuoremehua sekä kahvia tai teetä. Hinta 1\,5 e.
URL:https://kalenteri.niemikoti.fi/en/tapahtuma/yhteison-aamiainen-malmilla/2026-05-22/
LOCATION:Malmin päivätoimintakeskus\, Vanha Helsingintie 9\, Helsinki\, 00700\, Finland
CATEGORIES:Malmin päivätoimintakeskus
END:VEVENT
BEGIN:VEVENT
DTSTART;TZID=Europe/Helsinki:20260522T100000
DTEND;TZID=Europe/Helsinki:20260522T110000
DTSTAMP:20260423T220219
CREATED:20260126T132848Z
LAST-MODIFIED:20260304T131909Z
UID:10036069-1779444000-1779447600@kalenteri.niemikoti.fi
SUMMARY:Tuolijooga
DESCRIPTION:Rauhallista venyttelyä tuolilla istuen ja tuolia tukena käyttäen. Lopussa rentoutus. \nTäydentyvä ryhmä\, ilmoittaudu.
URL:https://kalenteri.niemikoti.fi/en/tapahtuma/tuolijooga-malmilla/2026-05-22/
LOCATION:Malmin päivätoimintakeskus\, Vanha Helsingintie 9\, Helsinki\, 00700\, Finland
CATEGORIES:Malmin päivätoimintakeskus
ATTACH;FMTTYPE=image/jpeg:https://kalenteri.niemikoti.fi/wp-content/uploads/2026/01/Tuolijooga.jpg
END:VEVENT
BEGIN:VEVENT
DTSTART;TZID=Europe/Helsinki:20260522T110000
DTEND;TZID=Europe/Helsinki:20260522T120000
DTSTAMP:20260423T220219
CREATED:20260303T072331Z
LAST-MODIFIED:20260303T072331Z
UID:10036626-1779447600-1779451200@kalenteri.niemikoti.fi
SUMMARY:Yhteisön lounas Malmilla
DESCRIPTION:Lounas ja lounaskahvit. Ruokalista vaihtelee kuukausittain ja on nähtävillä Malmin päivätoimintakeskuksessa. Hinta 3\,5 euroa.
URL:https://kalenteri.niemikoti.fi/en/tapahtuma/yhteison-lounas-malmilla-2/2026-05-22/
LOCATION:Malmin päivätoimintakeskus\, Vanha Helsingintie 9\, Helsinki\, 00700\, Finland
CATEGORIES:Malmin päivätoimintakeskus
END:VEVENT
BEGIN:VEVENT
DTSTART;TZID=Europe/Helsinki:20260522T120000
DTEND;TZID=Europe/Helsinki:20260522T130000
DTSTAMP:20260423T220219
CREATED:20260112T134429Z
LAST-MODIFIED:20260303T073209Z
UID:10036364-1779451200-1779454800@kalenteri.niemikoti.fi
SUMMARY:Soittoryhmä Malmilla
DESCRIPTION:Tutustaan yhdessä pianon\, ukulelen ja kitaran soiton alkeisiin. Ryhmään mahtuu enintään 6 osallistujaa kerralla. Täydentyvä ryhmä\, ilmoittaudu mukaan!
URL:https://kalenteri.niemikoti.fi/en/tapahtuma/soittoryhma-malmilla/2026-05-22/
LOCATION:Malmin päivätoimintakeskus\, Vanha Helsingintie 9\, Helsinki\, 00700\, Finland
CATEGORIES:Malmin päivätoimintakeskus
END:VEVENT
END:VCALENDAR