BEGIN:VCALENDAR
VERSION:2.0
PRODID:-//Tapahtumakalenteri - ECPv6.15.18//NONSGML v1.0//EN
CALSCALE:GREGORIAN
METHOD:PUBLISH
X-ORIGINAL-URL:https://kalenteri.niemikoti.fi/en/
X-WR-CALDESC:Events for Tapahtumakalenteri
REFRESH-INTERVAL;VALUE=DURATION:PT1H
X-Robots-Tag:noindex
X-PUBLISHED-TTL:PT1H
BEGIN:VTIMEZONE
TZID:Europe/Helsinki
BEGIN:DAYLIGHT
TZOFFSETFROM:+0200
TZOFFSETTO:+0300
TZNAME:EEST
DTSTART:20250330T010000
END:DAYLIGHT
BEGIN:STANDARD
TZOFFSETFROM:+0300
TZOFFSETTO:+0200
TZNAME:EET
DTSTART:20251026T010000
END:STANDARD
BEGIN:DAYLIGHT
TZOFFSETFROM:+0200
TZOFFSETTO:+0300
TZNAME:EEST
DTSTART:20260329T010000
END:DAYLIGHT
BEGIN:STANDARD
TZOFFSETFROM:+0300
TZOFFSETTO:+0200
TZNAME:EET
DTSTART:20261025T010000
END:STANDARD
BEGIN:DAYLIGHT
TZOFFSETFROM:+0200
TZOFFSETTO:+0300
TZNAME:EEST
DTSTART:20270328T010000
END:DAYLIGHT
BEGIN:STANDARD
TZOFFSETFROM:+0300
TZOFFSETTO:+0200
TZNAME:EET
DTSTART:20271031T010000
END:STANDARD
END:VTIMEZONE
BEGIN:VEVENT
DTSTART;TZID=Europe/Helsinki:20260504T140000
DTEND;TZID=Europe/Helsinki:20260504T160000
DTSTAMP:20260419T164905
CREATED:20260330T125833Z
LAST-MODIFIED:20260330T125833Z
UID:10036971-1777903200-1777910400@kalenteri.niemikoti.fi
SUMMARY:Hygge
DESCRIPTION:Rentoa vapaamuotoista yhdessäoloa. Teetä tarjolla.
URL:https://kalenteri.niemikoti.fi/en/tapahtuma/hygge-2/2026-05-04/
CATEGORIES:Kulttuuripaja ELVIS
END:VEVENT
BEGIN:VEVENT
DTSTART;TZID=Europe/Helsinki:20260504T153000
DTEND;TZID=Europe/Helsinki:20260504T180000
DTSTAMP:20260419T164905
CREATED:20260330T104238Z
LAST-MODIFIED:20260330T104238Z
UID:10036958-1777908600-1777917600@kalenteri.niemikoti.fi
SUMMARY:Avoin bändi
DESCRIPTION:Tervetuloa soittamaan tai kuuntelemaan.
URL:https://kalenteri.niemikoti.fi/en/tapahtuma/avoin-bandi-2/2026-05-04/
CATEGORIES:Kulttuuripaja ELVIS
END:VEVENT
BEGIN:VEVENT
DTSTART;TZID=Europe/Helsinki:20260505T110000
DTEND;TZID=Europe/Helsinki:20260505T114500
DTSTAMP:20260419T164905
CREATED:20260330T094929Z
LAST-MODIFIED:20260330T094943Z
UID:10036918-1777978800-1777981500@kalenteri.niemikoti.fi
SUMMARY:Asahi&Chi Kung
DESCRIPTION:Rauhallista terveysliikuntaa. Liikkeet tehdään seisten.
URL:https://kalenteri.niemikoti.fi/en/tapahtuma/asahichi-kung/2026-05-05/
CATEGORIES:Kulttuuripaja ELVIS
END:VEVENT
BEGIN:VEVENT
DTSTART;TZID=Europe/Helsinki:20260505T120000
DTEND;TZID=Europe/Helsinki:20260505T150000
DTSTAMP:20260419T164905
CREATED:20260330T095533Z
LAST-MODIFIED:20260330T095533Z
UID:10036934-1777982400-1777993200@kalenteri.niemikoti.fi
SUMMARY:Lauta- ja korttipelit
DESCRIPTION:Porukalla päätetään mitä pelejä pelataan.
URL:https://kalenteri.niemikoti.fi/en/tapahtuma/lauta-ja-korttipelit/2026-05-05/
CATEGORIES:Kulttuuripaja ELVIS
END:VEVENT
BEGIN:VEVENT
DTSTART;TZID=Europe/Helsinki:20260505T150000
DTEND;TZID=Europe/Helsinki:20260505T163000
DTSTAMP:20260419T164905
CREATED:20260330T102301Z
LAST-MODIFIED:20260330T102301Z
UID:10036950-1777993200-1777998600@kalenteri.niemikoti.fi
SUMMARY:"Median metkut" -mediapaja
DESCRIPTION:Tehdään ja opitaan yhdessä; medialukutaito\, videokuvaus\, ääniefektointi\, visuaalinen tarinankerronta\, ideat näkyväksi…
URL:https://kalenteri.niemikoti.fi/en/tapahtuma/median-metkut-mediapaja/2026-05-05/
CATEGORIES:Kulttuuripaja ELVIS
END:VEVENT
BEGIN:VEVENT
DTSTART;TZID=Europe/Helsinki:20260506T110000
DTEND;TZID=Europe/Helsinki:20260506T130000
DTSTAMP:20260419T164905
CREATED:20260330T084413Z
LAST-MODIFIED:20260330T084413Z
UID:10036897-1778065200-1778072400@kalenteri.niemikoti.fi
SUMMARY:Pleikkapelit
DESCRIPTION:Playstation 4 -peliryhmä ELVIKSEN kävijöille.
URL:https://kalenteri.niemikoti.fi/en/tapahtuma/pleikkapelit-4/2026-05-06/
LOCATION:Kulttuuripaja ELVIS\, Lautatarhankatu 4\, Helsinki\, 00580\, Finland
CATEGORIES:Kulttuuripaja ELVIS
END:VEVENT
BEGIN:VEVENT
DTSTART;TZID=Europe/Helsinki:20260506T143000
DTEND;TZID=Europe/Helsinki:20260506T170000
DTSTAMP:20260419T164905
CREATED:20260330T093917Z
LAST-MODIFIED:20260330T093917Z
UID:10036910-1778077800-1778086800@kalenteri.niemikoti.fi
SUMMARY:Kässä&kuvis
DESCRIPTION:Kässää ja kuvista vaihtuvin teemoin.
URL:https://kalenteri.niemikoti.fi/en/tapahtuma/kassakuvis/2026-05-06/
CATEGORIES:Kulttuuripaja ELVIS
END:VEVENT
BEGIN:VEVENT
DTSTART;TZID=Europe/Helsinki:20260511T140000
DTEND;TZID=Europe/Helsinki:20260511T160000
DTSTAMP:20260419T164905
CREATED:20260330T125833Z
LAST-MODIFIED:20260330T125833Z
UID:10036972-1778508000-1778515200@kalenteri.niemikoti.fi
SUMMARY:Hygge
DESCRIPTION:Rentoa vapaamuotoista yhdessäoloa. Teetä tarjolla.
URL:https://kalenteri.niemikoti.fi/en/tapahtuma/hygge-2/2026-05-11/
CATEGORIES:Kulttuuripaja ELVIS
END:VEVENT
BEGIN:VEVENT
DTSTART;TZID=Europe/Helsinki:20260511T153000
DTEND;TZID=Europe/Helsinki:20260511T180000
DTSTAMP:20260419T164905
CREATED:20260330T104238Z
LAST-MODIFIED:20260330T104238Z
UID:10036959-1778513400-1778522400@kalenteri.niemikoti.fi
SUMMARY:Avoin bändi
DESCRIPTION:Tervetuloa soittamaan tai kuuntelemaan.
URL:https://kalenteri.niemikoti.fi/en/tapahtuma/avoin-bandi-2/2026-05-11/
CATEGORIES:Kulttuuripaja ELVIS
END:VEVENT
BEGIN:VEVENT
DTSTART;TZID=Europe/Helsinki:20260512T110000
DTEND;TZID=Europe/Helsinki:20260512T114500
DTSTAMP:20260419T164905
CREATED:20260330T094929Z
LAST-MODIFIED:20260330T094943Z
UID:10036919-1778583600-1778586300@kalenteri.niemikoti.fi
SUMMARY:Asahi&Chi Kung
DESCRIPTION:Rauhallista terveysliikuntaa. Liikkeet tehdään seisten.
URL:https://kalenteri.niemikoti.fi/en/tapahtuma/asahichi-kung/2026-05-12/
CATEGORIES:Kulttuuripaja ELVIS
END:VEVENT
BEGIN:VEVENT
DTSTART;TZID=Europe/Helsinki:20260512T120000
DTEND;TZID=Europe/Helsinki:20260512T150000
DTSTAMP:20260419T164905
CREATED:20260330T095533Z
LAST-MODIFIED:20260330T095533Z
UID:10036935-1778587200-1778598000@kalenteri.niemikoti.fi
SUMMARY:Lauta- ja korttipelit
DESCRIPTION:Porukalla päätetään mitä pelejä pelataan.
URL:https://kalenteri.niemikoti.fi/en/tapahtuma/lauta-ja-korttipelit/2026-05-12/
CATEGORIES:Kulttuuripaja ELVIS
END:VEVENT
BEGIN:VEVENT
DTSTART;TZID=Europe/Helsinki:20260512T150000
DTEND;TZID=Europe/Helsinki:20260512T163000
DTSTAMP:20260419T164905
CREATED:20260330T102301Z
LAST-MODIFIED:20260330T102301Z
UID:10036951-1778598000-1778603400@kalenteri.niemikoti.fi
SUMMARY:"Median metkut" -mediapaja
DESCRIPTION:Tehdään ja opitaan yhdessä; medialukutaito\, videokuvaus\, ääniefektointi\, visuaalinen tarinankerronta\, ideat näkyväksi…
URL:https://kalenteri.niemikoti.fi/en/tapahtuma/median-metkut-mediapaja/2026-05-12/
CATEGORIES:Kulttuuripaja ELVIS
END:VEVENT
BEGIN:VEVENT
DTSTART;TZID=Europe/Helsinki:20260513T110000
DTEND;TZID=Europe/Helsinki:20260513T130000
DTSTAMP:20260419T164905
CREATED:20260330T084413Z
LAST-MODIFIED:20260330T084413Z
UID:10036898-1778670000-1778677200@kalenteri.niemikoti.fi
SUMMARY:Pleikkapelit
DESCRIPTION:Playstation 4 -peliryhmä ELVIKSEN kävijöille.
URL:https://kalenteri.niemikoti.fi/en/tapahtuma/pleikkapelit-4/2026-05-13/
LOCATION:Kulttuuripaja ELVIS\, Lautatarhankatu 4\, Helsinki\, 00580\, Finland
CATEGORIES:Kulttuuripaja ELVIS
END:VEVENT
BEGIN:VEVENT
DTSTART;TZID=Europe/Helsinki:20260513T143000
DTEND;TZID=Europe/Helsinki:20260513T170000
DTSTAMP:20260419T164905
CREATED:20260330T093917Z
LAST-MODIFIED:20260330T093917Z
UID:10036911-1778682600-1778691600@kalenteri.niemikoti.fi
SUMMARY:Kässä&kuvis
DESCRIPTION:Kässää ja kuvista vaihtuvin teemoin.
URL:https://kalenteri.niemikoti.fi/en/tapahtuma/kassakuvis/2026-05-13/
CATEGORIES:Kulttuuripaja ELVIS
END:VEVENT
BEGIN:VEVENT
DTSTART;TZID=Europe/Helsinki:20260518T140000
DTEND;TZID=Europe/Helsinki:20260518T160000
DTSTAMP:20260419T164905
CREATED:20260330T125833Z
LAST-MODIFIED:20260330T125833Z
UID:10036973-1779112800-1779120000@kalenteri.niemikoti.fi
SUMMARY:Hygge
DESCRIPTION:Rentoa vapaamuotoista yhdessäoloa. Teetä tarjolla.
URL:https://kalenteri.niemikoti.fi/en/tapahtuma/hygge-2/2026-05-18/
CATEGORIES:Kulttuuripaja ELVIS
END:VEVENT
BEGIN:VEVENT
DTSTART;TZID=Europe/Helsinki:20260518T153000
DTEND;TZID=Europe/Helsinki:20260518T180000
DTSTAMP:20260419T164905
CREATED:20260330T104238Z
LAST-MODIFIED:20260330T104238Z
UID:10036960-1779118200-1779127200@kalenteri.niemikoti.fi
SUMMARY:Avoin bändi
DESCRIPTION:Tervetuloa soittamaan tai kuuntelemaan.
URL:https://kalenteri.niemikoti.fi/en/tapahtuma/avoin-bandi-2/2026-05-18/
CATEGORIES:Kulttuuripaja ELVIS
END:VEVENT
BEGIN:VEVENT
DTSTART;TZID=Europe/Helsinki:20260519T110000
DTEND;TZID=Europe/Helsinki:20260519T114500
DTSTAMP:20260419T164905
CREATED:20260330T094929Z
LAST-MODIFIED:20260330T094943Z
UID:10036920-1779188400-1779191100@kalenteri.niemikoti.fi
SUMMARY:Asahi&Chi Kung
DESCRIPTION:Rauhallista terveysliikuntaa. Liikkeet tehdään seisten.
URL:https://kalenteri.niemikoti.fi/en/tapahtuma/asahichi-kung/2026-05-19/
CATEGORIES:Kulttuuripaja ELVIS
END:VEVENT
BEGIN:VEVENT
DTSTART;TZID=Europe/Helsinki:20260519T120000
DTEND;TZID=Europe/Helsinki:20260519T150000
DTSTAMP:20260419T164905
CREATED:20260330T095533Z
LAST-MODIFIED:20260330T095533Z
UID:10036936-1779192000-1779202800@kalenteri.niemikoti.fi
SUMMARY:Lauta- ja korttipelit
DESCRIPTION:Porukalla päätetään mitä pelejä pelataan.
URL:https://kalenteri.niemikoti.fi/en/tapahtuma/lauta-ja-korttipelit/2026-05-19/
CATEGORIES:Kulttuuripaja ELVIS
END:VEVENT
BEGIN:VEVENT
DTSTART;TZID=Europe/Helsinki:20260519T150000
DTEND;TZID=Europe/Helsinki:20260519T163000
DTSTAMP:20260419T164905
CREATED:20260330T102301Z
LAST-MODIFIED:20260330T102301Z
UID:10036952-1779202800-1779208200@kalenteri.niemikoti.fi
SUMMARY:"Median metkut" -mediapaja
DESCRIPTION:Tehdään ja opitaan yhdessä; medialukutaito\, videokuvaus\, ääniefektointi\, visuaalinen tarinankerronta\, ideat näkyväksi…
URL:https://kalenteri.niemikoti.fi/en/tapahtuma/median-metkut-mediapaja/2026-05-19/
CATEGORIES:Kulttuuripaja ELVIS
END:VEVENT
BEGIN:VEVENT
DTSTART;TZID=Europe/Helsinki:20260520T110000
DTEND;TZID=Europe/Helsinki:20260520T130000
DTSTAMP:20260419T164905
CREATED:20260330T084413Z
LAST-MODIFIED:20260330T084413Z
UID:10036899-1779274800-1779282000@kalenteri.niemikoti.fi
SUMMARY:Pleikkapelit
DESCRIPTION:Playstation 4 -peliryhmä ELVIKSEN kävijöille.
URL:https://kalenteri.niemikoti.fi/en/tapahtuma/pleikkapelit-4/2026-05-20/
LOCATION:Kulttuuripaja ELVIS\, Lautatarhankatu 4\, Helsinki\, 00580\, Finland
CATEGORIES:Kulttuuripaja ELVIS
END:VEVENT
BEGIN:VEVENT
DTSTART;TZID=Europe/Helsinki:20260520T143000
DTEND;TZID=Europe/Helsinki:20260520T170000
DTSTAMP:20260419T164905
CREATED:20260330T093917Z
LAST-MODIFIED:20260330T093917Z
UID:10036912-1779287400-1779296400@kalenteri.niemikoti.fi
SUMMARY:Kässä&kuvis
DESCRIPTION:Kässää ja kuvista vaihtuvin teemoin.
URL:https://kalenteri.niemikoti.fi/en/tapahtuma/kassakuvis/2026-05-20/
CATEGORIES:Kulttuuripaja ELVIS
END:VEVENT
BEGIN:VEVENT
DTSTART;TZID=Europe/Helsinki:20260525T140000
DTEND;TZID=Europe/Helsinki:20260525T160000
DTSTAMP:20260419T164905
CREATED:20260330T125833Z
LAST-MODIFIED:20260330T125833Z
UID:10036974-1779717600-1779724800@kalenteri.niemikoti.fi
SUMMARY:Hygge
DESCRIPTION:Rentoa vapaamuotoista yhdessäoloa. Teetä tarjolla.
URL:https://kalenteri.niemikoti.fi/en/tapahtuma/hygge-2/2026-05-25/
CATEGORIES:Kulttuuripaja ELVIS
END:VEVENT
BEGIN:VEVENT
DTSTART;TZID=Europe/Helsinki:20260525T153000
DTEND;TZID=Europe/Helsinki:20260525T180000
DTSTAMP:20260419T164905
CREATED:20260330T104238Z
LAST-MODIFIED:20260330T104238Z
UID:10036961-1779723000-1779732000@kalenteri.niemikoti.fi
SUMMARY:Avoin bändi
DESCRIPTION:Tervetuloa soittamaan tai kuuntelemaan.
URL:https://kalenteri.niemikoti.fi/en/tapahtuma/avoin-bandi-2/2026-05-25/
CATEGORIES:Kulttuuripaja ELVIS
END:VEVENT
BEGIN:VEVENT
DTSTART;TZID=Europe/Helsinki:20260526T110000
DTEND;TZID=Europe/Helsinki:20260526T114500
DTSTAMP:20260419T164905
CREATED:20260330T094929Z
LAST-MODIFIED:20260330T094943Z
UID:10036921-1779793200-1779795900@kalenteri.niemikoti.fi
SUMMARY:Asahi&Chi Kung
DESCRIPTION:Rauhallista terveysliikuntaa. Liikkeet tehdään seisten.
URL:https://kalenteri.niemikoti.fi/en/tapahtuma/asahichi-kung/2026-05-26/
CATEGORIES:Kulttuuripaja ELVIS
END:VEVENT
BEGIN:VEVENT
DTSTART;TZID=Europe/Helsinki:20260526T120000
DTEND;TZID=Europe/Helsinki:20260526T150000
DTSTAMP:20260419T164905
CREATED:20260330T095533Z
LAST-MODIFIED:20260330T095533Z
UID:10036937-1779796800-1779807600@kalenteri.niemikoti.fi
SUMMARY:Lauta- ja korttipelit
DESCRIPTION:Porukalla päätetään mitä pelejä pelataan.
URL:https://kalenteri.niemikoti.fi/en/tapahtuma/lauta-ja-korttipelit/2026-05-26/
CATEGORIES:Kulttuuripaja ELVIS
END:VEVENT
BEGIN:VEVENT
DTSTART;TZID=Europe/Helsinki:20260526T150000
DTEND;TZID=Europe/Helsinki:20260526T163000
DTSTAMP:20260419T164905
CREATED:20260330T102301Z
LAST-MODIFIED:20260330T102301Z
UID:10036953-1779807600-1779813000@kalenteri.niemikoti.fi
SUMMARY:"Median metkut" -mediapaja
DESCRIPTION:Tehdään ja opitaan yhdessä; medialukutaito\, videokuvaus\, ääniefektointi\, visuaalinen tarinankerronta\, ideat näkyväksi…
URL:https://kalenteri.niemikoti.fi/en/tapahtuma/median-metkut-mediapaja/2026-05-26/
CATEGORIES:Kulttuuripaja ELVIS
END:VEVENT
BEGIN:VEVENT
DTSTART;TZID=Europe/Helsinki:20260527T110000
DTEND;TZID=Europe/Helsinki:20260527T130000
DTSTAMP:20260419T164905
CREATED:20260330T084413Z
LAST-MODIFIED:20260330T084413Z
UID:10036900-1779879600-1779886800@kalenteri.niemikoti.fi
SUMMARY:Pleikkapelit
DESCRIPTION:Playstation 4 -peliryhmä ELVIKSEN kävijöille.
URL:https://kalenteri.niemikoti.fi/en/tapahtuma/pleikkapelit-4/2026-05-27/
LOCATION:Kulttuuripaja ELVIS\, Lautatarhankatu 4\, Helsinki\, 00580\, Finland
CATEGORIES:Kulttuuripaja ELVIS
END:VEVENT
BEGIN:VEVENT
DTSTART;TZID=Europe/Helsinki:20260527T143000
DTEND;TZID=Europe/Helsinki:20260527T170000
DTSTAMP:20260419T164905
CREATED:20260330T093917Z
LAST-MODIFIED:20260330T093917Z
UID:10036913-1779892200-1779901200@kalenteri.niemikoti.fi
SUMMARY:Kässä&kuvis
DESCRIPTION:Kässää ja kuvista vaihtuvin teemoin.
URL:https://kalenteri.niemikoti.fi/en/tapahtuma/kassakuvis/2026-05-27/
CATEGORIES:Kulttuuripaja ELVIS
END:VEVENT
END:VCALENDAR