BEGIN:VCALENDAR
VERSION:2.0
PRODID:-//Tapahtumakalenteri - ECPv6.15.18//NONSGML v1.0//EN
CALSCALE:GREGORIAN
METHOD:PUBLISH
X-WR-CALNAME:Tapahtumakalenteri
X-ORIGINAL-URL:https://kalenteri.niemikoti.fi/en/
X-WR-CALDESC:Events for Tapahtumakalenteri
REFRESH-INTERVAL;VALUE=DURATION:PT1H
X-Robots-Tag:noindex
X-PUBLISHED-TTL:PT1H
BEGIN:VTIMEZONE
TZID:Europe/Helsinki
BEGIN:DAYLIGHT
TZOFFSETFROM:+0200
TZOFFSETTO:+0300
TZNAME:EEST
DTSTART:20250330T010000
END:DAYLIGHT
BEGIN:STANDARD
TZOFFSETFROM:+0300
TZOFFSETTO:+0200
TZNAME:EET
DTSTART:20251026T010000
END:STANDARD
BEGIN:DAYLIGHT
TZOFFSETFROM:+0200
TZOFFSETTO:+0300
TZNAME:EEST
DTSTART:20260329T010000
END:DAYLIGHT
BEGIN:STANDARD
TZOFFSETFROM:+0300
TZOFFSETTO:+0200
TZNAME:EET
DTSTART:20261025T010000
END:STANDARD
BEGIN:DAYLIGHT
TZOFFSETFROM:+0200
TZOFFSETTO:+0300
TZNAME:EEST
DTSTART:20270328T010000
END:DAYLIGHT
BEGIN:STANDARD
TZOFFSETFROM:+0300
TZOFFSETTO:+0200
TZNAME:EET
DTSTART:20271031T010000
END:STANDARD
END:VTIMEZONE
BEGIN:VEVENT
DTSTART;TZID=Europe/Helsinki:20260512T110000
DTEND;TZID=Europe/Helsinki:20260512T114500
DTSTAMP:20260421T045708
CREATED:20260330T094929Z
LAST-MODIFIED:20260330T094943Z
UID:10036919-1778583600-1778586300@kalenteri.niemikoti.fi
SUMMARY:Asahi&Chi Kung
DESCRIPTION:Rauhallista terveysliikuntaa. Liikkeet tehdään seisten.
URL:https://kalenteri.niemikoti.fi/en/tapahtuma/asahichi-kung/2026-05-12/
CATEGORIES:Kulttuuripaja ELVIS
END:VEVENT
BEGIN:VEVENT
DTSTART;TZID=Europe/Helsinki:20260512T120000
DTEND;TZID=Europe/Helsinki:20260512T150000
DTSTAMP:20260421T045708
CREATED:20260330T095533Z
LAST-MODIFIED:20260330T095533Z
UID:10036935-1778587200-1778598000@kalenteri.niemikoti.fi
SUMMARY:Lauta- ja korttipelit
DESCRIPTION:Porukalla päätetään mitä pelejä pelataan.
URL:https://kalenteri.niemikoti.fi/en/tapahtuma/lauta-ja-korttipelit/2026-05-12/
CATEGORIES:Kulttuuripaja ELVIS
END:VEVENT
BEGIN:VEVENT
DTSTART;TZID=Europe/Helsinki:20260512T150000
DTEND;TZID=Europe/Helsinki:20260512T163000
DTSTAMP:20260421T045708
CREATED:20260330T102301Z
LAST-MODIFIED:20260330T102301Z
UID:10036951-1778598000-1778603400@kalenteri.niemikoti.fi
SUMMARY:"Median metkut" -mediapaja
DESCRIPTION:Tehdään ja opitaan yhdessä; medialukutaito\, videokuvaus\, ääniefektointi\, visuaalinen tarinankerronta\, ideat näkyväksi…
URL:https://kalenteri.niemikoti.fi/en/tapahtuma/median-metkut-mediapaja/2026-05-12/
CATEGORIES:Kulttuuripaja ELVIS
END:VEVENT
END:VCALENDAR