BEGIN:VCALENDAR
VERSION:2.0
PRODID:-//Tapahtumakalenteri - ECPv6.15.18//NONSGML v1.0//EN
CALSCALE:GREGORIAN
METHOD:PUBLISH
X-ORIGINAL-URL:https://kalenteri.niemikoti.fi/en/
X-WR-CALDESC:Events for Tapahtumakalenteri
REFRESH-INTERVAL;VALUE=DURATION:PT1H
X-Robots-Tag:noindex
X-PUBLISHED-TTL:PT1H
BEGIN:VTIMEZONE
TZID:Europe/Helsinki
BEGIN:DAYLIGHT
TZOFFSETFROM:+0200
TZOFFSETTO:+0300
TZNAME:EEST
DTSTART:20240331T010000
END:DAYLIGHT
BEGIN:STANDARD
TZOFFSETFROM:+0300
TZOFFSETTO:+0200
TZNAME:EET
DTSTART:20241027T010000
END:STANDARD
BEGIN:DAYLIGHT
TZOFFSETFROM:+0200
TZOFFSETTO:+0300
TZNAME:EEST
DTSTART:20250330T010000
END:DAYLIGHT
BEGIN:STANDARD
TZOFFSETFROM:+0300
TZOFFSETTO:+0200
TZNAME:EET
DTSTART:20251026T010000
END:STANDARD
BEGIN:DAYLIGHT
TZOFFSETFROM:+0200
TZOFFSETTO:+0300
TZNAME:EEST
DTSTART:20260329T010000
END:DAYLIGHT
BEGIN:STANDARD
TZOFFSETFROM:+0300
TZOFFSETTO:+0200
TZNAME:EET
DTSTART:20261025T010000
END:STANDARD
END:VTIMEZONE
BEGIN:VEVENT
DTSTART;VALUE=DATE:20251211
DTEND;VALUE=DATE:20251212
DTSTAMP:20260421T151222
CREATED:20251103T132509Z
LAST-MODIFIED:20251217T071041Z
UID:10025078-1765411200-1765497599@kalenteri.niemikoti.fi
SUMMARY:Malmin pakohuone
DESCRIPTION:Tule Malmin pakohuoneeseen ratkomaan arvoituksia ja auta matkallaan eksynyt Jemi kotiin! Kesto noin 45min\, max. 5 hengen ryhmät. \nLisätiedot ja ajanvaraukset ohjaajilta. \n 
URL:https://kalenteri.niemikoti.fi/en/tapahtuma/malmin-pakohuone/2025-12-11/
LOCATION:Malmin päivätoimintakeskus\, Vanha Helsingintie 9\, Helsinki\, 00700\, Finland
CATEGORIES:Malmin päivätoimintakeskus
ATTACH;FMTTYPE=image/jpeg:https://kalenteri.niemikoti.fi/wp-content/uploads/2025/11/Pakohuoneen-mainos.jpg
END:VEVENT
BEGIN:VEVENT
DTSTART;TZID=Europe/Helsinki:20251211T110000
DTEND;TZID=Europe/Helsinki:20251211T120000
DTSTAMP:20260421T151222
CREATED:20250930T093937Z
LAST-MODIFIED:20250930T093937Z
UID:10024895-1765450800-1765454400@kalenteri.niemikoti.fi
SUMMARY:Rento jooga
DESCRIPTION:Lempeää ja helppoa venyttelyä sekä rentoutusta. \nTäydentyvä ryhmä\, ilmoittaudu mukaan!
URL:https://kalenteri.niemikoti.fi/en/tapahtuma/rento-jooga-3/2025-12-11/
LOCATION:Malmin päivätoimintakeskus\, Vanha Helsingintie 9\, Helsinki\, 00700\, Finland
CATEGORIES:Malmin päivätoimintakeskus
ATTACH;FMTTYPE=image/jpeg:https://kalenteri.niemikoti.fi/wp-content/uploads/2025/09/Jooga.jpg
END:VEVENT
BEGIN:VEVENT
DTSTART;TZID=Europe/Helsinki:20251211T130000
DTEND;TZID=Europe/Helsinki:20251211T143000
DTSTAMP:20260421T151222
CREATED:20250930T101100Z
LAST-MODIFIED:20250930T101100Z
UID:10024924-1765458000-1765463400@kalenteri.niemikoti.fi
SUMMARY:Jamibändi
DESCRIPTION:Jamibändissä vapaata bändisoittoa. Bänditilassa mikrofoneja\, rummut\, sähkökitara\, basso ja koskettimet. \n2.10. ryhmä poikkeuksellisesti klo 13:30-15. \nKaikille avoin\, ei ilmoittautumista.
URL:https://kalenteri.niemikoti.fi/en/tapahtuma/jamibandi-2/2025-12-11/
LOCATION:Malmin päivätoimintakeskus\, Vanha Helsingintie 9\, Helsinki\, 00700\, Finland
CATEGORIES:Malmin päivätoimintakeskus
ATTACH;FMTTYPE=image/jpeg:https://kalenteri.niemikoti.fi/wp-content/uploads/2025/09/Jamibandi-1.jpg
END:VEVENT
BEGIN:VEVENT
DTSTART;TZID=Europe/Helsinki:20251211T153000
DTEND;TZID=Europe/Helsinki:20251211T170000
DTSTAMP:20260421T151222
CREATED:20250902T091209Z
LAST-MODIFIED:20250902T091209Z
UID:10024809-1765467000-1765472400@kalenteri.niemikoti.fi
SUMMARY:Rhythm machine (Malmin bändi)
DESCRIPTION:Bändissä on vakiintunut kokoonpano. Lisätietoja bändistä voi kysyä ohjaajilta.
URL:https://kalenteri.niemikoti.fi/en/tapahtuma/rhythm-machine-malmin-bandi-3/2025-12-11/
LOCATION:Malmin päivätoimintakeskus\, Vanha Helsingintie 9\, Helsinki\, 00700\, Finland
CATEGORIES:Malmin päivätoimintakeskus
END:VEVENT
END:VCALENDAR