BEGIN:VCALENDAR
VERSION:2.0
PRODID:-//Tapahtumakalenteri - ECPv6.15.18//NONSGML v1.0//EN
CALSCALE:GREGORIAN
METHOD:PUBLISH
X-ORIGINAL-URL:https://kalenteri.niemikoti.fi/en/
X-WR-CALDESC:Events for Tapahtumakalenteri
REFRESH-INTERVAL;VALUE=DURATION:PT1H
X-Robots-Tag:noindex
X-PUBLISHED-TTL:PT1H
BEGIN:VTIMEZONE
TZID:Europe/Helsinki
BEGIN:DAYLIGHT
TZOFFSETFROM:+0200
TZOFFSETTO:+0300
TZNAME:EEST
DTSTART:20240331T010000
END:DAYLIGHT
BEGIN:STANDARD
TZOFFSETFROM:+0300
TZOFFSETTO:+0200
TZNAME:EET
DTSTART:20241027T010000
END:STANDARD
BEGIN:DAYLIGHT
TZOFFSETFROM:+0200
TZOFFSETTO:+0300
TZNAME:EEST
DTSTART:20250330T010000
END:DAYLIGHT
BEGIN:STANDARD
TZOFFSETFROM:+0300
TZOFFSETTO:+0200
TZNAME:EET
DTSTART:20251026T010000
END:STANDARD
BEGIN:DAYLIGHT
TZOFFSETFROM:+0200
TZOFFSETTO:+0300
TZNAME:EEST
DTSTART:20260329T010000
END:DAYLIGHT
BEGIN:STANDARD
TZOFFSETFROM:+0300
TZOFFSETTO:+0200
TZNAME:EET
DTSTART:20261025T010000
END:STANDARD
END:VTIMEZONE
BEGIN:VEVENT
DTSTART;VALUE=DATE:20251212
DTEND;VALUE=DATE:20251213
DTSTAMP:20260421T151220
CREATED:20251103T132509Z
LAST-MODIFIED:20251217T071041Z
UID:10025079-1765497600-1765583999@kalenteri.niemikoti.fi
SUMMARY:Malmin pakohuone
DESCRIPTION:Tule Malmin pakohuoneeseen ratkomaan arvoituksia ja auta matkallaan eksynyt Jemi kotiin! Kesto noin 45min\, max. 5 hengen ryhmät. \nLisätiedot ja ajanvaraukset ohjaajilta. \n 
URL:https://kalenteri.niemikoti.fi/en/tapahtuma/malmin-pakohuone/2025-12-12/
LOCATION:Malmin päivätoimintakeskus\, Vanha Helsingintie 9\, Helsinki\, 00700\, Finland
CATEGORIES:Malmin päivätoimintakeskus
ATTACH;FMTTYPE=image/jpeg:https://kalenteri.niemikoti.fi/wp-content/uploads/2025/11/Pakohuoneen-mainos.jpg
END:VEVENT
BEGIN:VEVENT
DTSTART;TZID=Europe/Helsinki:20251212T090000
DTEND;TZID=Europe/Helsinki:20251212T100000
DTSTAMP:20260421T151220
CREATED:20250810T183356Z
LAST-MODIFIED:20250811T005052Z
UID:10023693-1765530000-1765533600@kalenteri.niemikoti.fi
SUMMARY:Yhteisön aamiainen
DESCRIPTION:Aamiainen yhteisöpäivän kävijöille. Aamiainen sisältää puuroa\, leipää ja leivänpäällisiä\, kahvia tai teetä sekä mehua. Aamiaisen hinta on 1\,50€.
URL:https://kalenteri.niemikoti.fi/en/tapahtuma/yhteison-aamiainen-2/2025-12-12/
LOCATION:Malmin päivätoimintakeskus\, Vanha Helsingintie 9\, Helsinki\, 00700\, Finland
CATEGORIES:Malmin päivätoimintakeskus
END:VEVENT
BEGIN:VEVENT
DTSTART;TZID=Europe/Helsinki:20251212T090000
DTEND;TZID=Europe/Helsinki:20251212T130000
DTSTAMP:20260421T151220
CREATED:20250810T183125Z
LAST-MODIFIED:20250811T004733Z
UID:10023409-1765530000-1765544400@kalenteri.niemikoti.fi
SUMMARY:Yhteisöpäivä
DESCRIPTION:Yhteisöpäivä klo 9-13 Malmin päivätoimintakeskuksessa. Ilmoittaudu mukaan! \nYhteisöpäivän ohjelma: \nKlo 9.00 Aamiainen \nKlo 10.00 Aamukokous \nKlo 10.30 Talon työt \nKlo 11.00 Toiminnallinen ryhmä \nKlo 12.00 Lounas
URL:https://kalenteri.niemikoti.fi/en/tapahtuma/yhteisopaiva-2/2025-12-12/
LOCATION:Malmin päivätoimintakeskus\, Vanha Helsingintie 9\, Helsinki\, 00700\, Finland
CATEGORIES:Malmin päivätoimintakeskus
END:VEVENT
BEGIN:VEVENT
DTSTART;TZID=Europe/Helsinki:20251212T100000
DTEND;TZID=Europe/Helsinki:20251212T103000
DTSTAMP:20260421T151220
CREATED:20250810T183649Z
LAST-MODIFIED:20250902T090521Z
UID:10023977-1765533600-1765535400@kalenteri.niemikoti.fi
SUMMARY:Yhteisöpäivän aamukokous
DESCRIPTION:Yhteisöpäivän aamukokouksessa tutustutaan yhdessä päivän ohjelmaan sekä tuleviin tapahtumiin ja käydään kuulumiskierros.
URL:https://kalenteri.niemikoti.fi/en/tapahtuma/yhteisopaivan-aamukokous-5/2025-12-12/
LOCATION:Malmin päivätoimintakeskus\, Vanha Helsingintie 9\, Helsinki\, 00700\, Finland
CATEGORIES:Malmin päivätoimintakeskus
END:VEVENT
BEGIN:VEVENT
DTSTART;TZID=Europe/Helsinki:20251212T100000
DTEND;TZID=Europe/Helsinki:20251212T120000
DTSTAMP:20260421T151220
CREATED:20251202T061007Z
LAST-MODIFIED:20251202T061316Z
UID:10025638-1765533600-1765540800@kalenteri.niemikoti.fi
SUMMARY:Joululahjapaja Malmilla
DESCRIPTION:Tehdään Annan ohjaamana luontaiskosmetiikkaa – huulirasvaa ja muitakin erilaisia voiteita. Käytetään öljyjä\, mehiläisvahaa ja kaakaovoita. Kaikki tämä ekologisesti ja ilmaiseksi\, itselle tai lhjaksi. \nTervetuloa mukaan!\nIlmoittaudu malmi@niemikoti.fi tai 050 404 0025 tai 050 404 0026. \njoululahjapaja2025.v1
URL:https://kalenteri.niemikoti.fi/en/tapahtuma/joululahjapaja-malmilla/
LOCATION:Malmin päivätoimintakeskus\, Vanha Helsingintie 9\, Helsinki\, 00700\, Finland
CATEGORIES:Malmin päivätoimintakeskus
END:VEVENT
BEGIN:VEVENT
DTSTART;TZID=Europe/Helsinki:20251212T103000
DTEND;TZID=Europe/Helsinki:20251212T110000
DTSTAMP:20260421T151220
CREATED:20250810T184113Z
LAST-MODIFIED:20250902T085538Z
UID:10024053-1765535400-1765537200@kalenteri.niemikoti.fi
SUMMARY:Talon töitä
DESCRIPTION:Tehdään yhdessä yhteisön yhteisiä talon töitä esimerkiksi ruuanlaitossa avustaminen\, tiskikoneen tyhjennys\, viherkasvien kastelu ja pyykkien pesu\, ripustus ja viikkaaminen. Syksyllä haravointia\, talvella lumitöitä\, keväällä ja kesällä istutusten huoltoa ja kastelua.
URL:https://kalenteri.niemikoti.fi/en/tapahtuma/talon-toita-6/2025-12-12/
LOCATION:Malmin päivätoimintakeskus\, Vanha Helsingintie 9\, Helsinki\, 00700\, Finland
CATEGORIES:Malmin päivätoimintakeskus
END:VEVENT
BEGIN:VEVENT
DTSTART;TZID=Europe/Helsinki:20251212T110000
DTEND;TZID=Europe/Helsinki:20251212T120000
DTSTAMP:20260421T151220
CREATED:20250930T100310Z
LAST-MODIFIED:20251202T181031Z
UID:10025647-1765537200-1765540800@kalenteri.niemikoti.fi
SUMMARY:Zumba
DESCRIPTION:Letkeää tanssillista jumppaa rytmikkään musiikin tahdissa. \nUusille tilaa\, ilmoittaudu mukaan.
URL:https://kalenteri.niemikoti.fi/en/tapahtuma/zumba/2025-12-12/
LOCATION:Malmin päivätoimintakeskus\, Vanha Helsingintie 9\, Helsinki\, 00700\, Finland
CATEGORIES:Malmin päivätoimintakeskus
ATTACH;FMTTYPE=image/jpeg:https://kalenteri.niemikoti.fi/wp-content/uploads/2025/09/Zumba.jpg
END:VEVENT
BEGIN:VEVENT
DTSTART;TZID=Europe/Helsinki:20251212T120000
DTEND;TZID=Europe/Helsinki:20251212T130000
DTSTAMP:20260421T151220
CREATED:20250811T003503Z
LAST-MODIFIED:20250902T085611Z
UID:10024287-1765540800-1765544400@kalenteri.niemikoti.fi
SUMMARY:Yhteisön lounas
DESCRIPTION:Lounas yhteisöpäivän kävijöille. Lounaaseen sisältyy arkiruokaa\, salaatti ja kahvi sekä kahvileipä. Lounaan hinta on 3\,50€.
URL:https://kalenteri.niemikoti.fi/en/tapahtuma/yhteison-lounas-2/2025-12-12/
LOCATION:Malmin päivätoimintakeskus\, Vanha Helsingintie 9\, Helsinki\, 00700\, Finland
CATEGORIES:Malmin päivätoimintakeskus
END:VEVENT
BEGIN:VEVENT
DTSTART;TZID=Europe/Helsinki:20251212T130000
DTEND;TZID=Europe/Helsinki:20251212T140000
DTSTAMP:20260421T151220
CREATED:20250811T004315Z
LAST-MODIFIED:20250902T090432Z
UID:10024328-1765544400-1765548000@kalenteri.niemikoti.fi
SUMMARY:Soittoryhmä
DESCRIPTION:Tutustutaan yhdessä pianon\, kitaran ja ukulelen soiton alkeisiin ja soitetaan helppoja kappaleita. \nMax. 6 osallistujaa\, ilmoittaudu mukaan!
URL:https://kalenteri.niemikoti.fi/en/tapahtuma/soittoryhma-6/2025-12-12/
LOCATION:Malmin päivätoimintakeskus\, Vanha Helsingintie 9\, Helsinki\, 00700\, Finland
CATEGORIES:Malmin päivätoimintakeskus
ATTACH;FMTTYPE=image/jpeg:https://kalenteri.niemikoti.fi/wp-content/uploads/2025/08/Soittoryhma.jpg
END:VEVENT
END:VCALENDAR