BEGIN:VCALENDAR
VERSION:2.0
PRODID:-//Tapahtumakalenteri - ECPv6.15.18//NONSGML v1.0//EN
CALSCALE:GREGORIAN
METHOD:PUBLISH
X-ORIGINAL-URL:https://kalenteri.niemikoti.fi/en/
X-WR-CALDESC:Events for Tapahtumakalenteri
REFRESH-INTERVAL;VALUE=DURATION:PT1H
X-Robots-Tag:noindex
X-PUBLISHED-TTL:PT1H
BEGIN:VTIMEZONE
TZID:Europe/Helsinki
BEGIN:DAYLIGHT
TZOFFSETFROM:+0200
TZOFFSETTO:+0300
TZNAME:EEST
DTSTART:20250330T010000
END:DAYLIGHT
BEGIN:STANDARD
TZOFFSETFROM:+0300
TZOFFSETTO:+0200
TZNAME:EET
DTSTART:20251026T010000
END:STANDARD
BEGIN:DAYLIGHT
TZOFFSETFROM:+0200
TZOFFSETTO:+0300
TZNAME:EEST
DTSTART:20260329T010000
END:DAYLIGHT
BEGIN:STANDARD
TZOFFSETFROM:+0300
TZOFFSETTO:+0200
TZNAME:EET
DTSTART:20261025T010000
END:STANDARD
BEGIN:DAYLIGHT
TZOFFSETFROM:+0200
TZOFFSETTO:+0300
TZNAME:EEST
DTSTART:20270328T010000
END:DAYLIGHT
BEGIN:STANDARD
TZOFFSETFROM:+0300
TZOFFSETTO:+0200
TZNAME:EET
DTSTART:20271031T010000
END:STANDARD
END:VTIMEZONE
BEGIN:VEVENT
DTSTART;TZID=Europe/Helsinki:20260223T100000
DTEND;TZID=Europe/Helsinki:20260223T103000
DTSTAMP:20260421T045809
CREATED:20260112T105633Z
LAST-MODIFIED:20260303T072458Z
UID:10026129-1771840800-1771842600@kalenteri.niemikoti.fi
SUMMARY:Aamukokous Malmilla
DESCRIPTION:Kokoonnutaan yhteen vaihtamaan kuulumisia ja keskustellaan päivän ohjelmasta.
URL:https://kalenteri.niemikoti.fi/en/tapahtuma/aamukokous-malmilla/2026-02-23/
LOCATION:Malmin päivätoimintakeskus\, Vanha Helsingintie 9\, Helsinki\, 00700\, Finland
CATEGORIES:Malmin päivätoimintakeskus
END:VEVENT
BEGIN:VEVENT
DTSTART;TZID=Europe/Helsinki:20260223T103000
DTEND;TZID=Europe/Helsinki:20260223T110000
DTSTAMP:20260421T045809
CREATED:20260112T111935Z
LAST-MODIFIED:20260410T061604Z
UID:10030989-1771842600-1771844400@kalenteri.niemikoti.fi
SUMMARY:Talon töitä Malmilla
DESCRIPTION:Pidetään yhdessä huolta yhteisistä tiloista ja tiluksista. Osallistua voi omien voimavarojen mukaan.
URL:https://kalenteri.niemikoti.fi/en/tapahtuma/talon-toita-7/2026-02-23/
LOCATION:Malmin päivätoimintakeskus\, Vanha Helsingintie 9\, Helsinki\, 00700\, Finland
CATEGORIES:Malmin päivätoimintakeskus
END:VEVENT
BEGIN:VEVENT
DTSTART;TZID=Europe/Helsinki:20260223T110000
DTEND;TZID=Europe/Helsinki:20260223T120000
DTSTAMP:20260421T045809
CREATED:20260126T112617Z
LAST-MODIFIED:20260304T132032Z
UID:10031813-1771844400-1771848000@kalenteri.niemikoti.fi
SUMMARY:Sanapaja
DESCRIPTION:Ryhmässä tehdään luovia kirjoitusharjoituksia kuten lyhyitä tarinoita ja runoja. \nTäydentyvä ryhmä\, ilmoittaudu mukaan!
URL:https://kalenteri.niemikoti.fi/en/tapahtuma/sanapaja-malmilla-3/2026-02-23/
LOCATION:Malmin päivätoimintakeskus\, Vanha Helsingintie 9\, Helsinki\, 00700\, Finland
CATEGORIES:Malmin päivätoimintakeskus
ATTACH;FMTTYPE=image/jpeg:https://kalenteri.niemikoti.fi/wp-content/uploads/2026/01/Sanapaja.jpg
END:VEVENT
BEGIN:VEVENT
DTSTART;TZID=Europe/Helsinki:20260223T123000
DTEND;TZID=Europe/Helsinki:20260223T160000
DTSTAMP:20260421T045809
CREATED:20260126T113821Z
LAST-MODIFIED:20260302T071058Z
UID:10032072-1771849800-1771862400@kalenteri.niemikoti.fi
SUMMARY:Retkiryhmä (Malmi)
DESCRIPTION:Täydentyvä ryhmä\, ilmoittaudu mukaan! Yhteislähtö retkille on Malmin päivätoimintakeskukselta klo: 12.30. Sovitusti voidaan tavata retkeläisiä myös matkan varrella tai paikan päällä. \n9.2. Itäkeskuksen Kierrätyskeskus ja SPR Kontti \n16.2. Amos Rex \n23.2. Tennispalatsi\, elokuva valitaan äänestyksellä joka on auki päivätoimintakeskuksessa!
URL:https://kalenteri.niemikoti.fi/en/tapahtuma/retkiryhma-malmi/2026-02-23/
LOCATION:Malmin päivätoimintakeskus\, Vanha Helsingintie 9\, Helsinki\, 00700\, Finland
CATEGORIES:Malmin päivätoimintakeskus
END:VEVENT
BEGIN:VEVENT
DTSTART;TZID=Europe/Helsinki:20260224T100000
DTEND;TZID=Europe/Helsinki:20260224T103000
DTSTAMP:20260421T045809
CREATED:20260112T105633Z
LAST-MODIFIED:20260303T072458Z
UID:10026130-1771927200-1771929000@kalenteri.niemikoti.fi
SUMMARY:Aamukokous Malmilla
DESCRIPTION:Kokoonnutaan yhteen vaihtamaan kuulumisia ja keskustellaan päivän ohjelmasta.
URL:https://kalenteri.niemikoti.fi/en/tapahtuma/aamukokous-malmilla/2026-02-24/
LOCATION:Malmin päivätoimintakeskus\, Vanha Helsingintie 9\, Helsinki\, 00700\, Finland
CATEGORIES:Malmin päivätoimintakeskus
END:VEVENT
BEGIN:VEVENT
DTSTART;TZID=Europe/Helsinki:20260224T103000
DTEND;TZID=Europe/Helsinki:20260224T110000
DTSTAMP:20260421T045809
CREATED:20260112T111935Z
LAST-MODIFIED:20260410T061604Z
UID:10030990-1771929000-1771930800@kalenteri.niemikoti.fi
SUMMARY:Talon töitä Malmilla
DESCRIPTION:Pidetään yhdessä huolta yhteisistä tiloista ja tiluksista. Osallistua voi omien voimavarojen mukaan.
URL:https://kalenteri.niemikoti.fi/en/tapahtuma/talon-toita-7/2026-02-24/
LOCATION:Malmin päivätoimintakeskus\, Vanha Helsingintie 9\, Helsinki\, 00700\, Finland
CATEGORIES:Malmin päivätoimintakeskus
END:VEVENT
BEGIN:VEVENT
DTSTART;TZID=Europe/Helsinki:20260224T110000
DTEND;TZID=Europe/Helsinki:20260224T120000
DTSTAMP:20260421T045809
CREATED:20260126T114459Z
LAST-MODIFIED:20260126T114459Z
UID:10032130-1771930800-1771934400@kalenteri.niemikoti.fi
SUMMARY:Luonto & liikunta -kävelyryhmä Malmilla
DESCRIPTION:Uusille tilaa\, ilmoittaudu mukaan! Kaksi ryhmää tarpeen mukaan\, tehdään sekä pidempi että lyhyempi kävelylenkki.
URL:https://kalenteri.niemikoti.fi/en/tapahtuma/luonto-liikunta-kavelyryhma-malmilla-3/2026-02-24/
LOCATION:Malmin päivätoimintakeskus\, Vanha Helsingintie 9\, Helsinki\, 00700\, Finland
CATEGORIES:Malmin päivätoimintakeskus
END:VEVENT
BEGIN:VEVENT
DTSTART;TZID=Europe/Helsinki:20260224T130000
DTEND;TZID=Europe/Helsinki:20260224T143000
DTSTAMP:20260421T045809
CREATED:20260112T114328Z
LAST-MODIFIED:20260303T072740Z
UID:10027038-1771938000-1771943400@kalenteri.niemikoti.fi
SUMMARY:DJ-paja Malmilla
DESCRIPTION:Niemikotisäätiöläisille avoin yhteisoppimiseen perustuva DJ-paja. Omaa musiikkia saa tuoda mukaan muistitikuilla. Enintään 6 osallistujaa/kerta. Ilmoittaudu mukaan! \nHuom! Ei ryhmää 3.2.
URL:https://kalenteri.niemikoti.fi/en/tapahtuma/dj-paja-malmilla/2026-02-24/
LOCATION:Malmin päivätoimintakeskus\, Vanha Helsingintie 9\, Helsinki\, 00700\, Finland
CATEGORIES:Malmin päivätoimintakeskus
END:VEVENT
BEGIN:VEVENT
DTSTART;TZID=Europe/Helsinki:20260224T130000
DTEND;TZID=Europe/Helsinki:20260224T153000
DTSTAMP:20260421T045809
CREATED:20260112T134809Z
LAST-MODIFIED:20260410T070218Z
UID:10037083-1771938000-1771947000@kalenteri.niemikoti.fi
SUMMARY:JV:n bändi Malmilla
DESCRIPTION:Bändi harjoittelee oman ohjaajan kanssa.
URL:https://kalenteri.niemikoti.fi/en/tapahtuma/jvn-bandi-malmilla/2026-02-24/
LOCATION:Malmin päivätoimintakeskus\, Vanha Helsingintie 9\, Helsinki\, 00700\, Finland
CATEGORIES:Malmin päivätoimintakeskus
END:VEVENT
BEGIN:VEVENT
DTSTART;TZID=Europe/Helsinki:20260225T100000
DTEND;TZID=Europe/Helsinki:20260225T103000
DTSTAMP:20260421T045809
CREATED:20260112T105633Z
LAST-MODIFIED:20260303T072458Z
UID:10026131-1772013600-1772015400@kalenteri.niemikoti.fi
SUMMARY:Aamukokous Malmilla
DESCRIPTION:Kokoonnutaan yhteen vaihtamaan kuulumisia ja keskustellaan päivän ohjelmasta.
URL:https://kalenteri.niemikoti.fi/en/tapahtuma/aamukokous-malmilla/2026-02-25/
LOCATION:Malmin päivätoimintakeskus\, Vanha Helsingintie 9\, Helsinki\, 00700\, Finland
CATEGORIES:Malmin päivätoimintakeskus
END:VEVENT
BEGIN:VEVENT
DTSTART;TZID=Europe/Helsinki:20260225T103000
DTEND;TZID=Europe/Helsinki:20260225T110000
DTSTAMP:20260421T045809
CREATED:20260112T111935Z
LAST-MODIFIED:20260410T061604Z
UID:10030991-1772015400-1772017200@kalenteri.niemikoti.fi
SUMMARY:Talon töitä Malmilla
DESCRIPTION:Pidetään yhdessä huolta yhteisistä tiloista ja tiluksista. Osallistua voi omien voimavarojen mukaan.
URL:https://kalenteri.niemikoti.fi/en/tapahtuma/talon-toita-7/2026-02-25/
LOCATION:Malmin päivätoimintakeskus\, Vanha Helsingintie 9\, Helsinki\, 00700\, Finland
CATEGORIES:Malmin päivätoimintakeskus
END:VEVENT
BEGIN:VEVENT
DTSTART;TZID=Europe/Helsinki:20260225T110000
DTEND;TZID=Europe/Helsinki:20260225T120000
DTSTAMP:20260421T045809
CREATED:20260126T120107Z
LAST-MODIFIED:20260410T062215Z
UID:10032392-1772017200-1772020800@kalenteri.niemikoti.fi
SUMMARY:Siemenestä syötäväksi -hyötypuutarharyhmä
DESCRIPTION:Taimien kasvatusta\, hyötykasvitietoutta ja Malmin lavakauluspuutarhan hoitoa kokemusasiantuntijan kanssa. Täydentyvä ryhmä\, ilmoittaudu mukaan!
URL:https://kalenteri.niemikoti.fi/en/tapahtuma/caffetteria-italiana-malmilla/2026-02-25/
LOCATION:Malmin päivätoimintakeskus\, Vanha Helsingintie 9\, Helsinki\, 00700\, Finland
CATEGORIES:Malmin päivätoimintakeskus
ATTACH;FMTTYPE=image/jpeg:https://kalenteri.niemikoti.fi/wp-content/uploads/2026/01/Siemenesta-syotavaksi-hyotypuutarharyhma-1.jpg
END:VEVENT
BEGIN:VEVENT
DTSTART;TZID=Europe/Helsinki:20260225T130000
DTEND;TZID=Europe/Helsinki:20260225T143000
DTSTAMP:20260421T045809
CREATED:20260112T131042Z
LAST-MODIFIED:20260303T072919Z
UID:10027616-1772024400-1772029800@kalenteri.niemikoti.fi
SUMMARY:Väriä elämään Malmilla
DESCRIPTION:Visuaalista taidetta vaihtuvin teemoin ja tekniikoin. Enintään 8 osallistujaa kerralla. Ilmoittaudu mukaan!
URL:https://kalenteri.niemikoti.fi/en/tapahtuma/varia-elamaan-malmilla/2026-02-25/
LOCATION:Malmin päivätoimintakeskus\, Vanha Helsingintie 9\, Helsinki\, 00700\, Finland
CATEGORIES:Malmin päivätoimintakeskus
END:VEVENT
BEGIN:VEVENT
DTSTART;TZID=Europe/Helsinki:20260226T153000
DTEND;TZID=Europe/Helsinki:20260226T170000
DTSTAMP:20260421T045809
CREATED:20260112T135251Z
LAST-MODIFIED:20260303T072957Z
UID:10030714-1772119800-1772125200@kalenteri.niemikoti.fi
SUMMARY:Rhythm Machine Malmilla
DESCRIPTION:Bändi harjoittelee oman ohjaajan kanssa.
URL:https://kalenteri.niemikoti.fi/en/tapahtuma/rhythm-machine-malmilla/2026-02-26/
LOCATION:Malmin päivätoimintakeskus\, Vanha Helsingintie 9\, Helsinki\, 00700\, Finland
CATEGORIES:Malmin päivätoimintakeskus
END:VEVENT
BEGIN:VEVENT
DTSTART;TZID=Europe/Helsinki:20260227T100000
DTEND;TZID=Europe/Helsinki:20260227T110000
DTSTAMP:20260421T045809
CREATED:20260126T132848Z
LAST-MODIFIED:20260304T131909Z
UID:10036057-1772186400-1772190000@kalenteri.niemikoti.fi
SUMMARY:Tuolijooga
DESCRIPTION:Rauhallista venyttelyä tuolilla istuen ja tuolia tukena käyttäen. Lopussa rentoutus. \nTäydentyvä ryhmä\, ilmoittaudu.
URL:https://kalenteri.niemikoti.fi/en/tapahtuma/tuolijooga-malmilla/2026-02-27/
LOCATION:Malmin päivätoimintakeskus\, Vanha Helsingintie 9\, Helsinki\, 00700\, Finland
CATEGORIES:Malmin päivätoimintakeskus
ATTACH;FMTTYPE=image/jpeg:https://kalenteri.niemikoti.fi/wp-content/uploads/2026/01/Tuolijooga.jpg
END:VEVENT
BEGIN:VEVENT
DTSTART;TZID=Europe/Helsinki:20260227T120000
DTEND;TZID=Europe/Helsinki:20260227T130000
DTSTAMP:20260421T045809
CREATED:20260112T134429Z
LAST-MODIFIED:20260303T073209Z
UID:10036352-1772193600-1772197200@kalenteri.niemikoti.fi
SUMMARY:Soittoryhmä Malmilla
DESCRIPTION:Tutustaan yhdessä pianon\, ukulelen ja kitaran soiton alkeisiin. Ryhmään mahtuu enintään 6 osallistujaa kerralla. Täydentyvä ryhmä\, ilmoittaudu mukaan!
URL:https://kalenteri.niemikoti.fi/en/tapahtuma/soittoryhma-malmilla/2026-02-27/
LOCATION:Malmin päivätoimintakeskus\, Vanha Helsingintie 9\, Helsinki\, 00700\, Finland
CATEGORIES:Malmin päivätoimintakeskus
END:VEVENT
END:VCALENDAR