BEGIN:VCALENDAR
VERSION:2.0
PRODID:-//Tapahtumakalenteri - ECPv6.15.18//NONSGML v1.0//EN
CALSCALE:GREGORIAN
METHOD:PUBLISH
X-ORIGINAL-URL:https://kalenteri.niemikoti.fi/en/
X-WR-CALDESC:Events for Tapahtumakalenteri
REFRESH-INTERVAL;VALUE=DURATION:PT1H
X-Robots-Tag:noindex
X-PUBLISHED-TTL:PT1H
BEGIN:VTIMEZONE
TZID:Europe/Helsinki
BEGIN:DAYLIGHT
TZOFFSETFROM:+0200
TZOFFSETTO:+0300
TZNAME:EEST
DTSTART:20250330T010000
END:DAYLIGHT
BEGIN:STANDARD
TZOFFSETFROM:+0300
TZOFFSETTO:+0200
TZNAME:EET
DTSTART:20251026T010000
END:STANDARD
BEGIN:DAYLIGHT
TZOFFSETFROM:+0200
TZOFFSETTO:+0300
TZNAME:EEST
DTSTART:20260329T010000
END:DAYLIGHT
BEGIN:STANDARD
TZOFFSETFROM:+0300
TZOFFSETTO:+0200
TZNAME:EET
DTSTART:20261025T010000
END:STANDARD
BEGIN:DAYLIGHT
TZOFFSETFROM:+0200
TZOFFSETTO:+0300
TZNAME:EEST
DTSTART:20270328T010000
END:DAYLIGHT
BEGIN:STANDARD
TZOFFSETFROM:+0300
TZOFFSETTO:+0200
TZNAME:EET
DTSTART:20271031T010000
END:STANDARD
END:VTIMEZONE
BEGIN:VEVENT
DTSTART;TZID=Europe/Helsinki:20260525T090000
DTEND;TZID=Europe/Helsinki:20260525T100000
DTSTAMP:20260421T151210
CREATED:20260302T134800Z
LAST-MODIFIED:20260302T134800Z
UID:10034014-1779699600-1779703200@kalenteri.niemikoti.fi
SUMMARY:Yhteisön aamiainen Malmilla
DESCRIPTION:Aamiaisella puuroa\, muroja tai jogurttia vaihtelevasti sekä leipää päällisineen. Juomaksi tuoremehua sekä kahvia tai teetä. Hinta 1\,5 e.
URL:https://kalenteri.niemikoti.fi/en/tapahtuma/yhteison-aamiainen-malmilla/2026-05-25/
LOCATION:Malmin päivätoimintakeskus\, Vanha Helsingintie 9\, Helsinki\, 00700\, Finland
CATEGORIES:Malmin päivätoimintakeskus
END:VEVENT
BEGIN:VEVENT
DTSTART;TZID=Europe/Helsinki:20260525T100000
DTEND;TZID=Europe/Helsinki:20260525T103000
DTSTAMP:20260421T151210
CREATED:20260112T105633Z
LAST-MODIFIED:20260303T072458Z
UID:10028707-1779703200-1779705000@kalenteri.niemikoti.fi
SUMMARY:Aamukokous Malmilla
DESCRIPTION:Kokoonnutaan yhteen vaihtamaan kuulumisia ja keskustellaan päivän ohjelmasta.
URL:https://kalenteri.niemikoti.fi/en/tapahtuma/aamukokous-malmilla/2026-05-25/
LOCATION:Malmin päivätoimintakeskus\, Vanha Helsingintie 9\, Helsinki\, 00700\, Finland
CATEGORIES:Malmin päivätoimintakeskus
END:VEVENT
BEGIN:VEVENT
DTSTART;TZID=Europe/Helsinki:20260525T103000
DTEND;TZID=Europe/Helsinki:20260525T110000
DTSTAMP:20260421T151210
CREATED:20260112T111935Z
LAST-MODIFIED:20260410T061604Z
UID:10027971-1779705000-1779706800@kalenteri.niemikoti.fi
SUMMARY:Talon töitä Malmilla
DESCRIPTION:Pidetään yhdessä huolta yhteisistä tiloista ja tiluksista. Osallistua voi omien voimavarojen mukaan.
URL:https://kalenteri.niemikoti.fi/en/tapahtuma/talon-toita-7/2026-05-25/
LOCATION:Malmin päivätoimintakeskus\, Vanha Helsingintie 9\, Helsinki\, 00700\, Finland
CATEGORIES:Malmin päivätoimintakeskus
END:VEVENT
BEGIN:VEVENT
DTSTART;TZID=Europe/Helsinki:20260525T110000
DTEND;TZID=Europe/Helsinki:20260525T120000
DTSTAMP:20260421T151210
CREATED:20260126T112617Z
LAST-MODIFIED:20260304T132032Z
UID:10031826-1779706800-1779710400@kalenteri.niemikoti.fi
SUMMARY:Sanapaja
DESCRIPTION:Ryhmässä tehdään luovia kirjoitusharjoituksia kuten lyhyitä tarinoita ja runoja. \nTäydentyvä ryhmä\, ilmoittaudu mukaan!
URL:https://kalenteri.niemikoti.fi/en/tapahtuma/sanapaja-malmilla-3/2026-05-25/
LOCATION:Malmin päivätoimintakeskus\, Vanha Helsingintie 9\, Helsinki\, 00700\, Finland
CATEGORIES:Malmin päivätoimintakeskus
ATTACH;FMTTYPE=image/jpeg:https://kalenteri.niemikoti.fi/wp-content/uploads/2026/01/Sanapaja.jpg
END:VEVENT
BEGIN:VEVENT
DTSTART;TZID=Europe/Helsinki:20260525T120000
DTEND;TZID=Europe/Helsinki:20260525T130000
DTSTAMP:20260421T151210
CREATED:20260302T135525Z
LAST-MODIFIED:20260303T072113Z
UID:10035058-1779710400-1779714000@kalenteri.niemikoti.fi
SUMMARY:Yhteisön lounas Malmilla
DESCRIPTION:Lounas ja lounaskahvit. Ruokalista vaihtelee kuukausittain ja on nähtävillä Malmin päivätoimintakeskuksessa. Hinta 3\,5 euroa.
URL:https://kalenteri.niemikoti.fi/en/tapahtuma/yhteison-lounas-malmilla/2026-05-25/
LOCATION:Malmin päivätoimintakeskus\, Vanha Helsingintie 9\, Helsinki\, 00700\, Finland
CATEGORIES:Malmin päivätoimintakeskus
END:VEVENT
BEGIN:VEVENT
DTSTART;TZID=Europe/Helsinki:20260526T090000
DTEND;TZID=Europe/Helsinki:20260526T100000
DTSTAMP:20260421T151210
CREATED:20260302T134800Z
LAST-MODIFIED:20260302T134800Z
UID:10034015-1779786000-1779789600@kalenteri.niemikoti.fi
SUMMARY:Yhteisön aamiainen Malmilla
DESCRIPTION:Aamiaisella puuroa\, muroja tai jogurttia vaihtelevasti sekä leipää päällisineen. Juomaksi tuoremehua sekä kahvia tai teetä. Hinta 1\,5 e.
URL:https://kalenteri.niemikoti.fi/en/tapahtuma/yhteison-aamiainen-malmilla/2026-05-26/
LOCATION:Malmin päivätoimintakeskus\, Vanha Helsingintie 9\, Helsinki\, 00700\, Finland
CATEGORIES:Malmin päivätoimintakeskus
END:VEVENT
BEGIN:VEVENT
DTSTART;TZID=Europe/Helsinki:20260526T100000
DTEND;TZID=Europe/Helsinki:20260526T103000
DTSTAMP:20260421T151210
CREATED:20260112T105633Z
LAST-MODIFIED:20260303T072458Z
UID:10028708-1779789600-1779791400@kalenteri.niemikoti.fi
SUMMARY:Aamukokous Malmilla
DESCRIPTION:Kokoonnutaan yhteen vaihtamaan kuulumisia ja keskustellaan päivän ohjelmasta.
URL:https://kalenteri.niemikoti.fi/en/tapahtuma/aamukokous-malmilla/2026-05-26/
LOCATION:Malmin päivätoimintakeskus\, Vanha Helsingintie 9\, Helsinki\, 00700\, Finland
CATEGORIES:Malmin päivätoimintakeskus
END:VEVENT
BEGIN:VEVENT
DTSTART;TZID=Europe/Helsinki:20260526T103000
DTEND;TZID=Europe/Helsinki:20260526T110000
DTSTAMP:20260421T151210
CREATED:20260112T111935Z
LAST-MODIFIED:20260410T061604Z
UID:10027972-1779791400-1779793200@kalenteri.niemikoti.fi
SUMMARY:Talon töitä Malmilla
DESCRIPTION:Pidetään yhdessä huolta yhteisistä tiloista ja tiluksista. Osallistua voi omien voimavarojen mukaan.
URL:https://kalenteri.niemikoti.fi/en/tapahtuma/talon-toita-7/2026-05-26/
LOCATION:Malmin päivätoimintakeskus\, Vanha Helsingintie 9\, Helsinki\, 00700\, Finland
CATEGORIES:Malmin päivätoimintakeskus
END:VEVENT
BEGIN:VEVENT
DTSTART;TZID=Europe/Helsinki:20260526T110000
DTEND;TZID=Europe/Helsinki:20260526T120000
DTSTAMP:20260421T151210
CREATED:20260126T114459Z
LAST-MODIFIED:20260126T114459Z
UID:10032143-1779793200-1779796800@kalenteri.niemikoti.fi
SUMMARY:Luonto & liikunta -kävelyryhmä Malmilla
DESCRIPTION:Uusille tilaa\, ilmoittaudu mukaan! Kaksi ryhmää tarpeen mukaan\, tehdään sekä pidempi että lyhyempi kävelylenkki.
URL:https://kalenteri.niemikoti.fi/en/tapahtuma/luonto-liikunta-kavelyryhma-malmilla-3/2026-05-26/
LOCATION:Malmin päivätoimintakeskus\, Vanha Helsingintie 9\, Helsinki\, 00700\, Finland
CATEGORIES:Malmin päivätoimintakeskus
END:VEVENT
BEGIN:VEVENT
DTSTART;TZID=Europe/Helsinki:20260526T120000
DTEND;TZID=Europe/Helsinki:20260526T130000
DTSTAMP:20260421T151210
CREATED:20260302T135525Z
LAST-MODIFIED:20260303T072113Z
UID:10035059-1779796800-1779800400@kalenteri.niemikoti.fi
SUMMARY:Yhteisön lounas Malmilla
DESCRIPTION:Lounas ja lounaskahvit. Ruokalista vaihtelee kuukausittain ja on nähtävillä Malmin päivätoimintakeskuksessa. Hinta 3\,5 euroa.
URL:https://kalenteri.niemikoti.fi/en/tapahtuma/yhteison-lounas-malmilla/2026-05-26/
LOCATION:Malmin päivätoimintakeskus\, Vanha Helsingintie 9\, Helsinki\, 00700\, Finland
CATEGORIES:Malmin päivätoimintakeskus
END:VEVENT
BEGIN:VEVENT
DTSTART;TZID=Europe/Helsinki:20260526T130000
DTEND;TZID=Europe/Helsinki:20260526T143000
DTSTAMP:20260421T151210
CREATED:20260112T114328Z
LAST-MODIFIED:20260303T072740Z
UID:10027051-1779800400-1779805800@kalenteri.niemikoti.fi
SUMMARY:DJ-paja Malmilla
DESCRIPTION:Niemikotisäätiöläisille avoin yhteisoppimiseen perustuva DJ-paja. Omaa musiikkia saa tuoda mukaan muistitikuilla. Enintään 6 osallistujaa/kerta. Ilmoittaudu mukaan! \nHuom! Ei ryhmää 3.2.
URL:https://kalenteri.niemikoti.fi/en/tapahtuma/dj-paja-malmilla/2026-05-26/
LOCATION:Malmin päivätoimintakeskus\, Vanha Helsingintie 9\, Helsinki\, 00700\, Finland
CATEGORIES:Malmin päivätoimintakeskus
END:VEVENT
BEGIN:VEVENT
DTSTART;TZID=Europe/Helsinki:20260526T130000
DTEND;TZID=Europe/Helsinki:20260526T153000
DTSTAMP:20260421T151210
CREATED:20260112T134809Z
LAST-MODIFIED:20260410T070218Z
UID:10037096-1779800400-1779809400@kalenteri.niemikoti.fi
SUMMARY:JV:n bändi Malmilla
DESCRIPTION:Bändi harjoittelee oman ohjaajan kanssa.
URL:https://kalenteri.niemikoti.fi/en/tapahtuma/jvn-bandi-malmilla/2026-05-26/
LOCATION:Malmin päivätoimintakeskus\, Vanha Helsingintie 9\, Helsinki\, 00700\, Finland
CATEGORIES:Malmin päivätoimintakeskus
END:VEVENT
BEGIN:VEVENT
DTSTART;TZID=Europe/Helsinki:20260527T090000
DTEND;TZID=Europe/Helsinki:20260527T100000
DTSTAMP:20260421T151210
CREATED:20260302T134800Z
LAST-MODIFIED:20260302T134800Z
UID:10034016-1779872400-1779876000@kalenteri.niemikoti.fi
SUMMARY:Yhteisön aamiainen Malmilla
DESCRIPTION:Aamiaisella puuroa\, muroja tai jogurttia vaihtelevasti sekä leipää päällisineen. Juomaksi tuoremehua sekä kahvia tai teetä. Hinta 1\,5 e.
URL:https://kalenteri.niemikoti.fi/en/tapahtuma/yhteison-aamiainen-malmilla/2026-05-27/
LOCATION:Malmin päivätoimintakeskus\, Vanha Helsingintie 9\, Helsinki\, 00700\, Finland
CATEGORIES:Malmin päivätoimintakeskus
END:VEVENT
BEGIN:VEVENT
DTSTART;TZID=Europe/Helsinki:20260527T100000
DTEND;TZID=Europe/Helsinki:20260527T103000
DTSTAMP:20260421T151210
CREATED:20260112T105633Z
LAST-MODIFIED:20260303T072458Z
UID:10028709-1779876000-1779877800@kalenteri.niemikoti.fi
SUMMARY:Aamukokous Malmilla
DESCRIPTION:Kokoonnutaan yhteen vaihtamaan kuulumisia ja keskustellaan päivän ohjelmasta.
URL:https://kalenteri.niemikoti.fi/en/tapahtuma/aamukokous-malmilla/2026-05-27/
LOCATION:Malmin päivätoimintakeskus\, Vanha Helsingintie 9\, Helsinki\, 00700\, Finland
CATEGORIES:Malmin päivätoimintakeskus
END:VEVENT
BEGIN:VEVENT
DTSTART;TZID=Europe/Helsinki:20260527T103000
DTEND;TZID=Europe/Helsinki:20260527T110000
DTSTAMP:20260421T151210
CREATED:20260112T111935Z
LAST-MODIFIED:20260410T061604Z
UID:10027973-1779877800-1779879600@kalenteri.niemikoti.fi
SUMMARY:Talon töitä Malmilla
DESCRIPTION:Pidetään yhdessä huolta yhteisistä tiloista ja tiluksista. Osallistua voi omien voimavarojen mukaan.
URL:https://kalenteri.niemikoti.fi/en/tapahtuma/talon-toita-7/2026-05-27/
LOCATION:Malmin päivätoimintakeskus\, Vanha Helsingintie 9\, Helsinki\, 00700\, Finland
CATEGORIES:Malmin päivätoimintakeskus
END:VEVENT
BEGIN:VEVENT
DTSTART;TZID=Europe/Helsinki:20260527T110000
DTEND;TZID=Europe/Helsinki:20260527T120000
DTSTAMP:20260421T151210
CREATED:20260126T120107Z
LAST-MODIFIED:20260410T062215Z
UID:10032405-1779879600-1779883200@kalenteri.niemikoti.fi
SUMMARY:Siemenestä syötäväksi -hyötypuutarharyhmä
DESCRIPTION:Taimien kasvatusta\, hyötykasvitietoutta ja Malmin lavakauluspuutarhan hoitoa kokemusasiantuntijan kanssa. Täydentyvä ryhmä\, ilmoittaudu mukaan!
URL:https://kalenteri.niemikoti.fi/en/tapahtuma/caffetteria-italiana-malmilla/2026-05-27/
LOCATION:Malmin päivätoimintakeskus\, Vanha Helsingintie 9\, Helsinki\, 00700\, Finland
CATEGORIES:Malmin päivätoimintakeskus
ATTACH;FMTTYPE=image/jpeg:https://kalenteri.niemikoti.fi/wp-content/uploads/2026/01/Siemenesta-syotavaksi-hyotypuutarharyhma-1.jpg
END:VEVENT
BEGIN:VEVENT
DTSTART;TZID=Europe/Helsinki:20260527T120000
DTEND;TZID=Europe/Helsinki:20260527T130000
DTSTAMP:20260421T151210
CREATED:20260302T135525Z
LAST-MODIFIED:20260303T072113Z
UID:10035060-1779883200-1779886800@kalenteri.niemikoti.fi
SUMMARY:Yhteisön lounas Malmilla
DESCRIPTION:Lounas ja lounaskahvit. Ruokalista vaihtelee kuukausittain ja on nähtävillä Malmin päivätoimintakeskuksessa. Hinta 3\,5 euroa.
URL:https://kalenteri.niemikoti.fi/en/tapahtuma/yhteison-lounas-malmilla/2026-05-27/
LOCATION:Malmin päivätoimintakeskus\, Vanha Helsingintie 9\, Helsinki\, 00700\, Finland
CATEGORIES:Malmin päivätoimintakeskus
END:VEVENT
BEGIN:VEVENT
DTSTART;TZID=Europe/Helsinki:20260527T130000
DTEND;TZID=Europe/Helsinki:20260527T143000
DTSTAMP:20260421T151210
CREATED:20260112T131042Z
LAST-MODIFIED:20260303T072919Z
UID:10029922-1779886800-1779892200@kalenteri.niemikoti.fi
SUMMARY:Väriä elämään Malmilla
DESCRIPTION:Visuaalista taidetta vaihtuvin teemoin ja tekniikoin. Enintään 8 osallistujaa kerralla. Ilmoittaudu mukaan!
URL:https://kalenteri.niemikoti.fi/en/tapahtuma/varia-elamaan-malmilla/2026-05-27/
LOCATION:Malmin päivätoimintakeskus\, Vanha Helsingintie 9\, Helsinki\, 00700\, Finland
CATEGORIES:Malmin päivätoimintakeskus
END:VEVENT
BEGIN:VEVENT
DTSTART;TZID=Europe/Helsinki:20260528T120000
DTEND;TZID=Europe/Helsinki:20260528T130000
DTSTAMP:20260421T151210
CREATED:20260126T130159Z
LAST-MODIFIED:20260410T063159Z
UID:10037043-1779969600-1779973200@kalenteri.niemikoti.fi
SUMMARY:Kitaran alkeet
DESCRIPTION:Harjoitellaan yhdessä akustisen kitaransoiton alkeita. Ryhmään mahtuu enintään 5 osallistujaa kerralla. Ilmoittaudu mukaan!
URL:https://kalenteri.niemikoti.fi/en/tapahtuma/peliryhma-malmilla-2/2026-05-28/
LOCATION:Malmin päivätoimintakeskus\, Vanha Helsingintie 9\, Helsinki\, 00700\, Finland
CATEGORIES:Malmin päivätoimintakeskus
ATTACH;FMTTYPE=image/jpeg:https://kalenteri.niemikoti.fi/wp-content/uploads/2026/01/Kitaran-alkeet-klo12.jpg
END:VEVENT
BEGIN:VEVENT
DTSTART;TZID=Europe/Helsinki:20260528T120000
DTEND;TZID=Europe/Helsinki:20260528T133000
DTSTAMP:20260421T151210
CREATED:20260126T125733Z
LAST-MODIFIED:20260126T125733Z
UID:10032461-1779969600-1779975000@kalenteri.niemikoti.fi
SUMMARY:Malmin bändi
DESCRIPTION:Vakiintunut kokoonpano\, voit kysyä lisää tietoa ohjaajilta. Ei ryhmää 26.2.
URL:https://kalenteri.niemikoti.fi/en/tapahtuma/malmin-bandi-2/2026-05-28/
LOCATION:Malmin päivätoimintakeskus\, Vanha Helsingintie 9\, Helsinki\, 00700\, Finland
CATEGORIES:Malmin päivätoimintakeskus
END:VEVENT
BEGIN:VEVENT
DTSTART;TZID=Europe/Helsinki:20260528T140000
DTEND;TZID=Europe/Helsinki:20260528T153000
DTSTAMP:20260421T151210
CREATED:20260126T130916Z
LAST-MODIFIED:20260126T130916Z
UID:10032979-1779976800-1779982200@kalenteri.niemikoti.fi
SUMMARY:Jamibändi Malmilla
DESCRIPTION:Kaikille avoin\, ei ilmoittautumista. \nVapaata bändisoittoa. Bänditilassa rummut\, kitara\, basso ja koskettimet. \nHuom! Ei ryhmää 26.2.
URL:https://kalenteri.niemikoti.fi/en/tapahtuma/jamibandi-malmilla-2/2026-05-28/
LOCATION:Malmin päivätoimintakeskus\, Vanha Helsingintie 9\, Helsinki\, 00700\, Finland
CATEGORIES:Malmin päivätoimintakeskus
END:VEVENT
BEGIN:VEVENT
DTSTART;TZID=Europe/Helsinki:20260528T153000
DTEND;TZID=Europe/Helsinki:20260528T170000
DTSTAMP:20260421T151210
CREATED:20260112T135251Z
LAST-MODIFIED:20260303T072957Z
UID:10030727-1779982200-1779987600@kalenteri.niemikoti.fi
SUMMARY:Rhythm Machine Malmilla
DESCRIPTION:Bändi harjoittelee oman ohjaajan kanssa.
URL:https://kalenteri.niemikoti.fi/en/tapahtuma/rhythm-machine-malmilla/2026-05-28/
LOCATION:Malmin päivätoimintakeskus\, Vanha Helsingintie 9\, Helsinki\, 00700\, Finland
CATEGORIES:Malmin päivätoimintakeskus
END:VEVENT
BEGIN:VEVENT
DTSTART;TZID=Europe/Helsinki:20260529T090000
DTEND;TZID=Europe/Helsinki:20260529T100000
DTSTAMP:20260421T151210
CREATED:20260302T134800Z
LAST-MODIFIED:20260302T134800Z
UID:10034017-1780045200-1780048800@kalenteri.niemikoti.fi
SUMMARY:Yhteisön aamiainen Malmilla
DESCRIPTION:Aamiaisella puuroa\, muroja tai jogurttia vaihtelevasti sekä leipää päällisineen. Juomaksi tuoremehua sekä kahvia tai teetä. Hinta 1\,5 e.
URL:https://kalenteri.niemikoti.fi/en/tapahtuma/yhteison-aamiainen-malmilla/2026-05-29/
LOCATION:Malmin päivätoimintakeskus\, Vanha Helsingintie 9\, Helsinki\, 00700\, Finland
CATEGORIES:Malmin päivätoimintakeskus
END:VEVENT
BEGIN:VEVENT
DTSTART;TZID=Europe/Helsinki:20260529T100000
DTEND;TZID=Europe/Helsinki:20260529T110000
DTSTAMP:20260421T151210
CREATED:20260126T132848Z
LAST-MODIFIED:20260304T131909Z
UID:10036070-1780048800-1780052400@kalenteri.niemikoti.fi
SUMMARY:Tuolijooga
DESCRIPTION:Rauhallista venyttelyä tuolilla istuen ja tuolia tukena käyttäen. Lopussa rentoutus. \nTäydentyvä ryhmä\, ilmoittaudu.
URL:https://kalenteri.niemikoti.fi/en/tapahtuma/tuolijooga-malmilla/2026-05-29/
LOCATION:Malmin päivätoimintakeskus\, Vanha Helsingintie 9\, Helsinki\, 00700\, Finland
CATEGORIES:Malmin päivätoimintakeskus
ATTACH;FMTTYPE=image/jpeg:https://kalenteri.niemikoti.fi/wp-content/uploads/2026/01/Tuolijooga.jpg
END:VEVENT
BEGIN:VEVENT
DTSTART;TZID=Europe/Helsinki:20260529T110000
DTEND;TZID=Europe/Helsinki:20260529T120000
DTSTAMP:20260421T151210
CREATED:20260303T072331Z
LAST-MODIFIED:20260303T072331Z
UID:10036627-1780052400-1780056000@kalenteri.niemikoti.fi
SUMMARY:Yhteisön lounas Malmilla
DESCRIPTION:Lounas ja lounaskahvit. Ruokalista vaihtelee kuukausittain ja on nähtävillä Malmin päivätoimintakeskuksessa. Hinta 3\,5 euroa.
URL:https://kalenteri.niemikoti.fi/en/tapahtuma/yhteison-lounas-malmilla-2/2026-05-29/
LOCATION:Malmin päivätoimintakeskus\, Vanha Helsingintie 9\, Helsinki\, 00700\, Finland
CATEGORIES:Malmin päivätoimintakeskus
END:VEVENT
BEGIN:VEVENT
DTSTART;TZID=Europe/Helsinki:20260529T120000
DTEND;TZID=Europe/Helsinki:20260529T130000
DTSTAMP:20260421T151210
CREATED:20260112T134429Z
LAST-MODIFIED:20260303T073209Z
UID:10036365-1780056000-1780059600@kalenteri.niemikoti.fi
SUMMARY:Soittoryhmä Malmilla
DESCRIPTION:Tutustaan yhdessä pianon\, ukulelen ja kitaran soiton alkeisiin. Ryhmään mahtuu enintään 6 osallistujaa kerralla. Täydentyvä ryhmä\, ilmoittaudu mukaan!
URL:https://kalenteri.niemikoti.fi/en/tapahtuma/soittoryhma-malmilla/2026-05-29/
LOCATION:Malmin päivätoimintakeskus\, Vanha Helsingintie 9\, Helsinki\, 00700\, Finland
CATEGORIES:Malmin päivätoimintakeskus
END:VEVENT
END:VCALENDAR