BEGIN:VCALENDAR
VERSION:2.0
PRODID:-//Tapahtumakalenteri - ECPv6.15.18//NONSGML v1.0//EN
CALSCALE:GREGORIAN
METHOD:PUBLISH
X-ORIGINAL-URL:https://kalenteri.niemikoti.fi/en/
X-WR-CALDESC:Events for Tapahtumakalenteri
REFRESH-INTERVAL;VALUE=DURATION:PT1H
X-Robots-Tag:noindex
X-PUBLISHED-TTL:PT1H
BEGIN:VTIMEZONE
TZID:Europe/Helsinki
BEGIN:DAYLIGHT
TZOFFSETFROM:+0200
TZOFFSETTO:+0300
TZNAME:EEST
DTSTART:20240331T010000
END:DAYLIGHT
BEGIN:STANDARD
TZOFFSETFROM:+0300
TZOFFSETTO:+0200
TZNAME:EET
DTSTART:20241027T010000
END:STANDARD
BEGIN:DAYLIGHT
TZOFFSETFROM:+0200
TZOFFSETTO:+0300
TZNAME:EEST
DTSTART:20250330T010000
END:DAYLIGHT
BEGIN:STANDARD
TZOFFSETFROM:+0300
TZOFFSETTO:+0200
TZNAME:EET
DTSTART:20251026T010000
END:STANDARD
BEGIN:DAYLIGHT
TZOFFSETFROM:+0200
TZOFFSETTO:+0300
TZNAME:EEST
DTSTART:20260329T010000
END:DAYLIGHT
BEGIN:STANDARD
TZOFFSETFROM:+0300
TZOFFSETTO:+0200
TZNAME:EET
DTSTART:20261025T010000
END:STANDARD
END:VTIMEZONE
BEGIN:VEVENT
DTSTART;TZID=Europe/Helsinki:20251119T083000
DTEND;TZID=Europe/Helsinki:20251119T113000
DTSTAMP:20260424T040806
CREATED:20251030T130616Z
LAST-MODIFIED:20251030T130616Z
UID:10024953-1763541000-1763551800@kalenteri.niemikoti.fi
SUMMARY:Retki Helsingin kaupunginorkesterin kenraaliharjoituksiin
DESCRIPTION:Teemme yhteisön retken Helsingin kaupunginorkesterin kenraaliharjoituksiin. Tapaamme Musiikkitalon alaovien edessä\, eli Kansalaistorin puoleisilla ovilla klo 9.20
URL:https://kalenteri.niemikoti.fi/en/tapahtuma/retki-helsingin-kaupunginorkesterin-kenraaliharjoituksiin/
LOCATION:Toimintakeskus Villa Borgis\, Linnavuorentie 13\, Helsinki\, 00950\, Finland
CATEGORIES:Toimintakeskus Villa Borgis
END:VEVENT
BEGIN:VEVENT
DTSTART;TZID=Europe/Helsinki:20251119T090000
DTEND;TZID=Europe/Helsinki:20251119T094500
DTSTAMP:20260424T040806
CREATED:20250820T065259Z
LAST-MODIFIED:20260331T081723Z
UID:10026072-1763542800-1763545500@kalenteri.niemikoti.fi
SUMMARY:Yhteisön aamiainen
DESCRIPTION:Aamiainen yhteisöpäivän kävijöille. Sisältää puuron\, talon omenahilloa\, leipää\, leivänpäällisiä\, jugurttia\, hedelmiä\, kahvia\, teetä ja mehua. Hinta aamiaiselle 3 e\, sisältää myös iltapäiväkahvin.
URL:https://kalenteri.niemikoti.fi/en/tapahtuma/yhteison-aamiainen-3/2025-11-19/
LOCATION:Toimintakeskus Villa Borgis\, Linnavuorentie 13\, Helsinki\, 00950\, Finland
CATEGORIES:Toimintakeskus Villa Borgis
END:VEVENT
BEGIN:VEVENT
DTSTART;TZID=Europe/Helsinki:20251119T100000
DTEND;TZID=Europe/Helsinki:20251119T103000
DTSTAMP:20260424T040806
CREATED:20250818T063824Z
LAST-MODIFIED:20260331T081921Z
UID:10024538-1763546400-1763548200@kalenteri.niemikoti.fi
SUMMARY:Yhteisöpäivän aamukokous
DESCRIPTION:Yhteisöpäivän aamukokouksessa tutustutaan päivän ohjelmaan ja tuleviin tapahtumiin sekä käydään kuulumiskierros.
URL:https://kalenteri.niemikoti.fi/en/tapahtuma/yhteisopaivan-aamukokous-6/2025-11-19/
LOCATION:Toimintakeskus Villa Borgis\, Linnavuorentie 13\, Helsinki\, 00950\, Finland
CATEGORIES:Toimintakeskus Villa Borgis
END:VEVENT
BEGIN:VEVENT
DTSTART;TZID=Europe/Helsinki:20251119T110000
DTEND;TZID=Europe/Helsinki:20251119T120000
DTSTAMP:20260424T040806
CREATED:20251030T092554Z
LAST-MODIFIED:20251030T093044Z
UID:10024947-1763550000-1763553600@kalenteri.niemikoti.fi
SUMMARY:Morning Coffee -englanninkielinen keskusteluryhmä
DESCRIPTION:Keskustellaan yhdessä englanniksi vaihtuvista aiheista. Sopii kaiken tasoisille englannin kielestä kiinnostuneille.
URL:https://kalenteri.niemikoti.fi/en/tapahtuma/morning-coffee-englanninkielinen-keskusteluryhma-3/2025-11-19/
LOCATION:Toimintakeskus Villa Borgis\, Linnavuorentie 13\, Helsinki\, 00950\, Finland
CATEGORIES:Toimintakeskus Villa Borgis
END:VEVENT
BEGIN:VEVENT
DTSTART;TZID=Europe/Helsinki:20251119T130000
DTEND;TZID=Europe/Helsinki:20251119T143000
DTSTAMP:20260424T040806
CREATED:20251030T092851Z
LAST-MODIFIED:20251127T085913Z
UID:10024951-1763557200-1763562600@kalenteri.niemikoti.fi
SUMMARY:Puutyöryhmä
DESCRIPTION:Pieniä puutöitä käsityökaluilla\, max 6 osallistujaa\, ilmoittaudu.
URL:https://kalenteri.niemikoti.fi/en/tapahtuma/puutyoryhma-2/2025-11-19/
LOCATION:Toimintakeskus Villa Borgis\, Linnavuorentie 13\, Helsinki\, 00950\, Finland
CATEGORIES:Toimintakeskus Villa Borgis
END:VEVENT
END:VCALENDAR