BEGIN:VCALENDAR
VERSION:2.0
PRODID:-//Tapahtumakalenteri - ECPv6.15.18//NONSGML v1.0//EN
CALSCALE:GREGORIAN
METHOD:PUBLISH
X-ORIGINAL-URL:https://kalenteri.niemikoti.fi/en/
X-WR-CALDESC:Events for Tapahtumakalenteri
REFRESH-INTERVAL;VALUE=DURATION:PT1H
X-Robots-Tag:noindex
X-PUBLISHED-TTL:PT1H
BEGIN:VTIMEZONE
TZID:Europe/Helsinki
BEGIN:DAYLIGHT
TZOFFSETFROM:+0200
TZOFFSETTO:+0300
TZNAME:EEST
DTSTART:20240331T010000
END:DAYLIGHT
BEGIN:STANDARD
TZOFFSETFROM:+0300
TZOFFSETTO:+0200
TZNAME:EET
DTSTART:20241027T010000
END:STANDARD
BEGIN:DAYLIGHT
TZOFFSETFROM:+0200
TZOFFSETTO:+0300
TZNAME:EEST
DTSTART:20250330T010000
END:DAYLIGHT
BEGIN:STANDARD
TZOFFSETFROM:+0300
TZOFFSETTO:+0200
TZNAME:EET
DTSTART:20251026T010000
END:STANDARD
BEGIN:DAYLIGHT
TZOFFSETFROM:+0200
TZOFFSETTO:+0300
TZNAME:EEST
DTSTART:20260329T010000
END:DAYLIGHT
BEGIN:STANDARD
TZOFFSETFROM:+0300
TZOFFSETTO:+0200
TZNAME:EET
DTSTART:20261025T010000
END:STANDARD
END:VTIMEZONE
BEGIN:VEVENT
DTSTART;TZID=Europe/Helsinki:20251223T090000
DTEND;TZID=Europe/Helsinki:20251223T094500
DTSTAMP:20260424T040805
CREATED:20250820T065259Z
LAST-MODIFIED:20260331T081723Z
UID:10026085-1766480400-1766483100@kalenteri.niemikoti.fi
SUMMARY:Yhteisön aamiainen
DESCRIPTION:Aamiainen yhteisöpäivän kävijöille. Sisältää puuron\, talon omenahilloa\, leipää\, leivänpäällisiä\, jugurttia\, hedelmiä\, kahvia\, teetä ja mehua. Hinta aamiaiselle 3 e\, sisältää myös iltapäiväkahvin.
URL:https://kalenteri.niemikoti.fi/en/tapahtuma/yhteison-aamiainen-3/2025-12-23/
LOCATION:Toimintakeskus Villa Borgis\, Linnavuorentie 13\, Helsinki\, 00950\, Finland
CATEGORIES:Toimintakeskus Villa Borgis
END:VEVENT
BEGIN:VEVENT
DTSTART;TZID=Europe/Helsinki:20251223T100000
DTEND;TZID=Europe/Helsinki:20251223T103000
DTSTAMP:20260424T040805
CREATED:20250818T063824Z
LAST-MODIFIED:20260331T081921Z
UID:10025451-1766484000-1766485800@kalenteri.niemikoti.fi
SUMMARY:Yhteisöpäivän aamukokous
DESCRIPTION:Yhteisöpäivän aamukokouksessa tutustutaan päivän ohjelmaan ja tuleviin tapahtumiin sekä käydään kuulumiskierros.
URL:https://kalenteri.niemikoti.fi/en/tapahtuma/yhteisopaivan-aamukokous-6/2025-12-23/
LOCATION:Toimintakeskus Villa Borgis\, Linnavuorentie 13\, Helsinki\, 00950\, Finland
CATEGORIES:Toimintakeskus Villa Borgis
END:VEVENT
BEGIN:VEVENT
DTSTART;TZID=Europe/Helsinki:20251223T103000
DTEND;TZID=Europe/Helsinki:20251223T120000
DTSTAMP:20260424T040805
CREATED:20240814T065248Z
LAST-MODIFIED:20260421T091527Z
UID:10025518-1766485800-1766491200@kalenteri.niemikoti.fi
SUMMARY:Borgiksen Picassot
DESCRIPTION:Kuvataideryhmä. Kaikille sopivaa kuvallista työskentelyä\, ei vaadi erityisosaamista.
URL:https://kalenteri.niemikoti.fi/en/tapahtuma/borgiksen-picassot-2/2025-12-23/
LOCATION:Toimintakeskus Villa Borgis\, Linnavuorentie 13\, Helsinki\, 00950\, Finland
CATEGORIES:Toimintakeskus Villa Borgis
ATTACH;FMTTYPE=image/jpeg:https://kalenteri.niemikoti.fi/wp-content/uploads/2024/08/Borgiksen-Picassot-1.jpg
END:VEVENT
BEGIN:VEVENT
DTSTART;TZID=Europe/Helsinki:20251223T110000
DTEND;TZID=Europe/Helsinki:20251223T130000
DTSTAMP:20260424T040805
CREATED:20251212T072026Z
LAST-MODIFIED:20251212T072026Z
UID:10025655-1766487600-1766494800@kalenteri.niemikoti.fi
SUMMARY:Puutyöpajat
DESCRIPTION:Tule mukaan Villa Borgiksen joulu-etkoille! Puutyöpajoissa tehdään pieniä puutöitä käsityökaluilla. Ilmoittaudu. \nMa 22.12 klo 11 – 14 \nTi 23.12 klo 11 – 13
URL:https://kalenteri.niemikoti.fi/en/tapahtuma/puutyopajat-2/
LOCATION:Toimintakeskus Villa Borgis\, Linnavuorentie 13\, Helsinki\, 00950\, Finland
CATEGORIES:Toimintakeskus Villa Borgis
ATTACH;FMTTYPE=image/jpeg:https://kalenteri.niemikoti.fi/wp-content/uploads/2025/12/Red-and-White-Watercolor-Illustrative-Christmas-Menu-1.jpg
END:VEVENT
BEGIN:VEVENT
DTSTART;TZID=Europe/Helsinki:20251223T120000
DTEND;TZID=Europe/Helsinki:20251223T130000
DTSTAMP:20260424T040805
CREATED:20251212T092414Z
LAST-MODIFIED:20251212T092414Z
UID:10025661-1766491200-1766494800@kalenteri.niemikoti.fi
SUMMARY:Glögiä ja pipareita
DESCRIPTION:Villa Borgiksen joulu-etkoissa laskeudutaan kohti joululomaa glögin ja pipareiden siivittämänä.
URL:https://kalenteri.niemikoti.fi/en/tapahtuma/glogia-ja-pipareita/
LOCATION:Toimintakeskus Villa Borgis\, Linnavuorentie 13\, Helsinki\, 00950\, Finland
CATEGORIES:Toimintakeskus Villa Borgis
ATTACH;FMTTYPE=image/jpeg:https://kalenteri.niemikoti.fi/wp-content/uploads/2025/12/Red-and-White-Watercolor-Illustrative-Christmas-Menu-1-3.jpg
END:VEVENT
END:VCALENDAR