BEGIN:VCALENDAR
VERSION:2.0
PRODID:-//Tapahtumakalenteri - ECPv6.15.18//NONSGML v1.0//EN
CALSCALE:GREGORIAN
METHOD:PUBLISH
X-ORIGINAL-URL:https://kalenteri.niemikoti.fi/en/
X-WR-CALDESC:Events for Tapahtumakalenteri
REFRESH-INTERVAL;VALUE=DURATION:PT1H
X-Robots-Tag:noindex
X-PUBLISHED-TTL:PT1H
BEGIN:VTIMEZONE
TZID:Europe/Helsinki
BEGIN:DAYLIGHT
TZOFFSETFROM:+0200
TZOFFSETTO:+0300
TZNAME:EEST
DTSTART:20240331T010000
END:DAYLIGHT
BEGIN:STANDARD
TZOFFSETFROM:+0300
TZOFFSETTO:+0200
TZNAME:EET
DTSTART:20241027T010000
END:STANDARD
BEGIN:DAYLIGHT
TZOFFSETFROM:+0200
TZOFFSETTO:+0300
TZNAME:EEST
DTSTART:20250330T010000
END:DAYLIGHT
BEGIN:STANDARD
TZOFFSETFROM:+0300
TZOFFSETTO:+0200
TZNAME:EET
DTSTART:20251026T010000
END:STANDARD
BEGIN:DAYLIGHT
TZOFFSETFROM:+0200
TZOFFSETTO:+0300
TZNAME:EEST
DTSTART:20260329T010000
END:DAYLIGHT
BEGIN:STANDARD
TZOFFSETFROM:+0300
TZOFFSETTO:+0200
TZNAME:EET
DTSTART:20261025T010000
END:STANDARD
END:VTIMEZONE
BEGIN:VEVENT
DTSTART;TZID=Europe/Helsinki:20251215T090000
DTEND;TZID=Europe/Helsinki:20251215T094500
DTSTAMP:20260426T070403
CREATED:20250820T065259Z
LAST-MODIFIED:20260331T081723Z
UID:10026081-1765789200-1765791900@kalenteri.niemikoti.fi
SUMMARY:Yhteisön aamiainen
DESCRIPTION:Aamiainen yhteisöpäivän kävijöille. Sisältää puuron\, talon omenahilloa\, leipää\, leivänpäällisiä\, jugurttia\, hedelmiä\, kahvia\, teetä ja mehua. Hinta aamiaiselle 3 e\, sisältää myös iltapäiväkahvin.
URL:https://kalenteri.niemikoti.fi/en/tapahtuma/yhteison-aamiainen-3/2025-12-15/
LOCATION:Toimintakeskus Villa Borgis\, Linnavuorentie 13\, Helsinki\, 00950\, Finland
CATEGORIES:Toimintakeskus Villa Borgis
END:VEVENT
BEGIN:VEVENT
DTSTART;TZID=Europe/Helsinki:20251215T100000
DTEND;TZID=Europe/Helsinki:20251215T103000
DTSTAMP:20260426T070403
CREATED:20250818T063824Z
LAST-MODIFIED:20260331T081921Z
UID:10024548-1765792800-1765794600@kalenteri.niemikoti.fi
SUMMARY:Yhteisöpäivän aamukokous
DESCRIPTION:Yhteisöpäivän aamukokouksessa tutustutaan päivän ohjelmaan ja tuleviin tapahtumiin sekä käydään kuulumiskierros.
URL:https://kalenteri.niemikoti.fi/en/tapahtuma/yhteisopaivan-aamukokous-6/2025-12-15/
LOCATION:Toimintakeskus Villa Borgis\, Linnavuorentie 13\, Helsinki\, 00950\, Finland
CATEGORIES:Toimintakeskus Villa Borgis
END:VEVENT
BEGIN:VEVENT
DTSTART;TZID=Europe/Helsinki:20251215T103000
DTEND;TZID=Europe/Helsinki:20251215T120000
DTSTAMP:20260426T070403
CREATED:20240814T064605Z
LAST-MODIFIED:20260331T080702Z
UID:10022666-1765794600-1765800000@kalenteri.niemikoti.fi
SUMMARY:Talon töitä
DESCRIPTION:Yhteisön yhteisiä talon töitä; siivousta\, pihatöitä\, keittiötöitä\, sisustusta yms.
URL:https://kalenteri.niemikoti.fi/en/tapahtuma/talon-toita-3/2025-12-15/
LOCATION:Toimintakeskus Villa Borgis\, Linnavuorentie 13\, Helsinki\, 00950\, Finland
CATEGORIES:Toimintakeskus Villa Borgis
END:VEVENT
BEGIN:VEVENT
DTSTART;TZID=Europe/Helsinki:20251215T120000
DTEND;TZID=Europe/Helsinki:20251215T130000
DTSTAMP:20260426T070403
CREATED:20250820T065924Z
LAST-MODIFIED:20260331T080813Z
UID:10024702-1765800000-1765803600@kalenteri.niemikoti.fi
SUMMARY:Yhteisön lounas
DESCRIPTION:Lounas yhteisöpäivän kävijöille. Lounaaseen sisältyy ravitsevaa arkiruokaa ja välillä lisäksi salaattia. Lounaan hinta 3 e\, sisältää iltapäiväkahvin.
URL:https://kalenteri.niemikoti.fi/en/tapahtuma/yhteison-luonas/2025-12-15/
LOCATION:Toimintakeskus Villa Borgis\, Linnavuorentie 13\, Helsinki\, 00950\, Finland
CATEGORIES:Toimintakeskus Villa Borgis
END:VEVENT
BEGIN:VEVENT
DTSTART;TZID=Europe/Helsinki:20251215T130000
DTEND;TZID=Europe/Helsinki:20251215T140000
DTSTAMP:20260426T070403
CREATED:20251125T095535Z
LAST-MODIFIED:20251212T070013Z
UID:10025448-1765803600-1765807200@kalenteri.niemikoti.fi
SUMMARY:Mahdollisuuksien maanantai
DESCRIPTION:Yhteisön joulukuista ohjelmaa.
URL:https://kalenteri.niemikoti.fi/en/tapahtuma/mahdollisuuksien-maanantai-3/2025-12-15/
LOCATION:Toimintakeskus Villa Borgis\, Linnavuorentie 13\, Helsinki\, 00950\, Finland
CATEGORIES:Toimintakeskus Villa Borgis
END:VEVENT
BEGIN:VEVENT
DTSTART;TZID=Europe/Helsinki:20251216T090000
DTEND;TZID=Europe/Helsinki:20251216T094500
DTSTAMP:20260426T070403
CREATED:20250820T065259Z
LAST-MODIFIED:20260331T081723Z
UID:10026082-1765875600-1765878300@kalenteri.niemikoti.fi
SUMMARY:Yhteisön aamiainen
DESCRIPTION:Aamiainen yhteisöpäivän kävijöille. Sisältää puuron\, talon omenahilloa\, leipää\, leivänpäällisiä\, jugurttia\, hedelmiä\, kahvia\, teetä ja mehua. Hinta aamiaiselle 3 e\, sisältää myös iltapäiväkahvin.
URL:https://kalenteri.niemikoti.fi/en/tapahtuma/yhteison-aamiainen-3/2025-12-16/
LOCATION:Toimintakeskus Villa Borgis\, Linnavuorentie 13\, Helsinki\, 00950\, Finland
CATEGORIES:Toimintakeskus Villa Borgis
END:VEVENT
BEGIN:VEVENT
DTSTART;TZID=Europe/Helsinki:20251216T100000
DTEND;TZID=Europe/Helsinki:20251216T103000
DTSTAMP:20260426T070403
CREATED:20250818T063824Z
LAST-MODIFIED:20260331T081921Z
UID:10024549-1765879200-1765881000@kalenteri.niemikoti.fi
SUMMARY:Yhteisöpäivän aamukokous
DESCRIPTION:Yhteisöpäivän aamukokouksessa tutustutaan päivän ohjelmaan ja tuleviin tapahtumiin sekä käydään kuulumiskierros.
URL:https://kalenteri.niemikoti.fi/en/tapahtuma/yhteisopaivan-aamukokous-6/2025-12-16/
LOCATION:Toimintakeskus Villa Borgis\, Linnavuorentie 13\, Helsinki\, 00950\, Finland
CATEGORIES:Toimintakeskus Villa Borgis
END:VEVENT
BEGIN:VEVENT
DTSTART;TZID=Europe/Helsinki:20251216T103000
DTEND;TZID=Europe/Helsinki:20251216T120000
DTSTAMP:20260426T070403
CREATED:20240814T065248Z
LAST-MODIFIED:20260421T091527Z
UID:10025517-1765881000-1765886400@kalenteri.niemikoti.fi
SUMMARY:Borgiksen Picassot
DESCRIPTION:Kuvataideryhmä. Kaikille sopivaa kuvallista työskentelyä\, ei vaadi erityisosaamista.
URL:https://kalenteri.niemikoti.fi/en/tapahtuma/borgiksen-picassot-2/2025-12-16/
LOCATION:Toimintakeskus Villa Borgis\, Linnavuorentie 13\, Helsinki\, 00950\, Finland
CATEGORIES:Toimintakeskus Villa Borgis
ATTACH;FMTTYPE=image/jpeg:https://kalenteri.niemikoti.fi/wp-content/uploads/2024/08/Borgiksen-Picassot-1.jpg
END:VEVENT
BEGIN:VEVENT
DTSTART;TZID=Europe/Helsinki:20251216T130000
DTEND;TZID=Europe/Helsinki:20251216T140000
DTSTAMP:20260426T070403
CREATED:20251125T132355Z
LAST-MODIFIED:20251212T070218Z
UID:10025540-1765890000-1765893600@kalenteri.niemikoti.fi
SUMMARY:Yhteisön ohjelmaa
DESCRIPTION:Yhdessäoloa ja vaihtelevaa tekemistä\, esim. pelejä\, ulkoilua\, musiikin kuuntelua ynnä muuta mukavaa.
URL:https://kalenteri.niemikoti.fi/en/tapahtuma/yhteison-ohjelmaa-12/2025-12-16/
LOCATION:Toimintakeskus Villa Borgis\, Linnavuorentie 13\, Helsinki\, 00950\, Finland
CATEGORIES:Toimintakeskus Villa Borgis
END:VEVENT
BEGIN:VEVENT
DTSTART;TZID=Europe/Helsinki:20251217T090000
DTEND;TZID=Europe/Helsinki:20251217T094500
DTSTAMP:20260426T070403
CREATED:20250820T065259Z
LAST-MODIFIED:20260331T081723Z
UID:10026083-1765962000-1765964700@kalenteri.niemikoti.fi
SUMMARY:Yhteisön aamiainen
DESCRIPTION:Aamiainen yhteisöpäivän kävijöille. Sisältää puuron\, talon omenahilloa\, leipää\, leivänpäällisiä\, jugurttia\, hedelmiä\, kahvia\, teetä ja mehua. Hinta aamiaiselle 3 e\, sisältää myös iltapäiväkahvin.
URL:https://kalenteri.niemikoti.fi/en/tapahtuma/yhteison-aamiainen-3/2025-12-17/
LOCATION:Toimintakeskus Villa Borgis\, Linnavuorentie 13\, Helsinki\, 00950\, Finland
CATEGORIES:Toimintakeskus Villa Borgis
END:VEVENT
BEGIN:VEVENT
DTSTART;TZID=Europe/Helsinki:20251217T093000
DTEND;TZID=Europe/Helsinki:20251217T120000
DTSTAMP:20260426T070403
CREATED:20251127T090708Z
LAST-MODIFIED:20251127T090708Z
UID:10025546-1765963800-1765972800@kalenteri.niemikoti.fi
SUMMARY:Joululeipurit
DESCRIPTION:Leivotaan yhdessä joulukuisia herkkuja.
URL:https://kalenteri.niemikoti.fi/en/tapahtuma/joululeipurit-3/2025-12-17/
LOCATION:Toimintakeskus Villa Borgis\, Linnavuorentie 13\, Helsinki\, 00950\, Finland
CATEGORIES:Toimintakeskus Villa Borgis
END:VEVENT
BEGIN:VEVENT
DTSTART;TZID=Europe/Helsinki:20251217T100000
DTEND;TZID=Europe/Helsinki:20251217T103000
DTSTAMP:20260426T070403
CREATED:20250818T063824Z
LAST-MODIFIED:20260331T081921Z
UID:10024550-1765965600-1765967400@kalenteri.niemikoti.fi
SUMMARY:Yhteisöpäivän aamukokous
DESCRIPTION:Yhteisöpäivän aamukokouksessa tutustutaan päivän ohjelmaan ja tuleviin tapahtumiin sekä käydään kuulumiskierros.
URL:https://kalenteri.niemikoti.fi/en/tapahtuma/yhteisopaivan-aamukokous-6/2025-12-17/
LOCATION:Toimintakeskus Villa Borgis\, Linnavuorentie 13\, Helsinki\, 00950\, Finland
CATEGORIES:Toimintakeskus Villa Borgis
END:VEVENT
BEGIN:VEVENT
DTSTART;TZID=Europe/Helsinki:20251217T130000
DTEND;TZID=Europe/Helsinki:20251217T140000
DTSTAMP:20260426T070403
CREATED:20251128T074032Z
LAST-MODIFIED:20251128T074032Z
UID:10025548-1765976400-1765980000@kalenteri.niemikoti.fi
SUMMARY:Yhteisön ohjelmaa
DESCRIPTION:Joulukuista yhteisön ohjelmaa.
URL:https://kalenteri.niemikoti.fi/en/tapahtuma/yhteison-ohjelmaa-13/
LOCATION:Toimintakeskus Villa Borgis\, Linnavuorentie 13\, Helsinki\, 00950\, Finland
CATEGORIES:Toimintakeskus Villa Borgis
END:VEVENT
BEGIN:VEVENT
DTSTART;TZID=Europe/Helsinki:20251218T110000
DTEND;TZID=Europe/Helsinki:20251218T120000
DTSTAMP:20260426T070403
CREATED:20251128T083815Z
LAST-MODIFIED:20251128T083815Z
UID:10025552-1766055600-1766059200@kalenteri.niemikoti.fi
SUMMARY:Aamuvenyttely
DESCRIPTION:Lempeää kaikille sopivaa aamuista liikettä ja venyttelyä.
URL:https://kalenteri.niemikoti.fi/en/tapahtuma/aamuvenyttely/2025-12-18/
LOCATION:Toimintakeskus Villa Borgis\, Linnavuorentie 13\, Helsinki\, 00950\, Finland
CATEGORIES:Toimintakeskus Villa Borgis
END:VEVENT
BEGIN:VEVENT
DTSTART;TZID=Europe/Helsinki:20251219T100000
DTEND;TZID=Europe/Helsinki:20251219T120000
DTSTAMP:20260426T070403
CREATED:20251030T135629Z
LAST-MODIFIED:20260421T135152Z
UID:10024971-1766138400-1766145600@kalenteri.niemikoti.fi
SUMMARY:Sauna
DESCRIPTION:Sauna lämpiää perjantaisin\, jos on ilmoittautuneita. Miehet klo 10 – 11\, naiset klo 11 – 12. Ilmoittautuminen viim. samana päivänä klo 9 mennessä. Oma pyyhe ja pesuaineet mukaan.
URL:https://kalenteri.niemikoti.fi/en/tapahtuma/sauna-2/2025-12-19/
LOCATION:Toimintakeskus Villa Borgis\, Linnavuorentie 13\, Helsinki\, 00950\, Finland
CATEGORIES:Toimintakeskus Villa Borgis
END:VEVENT
BEGIN:VEVENT
DTSTART;TZID=Europe/Helsinki:20251219T120000
DTEND;TZID=Europe/Helsinki:20251219T130000
DTSTAMP:20260426T070403
CREATED:20251128T090529Z
LAST-MODIFIED:20251128T090529Z
UID:10025579-1766145600-1766149200@kalenteri.niemikoti.fi
SUMMARY:Perjantaihygge
DESCRIPTION:Mukavaa yhdessäoloa ja vaihtelevaa rentoa tekemistä.
URL:https://kalenteri.niemikoti.fi/en/tapahtuma/perjantaihygge/2025-12-19/
LOCATION:Toimintakeskus Villa Borgis\, Linnavuorentie 13\, Helsinki\, 00950\, Finland
CATEGORIES:Toimintakeskus Villa Borgis
END:VEVENT
END:VCALENDAR