BEGIN:VCALENDAR
VERSION:2.0
PRODID:-//Tapahtumakalenteri - ECPv6.15.18//NONSGML v1.0//EN
CALSCALE:GREGORIAN
METHOD:PUBLISH
X-ORIGINAL-URL:https://kalenteri.niemikoti.fi/en/
X-WR-CALDESC:Events for Tapahtumakalenteri
REFRESH-INTERVAL;VALUE=DURATION:PT1H
X-Robots-Tag:noindex
X-PUBLISHED-TTL:PT1H
BEGIN:VTIMEZONE
TZID:Europe/Helsinki
BEGIN:DAYLIGHT
TZOFFSETFROM:+0200
TZOFFSETTO:+0300
TZNAME:EEST
DTSTART:20250330T010000
END:DAYLIGHT
BEGIN:STANDARD
TZOFFSETFROM:+0300
TZOFFSETTO:+0200
TZNAME:EET
DTSTART:20251026T010000
END:STANDARD
BEGIN:DAYLIGHT
TZOFFSETFROM:+0200
TZOFFSETTO:+0300
TZNAME:EEST
DTSTART:20260329T010000
END:DAYLIGHT
BEGIN:STANDARD
TZOFFSETFROM:+0300
TZOFFSETTO:+0200
TZNAME:EET
DTSTART:20261025T010000
END:STANDARD
BEGIN:DAYLIGHT
TZOFFSETFROM:+0200
TZOFFSETTO:+0300
TZNAME:EEST
DTSTART:20270328T010000
END:DAYLIGHT
BEGIN:STANDARD
TZOFFSETFROM:+0300
TZOFFSETTO:+0200
TZNAME:EET
DTSTART:20271031T010000
END:STANDARD
END:VTIMEZONE
BEGIN:VEVENT
DTSTART;TZID=Europe/Helsinki:20260202T090000
DTEND;TZID=Europe/Helsinki:20260202T094500
DTSTAMP:20260421T074622
CREATED:20250820T065259Z
LAST-MODIFIED:20260331T081723Z
UID:10025686-1770022800-1770025500@kalenteri.niemikoti.fi
SUMMARY:Yhteisön aamiainen
DESCRIPTION:Aamiainen yhteisöpäivän kävijöille. Sisältää puuron\, talon omenahilloa\, leipää\, leivänpäällisiä\, jugurttia\, hedelmiä\, kahvia\, teetä ja mehua. Hinta aamiaiselle 3 e\, sisältää myös iltapäiväkahvin.
URL:https://kalenteri.niemikoti.fi/en/tapahtuma/yhteison-aamiainen-3/2026-02-02/
LOCATION:Toimintakeskus Villa Borgis\, Linnavuorentie 13\, Helsinki\, 00950\, Finland
CATEGORIES:Toimintakeskus Villa Borgis
END:VEVENT
BEGIN:VEVENT
DTSTART;TZID=Europe/Helsinki:20260202T100000
DTEND;TZID=Europe/Helsinki:20260202T103000
DTSTAMP:20260421T074622
CREATED:20250818T063824Z
LAST-MODIFIED:20260331T081921Z
UID:10025903-1770026400-1770028200@kalenteri.niemikoti.fi
SUMMARY:Yhteisöpäivän aamukokous
DESCRIPTION:Yhteisöpäivän aamukokouksessa tutustutaan päivän ohjelmaan ja tuleviin tapahtumiin sekä käydään kuulumiskierros.
URL:https://kalenteri.niemikoti.fi/en/tapahtuma/yhteisopaivan-aamukokous-6/2026-02-02/
LOCATION:Toimintakeskus Villa Borgis\, Linnavuorentie 13\, Helsinki\, 00950\, Finland
CATEGORIES:Toimintakeskus Villa Borgis
END:VEVENT
BEGIN:VEVENT
DTSTART;TZID=Europe/Helsinki:20260202T103000
DTEND;TZID=Europe/Helsinki:20260202T120000
DTSTAMP:20260421T074622
CREATED:20240814T064605Z
LAST-MODIFIED:20260331T080702Z
UID:10025409-1770028200-1770033600@kalenteri.niemikoti.fi
SUMMARY:Talon töitä
DESCRIPTION:Yhteisön yhteisiä talon töitä; siivousta\, pihatöitä\, keittiötöitä\, sisustusta yms.
URL:https://kalenteri.niemikoti.fi/en/tapahtuma/talon-toita-3/2026-02-02/
LOCATION:Toimintakeskus Villa Borgis\, Linnavuorentie 13\, Helsinki\, 00950\, Finland
CATEGORIES:Toimintakeskus Villa Borgis
END:VEVENT
BEGIN:VEVENT
DTSTART;TZID=Europe/Helsinki:20260202T113000
DTEND;TZID=Europe/Helsinki:20260202T120000
DTSTAMP:20260421T074622
CREATED:20251217T074626Z
LAST-MODIFIED:20260331T081041Z
UID:10033485-1770031800-1770033600@kalenteri.niemikoti.fi
SUMMARY:Kävelyryhmä
DESCRIPTION:Pieni kävelyretki Villa Borgiksen lähiluontoon.
URL:https://kalenteri.niemikoti.fi/en/tapahtuma/kavelyryhma-4/2026-02-02/
LOCATION:Toimintakeskus Villa Borgis\, Linnavuorentie 13\, Helsinki\, 00950\, Finland
CATEGORIES:Toimintakeskus Villa Borgis
END:VEVENT
BEGIN:VEVENT
DTSTART;TZID=Europe/Helsinki:20260202T120000
DTEND;TZID=Europe/Helsinki:20260202T130000
DTSTAMP:20260421T074622
CREATED:20250820T065924Z
LAST-MODIFIED:20260331T080813Z
UID:10025429-1770033600-1770037200@kalenteri.niemikoti.fi
SUMMARY:Yhteisön lounas
DESCRIPTION:Lounas yhteisöpäivän kävijöille. Lounaaseen sisältyy ravitsevaa arkiruokaa ja välillä lisäksi salaattia. Lounaan hinta 3 e\, sisältää iltapäiväkahvin.
URL:https://kalenteri.niemikoti.fi/en/tapahtuma/yhteison-luonas/2026-02-02/
LOCATION:Toimintakeskus Villa Borgis\, Linnavuorentie 13\, Helsinki\, 00950\, Finland
CATEGORIES:Toimintakeskus Villa Borgis
END:VEVENT
BEGIN:VEVENT
DTSTART;TZID=Europe/Helsinki:20260202T130000
DTEND;TZID=Europe/Helsinki:20260202T141500
DTSTAMP:20260421T074622
CREATED:20260127T091416Z
LAST-MODIFIED:20260127T132719Z
UID:10033489-1770037200-1770041700@kalenteri.niemikoti.fi
SUMMARY:Kohtaamistaide
DESCRIPTION:Moniaistillista kuvataidetta ryhmässä. Virittäydymme päivän aiheeseen kaikin aistein ja teemme yllätyksellisen taideteoksen arvostaen omaa ja muiden tekemistä. Aiempaa kokemusta tai osaamista ei tarvita. Max 8 osallistujaa. Ilmoittaudu. 
URL:https://kalenteri.niemikoti.fi/en/tapahtuma/kohtaamistaide-6/2026-02-02/
LOCATION:Toimintakeskus Villa Borgis\, Linnavuorentie 13\, Helsinki\, 00950\, Finland
CATEGORIES:Toimintakeskus Villa Borgis
ATTACH;FMTTYPE=image/jpeg:https://kalenteri.niemikoti.fi/wp-content/uploads/2026/01/Kohtaamistaide.jpg
END:VEVENT
BEGIN:VEVENT
DTSTART;TZID=Europe/Helsinki:20260203T090000
DTEND;TZID=Europe/Helsinki:20260203T094500
DTSTAMP:20260421T074622
CREATED:20250820T065259Z
LAST-MODIFIED:20260331T081723Z
UID:10025687-1770109200-1770111900@kalenteri.niemikoti.fi
SUMMARY:Yhteisön aamiainen
DESCRIPTION:Aamiainen yhteisöpäivän kävijöille. Sisältää puuron\, talon omenahilloa\, leipää\, leivänpäällisiä\, jugurttia\, hedelmiä\, kahvia\, teetä ja mehua. Hinta aamiaiselle 3 e\, sisältää myös iltapäiväkahvin.
URL:https://kalenteri.niemikoti.fi/en/tapahtuma/yhteison-aamiainen-3/2026-02-03/
LOCATION:Toimintakeskus Villa Borgis\, Linnavuorentie 13\, Helsinki\, 00950\, Finland
CATEGORIES:Toimintakeskus Villa Borgis
END:VEVENT
BEGIN:VEVENT
DTSTART;TZID=Europe/Helsinki:20260203T100000
DTEND;TZID=Europe/Helsinki:20260203T103000
DTSTAMP:20260421T074622
CREATED:20250818T063824Z
LAST-MODIFIED:20260331T081921Z
UID:10025904-1770112800-1770114600@kalenteri.niemikoti.fi
SUMMARY:Yhteisöpäivän aamukokous
DESCRIPTION:Yhteisöpäivän aamukokouksessa tutustutaan päivän ohjelmaan ja tuleviin tapahtumiin sekä käydään kuulumiskierros.
URL:https://kalenteri.niemikoti.fi/en/tapahtuma/yhteisopaivan-aamukokous-6/2026-02-03/
LOCATION:Toimintakeskus Villa Borgis\, Linnavuorentie 13\, Helsinki\, 00950\, Finland
CATEGORIES:Toimintakeskus Villa Borgis
END:VEVENT
BEGIN:VEVENT
DTSTART;TZID=Europe/Helsinki:20260203T103000
DTEND;TZID=Europe/Helsinki:20260203T113000
DTSTAMP:20260421T074622
CREATED:20260127T091950Z
LAST-MODIFIED:20260127T091950Z
UID:10033494-1770114600-1770118200@kalenteri.niemikoti.fi
SUMMARY:Borgiksen Picassot
DESCRIPTION:Kuvataideryhmä. Kaikille sopivaa kuvallista työskentelyä\, ei vaadi erityisosaamista.
URL:https://kalenteri.niemikoti.fi/en/tapahtuma/borgiksen-picassot-4/
LOCATION:Toimintakeskus Villa Borgis\, Linnavuorentie 13\, Helsinki\, 00950\, Finland
CATEGORIES:Toimintakeskus Villa Borgis
END:VEVENT
BEGIN:VEVENT
DTSTART;TZID=Europe/Helsinki:20260204T090000
DTEND;TZID=Europe/Helsinki:20260204T094500
DTSTAMP:20260421T074622
CREATED:20250820T065259Z
LAST-MODIFIED:20260331T081723Z
UID:10025688-1770195600-1770198300@kalenteri.niemikoti.fi
SUMMARY:Yhteisön aamiainen
DESCRIPTION:Aamiainen yhteisöpäivän kävijöille. Sisältää puuron\, talon omenahilloa\, leipää\, leivänpäällisiä\, jugurttia\, hedelmiä\, kahvia\, teetä ja mehua. Hinta aamiaiselle 3 e\, sisältää myös iltapäiväkahvin.
URL:https://kalenteri.niemikoti.fi/en/tapahtuma/yhteison-aamiainen-3/2026-02-04/
LOCATION:Toimintakeskus Villa Borgis\, Linnavuorentie 13\, Helsinki\, 00950\, Finland
CATEGORIES:Toimintakeskus Villa Borgis
END:VEVENT
BEGIN:VEVENT
DTSTART;TZID=Europe/Helsinki:20260204T100000
DTEND;TZID=Europe/Helsinki:20260204T103000
DTSTAMP:20260421T074622
CREATED:20250818T063824Z
LAST-MODIFIED:20260331T081921Z
UID:10025905-1770199200-1770201000@kalenteri.niemikoti.fi
SUMMARY:Yhteisöpäivän aamukokous
DESCRIPTION:Yhteisöpäivän aamukokouksessa tutustutaan päivän ohjelmaan ja tuleviin tapahtumiin sekä käydään kuulumiskierros.
URL:https://kalenteri.niemikoti.fi/en/tapahtuma/yhteisopaivan-aamukokous-6/2026-02-04/
LOCATION:Toimintakeskus Villa Borgis\, Linnavuorentie 13\, Helsinki\, 00950\, Finland
CATEGORIES:Toimintakeskus Villa Borgis
END:VEVENT
BEGIN:VEVENT
DTSTART;TZID=Europe/Helsinki:20260204T110000
DTEND;TZID=Europe/Helsinki:20260204T120000
DTSTAMP:20260421T074622
CREATED:20260127T093046Z
LAST-MODIFIED:20260127T101015Z
UID:10033524-1770202800-1770206400@kalenteri.niemikoti.fi
SUMMARY:Kirjojen ystävät
DESCRIPTION:Tule jakamaan lukukokemuksiasi. Luemme otteita eri kirjoista\, keskustelemme ja kirjoitamme myös omia tekstejä.
URL:https://kalenteri.niemikoti.fi/en/tapahtuma/kirjojen-ystavat/2026-02-04/
LOCATION:Toimintakeskus Villa Borgis\, Linnavuorentie 13\, Helsinki\, 00950\, Finland
CATEGORIES:Toimintakeskus Villa Borgis
END:VEVENT
BEGIN:VEVENT
DTSTART;TZID=Europe/Helsinki:20260204T130000
DTEND;TZID=Europe/Helsinki:20260204T143000
DTSTAMP:20260421T074622
CREATED:20251217T133448Z
LAST-MODIFIED:20260327T091310Z
UID:10033501-1770210000-1770215400@kalenteri.niemikoti.fi
SUMMARY:Puutyöryhmä
DESCRIPTION:Tehdään pieniä puutöitä käsityökaluilla. Ryhmään mahtuu kerralla max. 4 osallistujaa. Ilmoittaudu mukaan.
URL:https://kalenteri.niemikoti.fi/en/tapahtuma/puutyoryhma-4/2026-02-04/
LOCATION:Toimintakeskus Villa Borgis\, Linnavuorentie 13\, Helsinki\, 00950\, Finland
CATEGORIES:Toimintakeskus Villa Borgis
END:VEVENT
BEGIN:VEVENT
DTSTART;TZID=Europe/Helsinki:20260204T134500
DTEND;TZID=Europe/Helsinki:20260204T144500
DTSTAMP:20260421T074622
CREATED:20251217T134031Z
LAST-MODIFIED:20260209T084428Z
UID:10033505-1770212700-1770216300@kalenteri.niemikoti.fi
SUMMARY:Kuntosaliryhmä Elviksessä
DESCRIPTION:Tehdään ryhmässä lämmittely\, jonka jälkeen voi harjoitella kuntosalin laitteilla. Aiempaa kuntosalikokemusta ei tarvitse olla. Lähtö Villa Borgiksesta klo 13.00. Ilmoittaudu mukaan.
URL:https://kalenteri.niemikoti.fi/en/tapahtuma/kuntosaliryhma-elviksessa/2026-02-04/
LOCATION:Kulttuuripaja ELVIS\, Lautatarhankatu 4\, Helsinki\, 00580\, Finland
CATEGORIES:Toimintakeskus Villa Borgis
END:VEVENT
BEGIN:VEVENT
DTSTART;TZID=Europe/Helsinki:20260205T111500
DTEND;TZID=Europe/Helsinki:20260205T120000
DTSTAMP:20260421T074622
CREATED:20260127T093845Z
LAST-MODIFIED:20260211T073521Z
UID:10033509-1770290100-1770292800@kalenteri.niemikoti.fi
SUMMARY:Lempeä liikunta
DESCRIPTION:Kaikille sopivaa lempeää liikuskelua ja venyttelyä.
URL:https://kalenteri.niemikoti.fi/en/tapahtuma/lempea-liikunta-3/2026-02-05/
LOCATION:Toimintakeskus Villa Borgis\, Linnavuorentie 13\, Helsinki\, 00950\, Finland
CATEGORIES:Toimintakeskus Villa Borgis
END:VEVENT
BEGIN:VEVENT
DTSTART;TZID=Europe/Helsinki:20260205T130000
DTEND;TZID=Europe/Helsinki:20260205T150000
DTSTAMP:20260421T074622
CREATED:20260127T094303Z
LAST-MODIFIED:20260127T100753Z
UID:10033521-1770296400-1770303600@kalenteri.niemikoti.fi
SUMMARY:Kädentaitotorstai
DESCRIPTION:Kädentaitopaja\, jossa on vaihtuva teema tai voit tehdä omaa käsityöprojektia tai keskeneräisiä töitäsi. Ilmoittaudu. \n5.2. Tilkkutyöt \n12.2. Ystävänpäivän sydämiä \n19.2. Korupaja
URL:https://kalenteri.niemikoti.fi/en/tapahtuma/kadentaitotorstai-6/2026-02-05/
LOCATION:Toimintakeskus Villa Borgis\, Linnavuorentie 13\, Helsinki\, 00950\, Finland
CATEGORIES:Toimintakeskus Villa Borgis
END:VEVENT
BEGIN:VEVENT
DTSTART;TZID=Europe/Helsinki:20260206T100000
DTEND;TZID=Europe/Helsinki:20260206T110000
DTSTAMP:20260421T074622
CREATED:20250522T084825Z
LAST-MODIFIED:20260331T075857Z
UID:10025560-1770372000-1770375600@kalenteri.niemikoti.fi
SUMMARY:Aamujooga
DESCRIPTION:Kaikille sopivaa\, lempeää ja rauhallista joogaa. Max. 10 osallistujaa. Ilmoittaudu.
URL:https://kalenteri.niemikoti.fi/en/tapahtuma/aamujooga-3/2026-02-06/
LOCATION:Toimintakeskus Villa Borgis\, Linnavuorentie 13\, Helsinki\, 00950\, Finland
CATEGORIES:Toimintakeskus Villa Borgis
ATTACH;FMTTYPE=image/jpeg:https://kalenteri.niemikoti.fi/wp-content/uploads/2025/05/VillaBorgiksen-Aamujooga.jpg
END:VEVENT
BEGIN:VEVENT
DTSTART;TZID=Europe/Helsinki:20260206T100000
DTEND;TZID=Europe/Helsinki:20260206T120000
DTSTAMP:20260421T074622
CREATED:20251030T135629Z
LAST-MODIFIED:20260331T075950Z
UID:10026011-1770372000-1770379200@kalenteri.niemikoti.fi
SUMMARY:Sauna
DESCRIPTION:Sauna lämpiää perjantaisin\, jos on ilmoittautuneita. Miehet klo 10 – 11\, naiset klo 11 – 12. Ilmoittautuminen viim. samana päivänä klo 9 mennessä. Oma pyyhe ja pesuaineet mukaan.
URL:https://kalenteri.niemikoti.fi/en/tapahtuma/sauna-2/2026-02-06/
LOCATION:Toimintakeskus Villa Borgis\, Linnavuorentie 13\, Helsinki\, 00950\, Finland
CATEGORIES:Toimintakeskus Villa Borgis
END:VEVENT
BEGIN:VEVENT
DTSTART;TZID=Europe/Helsinki:20260206T120000
DTEND;TZID=Europe/Helsinki:20260206T123000
DTSTAMP:20260421T074622
CREATED:20250723T121431Z
LAST-MODIFIED:20260327T092736Z
UID:10033520-1770379200-1770381000@kalenteri.niemikoti.fi
SUMMARY:Avoin Info
DESCRIPTION:Avoin tilaisuus kaikille toiminnastamme kiinnostuneille.
URL:https://kalenteri.niemikoti.fi/en/tapahtuma/avoin-info-11/2026-02-06/
LOCATION:Toimintakeskus Villa Borgis\, Linnavuorentie 13\, Helsinki\, 00950\, Finland
CATEGORIES:Toimintakeskus Villa Borgis
END:VEVENT
BEGIN:VEVENT
DTSTART;TZID=Europe/Helsinki:20260206T120000
DTEND;TZID=Europe/Helsinki:20260206T130000
DTSTAMP:20260421T074622
CREATED:20260127T100119Z
LAST-MODIFIED:20260127T100119Z
UID:10033516-1770379200-1770382800@kalenteri.niemikoti.fi
SUMMARY:Pelit ja leikit
DESCRIPTION:Kokeillaan uusia ja vanhoja pelejä ja leikkejä.
URL:https://kalenteri.niemikoti.fi/en/tapahtuma/pelit-ja-leikit-3/2026-02-06/
LOCATION:Toimintakeskus Villa Borgis\, Linnavuorentie 13\, Helsinki\, 00950\, Finland
CATEGORIES:Toimintakeskus Villa Borgis
END:VEVENT
END:VCALENDAR