BEGIN:VCALENDAR
VERSION:2.0
PRODID:-//Tapahtumakalenteri - ECPv6.15.18//NONSGML v1.0//EN
CALSCALE:GREGORIAN
METHOD:PUBLISH
X-WR-CALNAME:Tapahtumakalenteri
X-ORIGINAL-URL:https://kalenteri.niemikoti.fi/en/
X-WR-CALDESC:Events for Tapahtumakalenteri
REFRESH-INTERVAL;VALUE=DURATION:PT1H
X-Robots-Tag:noindex
X-PUBLISHED-TTL:PT1H
BEGIN:VTIMEZONE
TZID:Europe/Helsinki
BEGIN:DAYLIGHT
TZOFFSETFROM:+0200
TZOFFSETTO:+0300
TZNAME:EEST
DTSTART:20250330T010000
END:DAYLIGHT
BEGIN:STANDARD
TZOFFSETFROM:+0300
TZOFFSETTO:+0200
TZNAME:EET
DTSTART:20251026T010000
END:STANDARD
BEGIN:DAYLIGHT
TZOFFSETFROM:+0200
TZOFFSETTO:+0300
TZNAME:EEST
DTSTART:20260329T010000
END:DAYLIGHT
BEGIN:STANDARD
TZOFFSETFROM:+0300
TZOFFSETTO:+0200
TZNAME:EET
DTSTART:20261025T010000
END:STANDARD
BEGIN:DAYLIGHT
TZOFFSETFROM:+0200
TZOFFSETTO:+0300
TZNAME:EEST
DTSTART:20270328T010000
END:DAYLIGHT
BEGIN:STANDARD
TZOFFSETFROM:+0300
TZOFFSETTO:+0200
TZNAME:EET
DTSTART:20271031T010000
END:STANDARD
END:VTIMEZONE
BEGIN:VEVENT
DTSTART;TZID=Europe/Helsinki:20260302T090000
DTEND;TZID=Europe/Helsinki:20260302T094500
DTSTAMP:20260421T073243
CREATED:20250820T065259Z
LAST-MODIFIED:20260331T081723Z
UID:10025698-1772442000-1772444700@kalenteri.niemikoti.fi
SUMMARY:Yhteisön aamiainen
DESCRIPTION:Aamiainen yhteisöpäivän kävijöille. Sisältää puuron\, talon omenahilloa\, leipää\, leivänpäällisiä\, jugurttia\, hedelmiä\, kahvia\, teetä ja mehua. Hinta aamiaiselle 3 e\, sisältää myös iltapäiväkahvin.
URL:https://kalenteri.niemikoti.fi/en/tapahtuma/yhteison-aamiainen-3/2026-03-02/
LOCATION:Toimintakeskus Villa Borgis\, Linnavuorentie 13\, Helsinki\, 00950\, Finland
CATEGORIES:Toimintakeskus Villa Borgis
END:VEVENT
BEGIN:VEVENT
DTSTART;TZID=Europe/Helsinki:20260302T100000
DTEND;TZID=Europe/Helsinki:20260302T103000
DTSTAMP:20260421T073243
CREATED:20250818T063824Z
LAST-MODIFIED:20260331T081921Z
UID:10025915-1772445600-1772447400@kalenteri.niemikoti.fi
SUMMARY:Yhteisöpäivän aamukokous
DESCRIPTION:Yhteisöpäivän aamukokouksessa tutustutaan päivän ohjelmaan ja tuleviin tapahtumiin sekä käydään kuulumiskierros.
URL:https://kalenteri.niemikoti.fi/en/tapahtuma/yhteisopaivan-aamukokous-6/2026-03-02/
LOCATION:Toimintakeskus Villa Borgis\, Linnavuorentie 13\, Helsinki\, 00950\, Finland
CATEGORIES:Toimintakeskus Villa Borgis
END:VEVENT
BEGIN:VEVENT
DTSTART;TZID=Europe/Helsinki:20260302T103000
DTEND;TZID=Europe/Helsinki:20260302T120000
DTSTAMP:20260421T073243
CREATED:20240814T064605Z
LAST-MODIFIED:20260331T080702Z
UID:10025413-1772447400-1772452800@kalenteri.niemikoti.fi
SUMMARY:Talon töitä
DESCRIPTION:Yhteisön yhteisiä talon töitä; siivousta\, pihatöitä\, keittiötöitä\, sisustusta yms.
URL:https://kalenteri.niemikoti.fi/en/tapahtuma/talon-toita-3/2026-03-02/
LOCATION:Toimintakeskus Villa Borgis\, Linnavuorentie 13\, Helsinki\, 00950\, Finland
CATEGORIES:Toimintakeskus Villa Borgis
END:VEVENT
BEGIN:VEVENT
DTSTART;TZID=Europe/Helsinki:20260302T113000
DTEND;TZID=Europe/Helsinki:20260302T120000
DTSTAMP:20260421T073243
CREATED:20251217T074626Z
LAST-MODIFIED:20260331T081041Z
UID:10033952-1772451000-1772452800@kalenteri.niemikoti.fi
SUMMARY:Kävelyryhmä
DESCRIPTION:Pieni kävelyretki Villa Borgiksen lähiluontoon.
URL:https://kalenteri.niemikoti.fi/en/tapahtuma/kavelyryhma-4/2026-03-02/
LOCATION:Toimintakeskus Villa Borgis\, Linnavuorentie 13\, Helsinki\, 00950\, Finland
CATEGORIES:Toimintakeskus Villa Borgis
END:VEVENT
BEGIN:VEVENT
DTSTART;TZID=Europe/Helsinki:20260302T120000
DTEND;TZID=Europe/Helsinki:20260302T130000
DTSTAMP:20260421T073243
CREATED:20250820T065924Z
LAST-MODIFIED:20260331T080813Z
UID:10025433-1772452800-1772456400@kalenteri.niemikoti.fi
SUMMARY:Yhteisön lounas
DESCRIPTION:Lounas yhteisöpäivän kävijöille. Lounaaseen sisältyy ravitsevaa arkiruokaa ja välillä lisäksi salaattia. Lounaan hinta 3 e\, sisältää iltapäiväkahvin.
URL:https://kalenteri.niemikoti.fi/en/tapahtuma/yhteison-luonas/2026-03-02/
LOCATION:Toimintakeskus Villa Borgis\, Linnavuorentie 13\, Helsinki\, 00950\, Finland
CATEGORIES:Toimintakeskus Villa Borgis
END:VEVENT
BEGIN:VEVENT
DTSTART;TZID=Europe/Helsinki:20260302T130000
DTEND;TZID=Europe/Helsinki:20260302T140000
DTSTAMP:20260421T073243
CREATED:20260213T082630Z
LAST-MODIFIED:20260331T083548Z
UID:10033537-1772456400-1772460000@kalenteri.niemikoti.fi
SUMMARY:Mahdollisuuksien maanantai
DESCRIPTION:Yhteisön omaa ohjelmaa. Pelejä\, käsitöitä\, ulkoilua\, musajuttuja ym. Täydentyvä ryhmä.
URL:https://kalenteri.niemikoti.fi/en/tapahtuma/mahdollisuuksien-maanantai-4/2026-03-02/
LOCATION:Toimintakeskus Villa Borgis\, Linnavuorentie 13\, Helsinki\, 00950\, Finland
CATEGORIES:Toimintakeskus Villa Borgis
END:VEVENT
BEGIN:VEVENT
DTSTART;TZID=Europe/Helsinki:20260303T090000
DTEND;TZID=Europe/Helsinki:20260303T094500
DTSTAMP:20260421T073243
CREATED:20250820T065259Z
LAST-MODIFIED:20260331T081723Z
UID:10025699-1772528400-1772531100@kalenteri.niemikoti.fi
SUMMARY:Yhteisön aamiainen
DESCRIPTION:Aamiainen yhteisöpäivän kävijöille. Sisältää puuron\, talon omenahilloa\, leipää\, leivänpäällisiä\, jugurttia\, hedelmiä\, kahvia\, teetä ja mehua. Hinta aamiaiselle 3 e\, sisältää myös iltapäiväkahvin.
URL:https://kalenteri.niemikoti.fi/en/tapahtuma/yhteison-aamiainen-3/2026-03-03/
LOCATION:Toimintakeskus Villa Borgis\, Linnavuorentie 13\, Helsinki\, 00950\, Finland
CATEGORIES:Toimintakeskus Villa Borgis
END:VEVENT
BEGIN:VEVENT
DTSTART;TZID=Europe/Helsinki:20260303T100000
DTEND;TZID=Europe/Helsinki:20260303T103000
DTSTAMP:20260421T073243
CREATED:20250818T063824Z
LAST-MODIFIED:20260331T081921Z
UID:10025916-1772532000-1772533800@kalenteri.niemikoti.fi
SUMMARY:Yhteisöpäivän aamukokous
DESCRIPTION:Yhteisöpäivän aamukokouksessa tutustutaan päivän ohjelmaan ja tuleviin tapahtumiin sekä käydään kuulumiskierros.
URL:https://kalenteri.niemikoti.fi/en/tapahtuma/yhteisopaivan-aamukokous-6/2026-03-03/
LOCATION:Toimintakeskus Villa Borgis\, Linnavuorentie 13\, Helsinki\, 00950\, Finland
CATEGORIES:Toimintakeskus Villa Borgis
END:VEVENT
BEGIN:VEVENT
DTSTART;TZID=Europe/Helsinki:20260303T103000
DTEND;TZID=Europe/Helsinki:20260303T120000
DTSTAMP:20260421T073243
CREATED:20240814T065248Z
LAST-MODIFIED:20260331T081820Z
UID:10025526-1772533800-1772539200@kalenteri.niemikoti.fi
SUMMARY:Borgiksen Picassot
DESCRIPTION:Kuvataideryhmä. Kaikille sopivaa kuvallista työskentelyä\, ei vaadi erityisosaamista.
URL:https://kalenteri.niemikoti.fi/en/tapahtuma/borgiksen-picassot-2/2026-03-03/
LOCATION:Toimintakeskus Villa Borgis\, Linnavuorentie 13\, Helsinki\, 00950\, Finland
CATEGORIES:Toimintakeskus Villa Borgis
ATTACH;FMTTYPE=image/jpeg:https://kalenteri.niemikoti.fi/wp-content/uploads/2024/08/Borgiksen-Picassot-1.jpg
END:VEVENT
BEGIN:VEVENT
DTSTART;TZID=Europe/Helsinki:20260303T130000
DTEND;TZID=Europe/Helsinki:20260303T140000
DTSTAMP:20260421T073243
CREATED:20260213T083434Z
LAST-MODIFIED:20260331T082245Z
UID:10033598-1772542800-1772546400@kalenteri.niemikoti.fi
SUMMARY:Yhteislaulua
DESCRIPTION:Laulaminen tekee hyvää : ) Tule mukaan\, ei tarvitse ilmoittautua.
URL:https://kalenteri.niemikoti.fi/en/tapahtuma/yhteislaulua/2026-03-03/
LOCATION:Toimintakeskus Villa Borgis\, Linnavuorentie 13\, Helsinki\, 00950\, Finland
CATEGORIES:Toimintakeskus Villa Borgis
END:VEVENT
BEGIN:VEVENT
DTSTART;TZID=Europe/Helsinki:20260304T090000
DTEND;TZID=Europe/Helsinki:20260304T094500
DTSTAMP:20260421T073243
CREATED:20250820T065259Z
LAST-MODIFIED:20260331T081723Z
UID:10025700-1772614800-1772617500@kalenteri.niemikoti.fi
SUMMARY:Yhteisön aamiainen
DESCRIPTION:Aamiainen yhteisöpäivän kävijöille. Sisältää puuron\, talon omenahilloa\, leipää\, leivänpäällisiä\, jugurttia\, hedelmiä\, kahvia\, teetä ja mehua. Hinta aamiaiselle 3 e\, sisältää myös iltapäiväkahvin.
URL:https://kalenteri.niemikoti.fi/en/tapahtuma/yhteison-aamiainen-3/2026-03-04/
LOCATION:Toimintakeskus Villa Borgis\, Linnavuorentie 13\, Helsinki\, 00950\, Finland
CATEGORIES:Toimintakeskus Villa Borgis
END:VEVENT
BEGIN:VEVENT
DTSTART;TZID=Europe/Helsinki:20260304T100000
DTEND;TZID=Europe/Helsinki:20260304T103000
DTSTAMP:20260421T073243
CREATED:20250818T063824Z
LAST-MODIFIED:20260331T081921Z
UID:10025917-1772618400-1772620200@kalenteri.niemikoti.fi
SUMMARY:Yhteisöpäivän aamukokous
DESCRIPTION:Yhteisöpäivän aamukokouksessa tutustutaan päivän ohjelmaan ja tuleviin tapahtumiin sekä käydään kuulumiskierros.
URL:https://kalenteri.niemikoti.fi/en/tapahtuma/yhteisopaivan-aamukokous-6/2026-03-04/
LOCATION:Toimintakeskus Villa Borgis\, Linnavuorentie 13\, Helsinki\, 00950\, Finland
CATEGORIES:Toimintakeskus Villa Borgis
END:VEVENT
BEGIN:VEVENT
DTSTART;TZID=Europe/Helsinki:20260304T103000
DTEND;TZID=Europe/Helsinki:20260304T120000
DTSTAMP:20260421T073243
CREATED:20260213T084015Z
LAST-MODIFIED:20260327T085615Z
UID:10033657-1772620200-1772625600@kalenteri.niemikoti.fi
SUMMARY:Linnavuoren leipurit
DESCRIPTION:Leivotaan yhdessä talon pakastimeen kahvileipää iltapäivien kahvihetkiin.
URL:https://kalenteri.niemikoti.fi/en/tapahtuma/linnavuoren-leipurit/2026-03-04/
LOCATION:Toimintakeskus Villa Borgis\, Linnavuorentie 13\, Helsinki\, 00950\, Finland
CATEGORIES:Toimintakeskus Villa Borgis
END:VEVENT
BEGIN:VEVENT
DTSTART;TZID=Europe/Helsinki:20260304T130000
DTEND;TZID=Europe/Helsinki:20260304T143000
DTSTAMP:20260421T073243
CREATED:20251217T133448Z
LAST-MODIFIED:20260327T091310Z
UID:10033937-1772629200-1772634600@kalenteri.niemikoti.fi
SUMMARY:Puutyöryhmä
DESCRIPTION:Tehdään pieniä puutöitä käsityökaluilla. Ryhmään mahtuu kerralla max. 4 osallistujaa. Ilmoittaudu mukaan.
URL:https://kalenteri.niemikoti.fi/en/tapahtuma/puutyoryhma-4/2026-03-04/
LOCATION:Toimintakeskus Villa Borgis\, Linnavuorentie 13\, Helsinki\, 00950\, Finland
CATEGORIES:Toimintakeskus Villa Borgis
END:VEVENT
BEGIN:VEVENT
DTSTART;TZID=Europe/Helsinki:20260304T130000
DTEND;TZID=Europe/Helsinki:20260304T143000
DTSTAMP:20260421T073243
CREATED:20260213T085235Z
LAST-MODIFIED:20260327T090224Z
UID:10033856-1772629200-1772634600@kalenteri.niemikoti.fi
SUMMARY:Voimaa luonnosta
DESCRIPTION:Luontolähtöistä toimintaa sisällä ja ulkona; seuraamme vuodenaikojen etenemistä\, hoidamme huonekasveja ja puutarhaa\, teemme retkiä lähiluontoon ja altistumme yhdessä luonnon hyvää tekeville vaikutuksille. Pukeuduthan säänmukaisesti. \n15.4. Retki Alkumaisema -näyttelyyn Stoaan.
URL:https://kalenteri.niemikoti.fi/en/tapahtuma/voimaa-luonnosta/2026-03-04/
LOCATION:Toimintakeskus Villa Borgis\, Linnavuorentie 13\, Helsinki\, 00950\, Finland
CATEGORIES:Toimintakeskus Villa Borgis
END:VEVENT
BEGIN:VEVENT
DTSTART;TZID=Europe/Helsinki:20260305T111500
DTEND;TZID=Europe/Helsinki:20260305T120000
DTSTAMP:20260421T073243
CREATED:20260213T090216Z
LAST-MODIFIED:20260213T090216Z
UID:10033794-1772709300-1772712000@kalenteri.niemikoti.fi
SUMMARY:Lempeä liikunta
DESCRIPTION:Kaikille sopivaa rauhallista liikuskelua; tuolijumppaa\, keppijumppaa\, kävelylenkkejä ym.
URL:https://kalenteri.niemikoti.fi/en/tapahtuma/lempea-liikunta-5/2026-03-05/
LOCATION:Toimintakeskus Villa Borgis\, Linnavuorentie 13\, Helsinki\, 00950\, Finland
CATEGORIES:Toimintakeskus Villa Borgis
END:VEVENT
BEGIN:VEVENT
DTSTART;TZID=Europe/Helsinki:20260305T130000
DTEND;TZID=Europe/Helsinki:20260305T150000
DTSTAMP:20260421T073243
CREATED:20260217T094948Z
LAST-MODIFIED:20260331T083245Z
UID:10033941-1772715600-1772722800@kalenteri.niemikoti.fi
SUMMARY:Kädentaitotorstai
DESCRIPTION:Kädentaitopaja\, jossa vaihtuva teema tai voit tehdä omaa käsityöprojektia tai keskeneräisiä töitäsi. Ilmoittaudu. \n5.3. Uusiopaperia \n19.3. Merikarttakoruja \n26.3. Kestokääre – vaihtoehto muovikelmulle
URL:https://kalenteri.niemikoti.fi/en/tapahtuma/kadentaitotorstai-7/2026-03-05/
LOCATION:Toimintakeskus Villa Borgis\, Linnavuorentie 13\, Helsinki\, 00950\, Finland
CATEGORIES:Toimintakeskus Villa Borgis
END:VEVENT
BEGIN:VEVENT
DTSTART;TZID=Europe/Helsinki:20260306T100000
DTEND;TZID=Europe/Helsinki:20260306T110000
DTSTAMP:20260421T073243
CREATED:20250522T084825Z
LAST-MODIFIED:20260331T075857Z
UID:10025564-1772791200-1772794800@kalenteri.niemikoti.fi
SUMMARY:Aamujooga
DESCRIPTION:Kaikille sopivaa\, lempeää ja rauhallista joogaa. Max. 10 osallistujaa. Ilmoittaudu.
URL:https://kalenteri.niemikoti.fi/en/tapahtuma/aamujooga-3/2026-03-06/
LOCATION:Toimintakeskus Villa Borgis\, Linnavuorentie 13\, Helsinki\, 00950\, Finland
CATEGORIES:Toimintakeskus Villa Borgis
ATTACH;FMTTYPE=image/jpeg:https://kalenteri.niemikoti.fi/wp-content/uploads/2025/05/VillaBorgiksen-Aamujooga.jpg
END:VEVENT
BEGIN:VEVENT
DTSTART;TZID=Europe/Helsinki:20260306T100000
DTEND;TZID=Europe/Helsinki:20260306T120000
DTSTAMP:20260421T073243
CREATED:20251030T135629Z
LAST-MODIFIED:20260331T075950Z
UID:10026015-1772791200-1772798400@kalenteri.niemikoti.fi
SUMMARY:Sauna
DESCRIPTION:Sauna lämpiää perjantaisin\, jos on ilmoittautuneita. Miehet klo 10 – 11\, naiset klo 11 – 12. Ilmoittautuminen viim. samana päivänä klo 9 mennessä. Oma pyyhe ja pesuaineet mukaan.
URL:https://kalenteri.niemikoti.fi/en/tapahtuma/sauna-2/2026-03-06/
LOCATION:Toimintakeskus Villa Borgis\, Linnavuorentie 13\, Helsinki\, 00950\, Finland
CATEGORIES:Toimintakeskus Villa Borgis
END:VEVENT
BEGIN:VEVENT
DTSTART;TZID=Europe/Helsinki:20260306T120000
DTEND;TZID=Europe/Helsinki:20260306T123000
DTSTAMP:20260421T073243
CREATED:20250723T121431Z
LAST-MODIFIED:20260327T092736Z
UID:10036889-1772798400-1772800200@kalenteri.niemikoti.fi
SUMMARY:Avoin Info
DESCRIPTION:Avoin tilaisuus kaikille toiminnastamme kiinnostuneille.
URL:https://kalenteri.niemikoti.fi/en/tapahtuma/avoin-info-11/2026-03-06/
LOCATION:Toimintakeskus Villa Borgis\, Linnavuorentie 13\, Helsinki\, 00950\, Finland
CATEGORIES:Toimintakeskus Villa Borgis
END:VEVENT
BEGIN:VEVENT
DTSTART;TZID=Europe/Helsinki:20260306T120000
DTEND;TZID=Europe/Helsinki:20260306T130000
DTSTAMP:20260421T073243
CREATED:20260217T130252Z
LAST-MODIFIED:20260327T091849Z
UID:10033945-1772798400-1772802000@kalenteri.niemikoti.fi
SUMMARY:Perjantai-chillailut
DESCRIPTION:Leppoisaa yhteistä tekemistä; kädentaitoja\, lautapelejä\, musiikin kuuntelua yms.
URL:https://kalenteri.niemikoti.fi/en/tapahtuma/perjantai-chillailut/2026-03-06/
LOCATION:Toimintakeskus Villa Borgis\, Linnavuorentie 13\, Helsinki\, 00950\, Finland
CATEGORIES:Toimintakeskus Villa Borgis
END:VEVENT
END:VCALENDAR