BEGIN:VCALENDAR
VERSION:2.0
PRODID:-//Tapahtumakalenteri - ECPv6.15.18//NONSGML v1.0//EN
CALSCALE:GREGORIAN
METHOD:PUBLISH
X-ORIGINAL-URL:https://kalenteri.niemikoti.fi/en/
X-WR-CALDESC:Events for Tapahtumakalenteri
REFRESH-INTERVAL;VALUE=DURATION:PT1H
X-Robots-Tag:noindex
X-PUBLISHED-TTL:PT1H
BEGIN:VTIMEZONE
TZID:Europe/Helsinki
BEGIN:DAYLIGHT
TZOFFSETFROM:+0200
TZOFFSETTO:+0300
TZNAME:EEST
DTSTART:20250330T010000
END:DAYLIGHT
BEGIN:STANDARD
TZOFFSETFROM:+0300
TZOFFSETTO:+0200
TZNAME:EET
DTSTART:20251026T010000
END:STANDARD
BEGIN:DAYLIGHT
TZOFFSETFROM:+0200
TZOFFSETTO:+0300
TZNAME:EEST
DTSTART:20260329T010000
END:DAYLIGHT
BEGIN:STANDARD
TZOFFSETFROM:+0300
TZOFFSETTO:+0200
TZNAME:EET
DTSTART:20261025T010000
END:STANDARD
BEGIN:DAYLIGHT
TZOFFSETFROM:+0200
TZOFFSETTO:+0300
TZNAME:EEST
DTSTART:20270328T010000
END:DAYLIGHT
BEGIN:STANDARD
TZOFFSETFROM:+0300
TZOFFSETTO:+0200
TZNAME:EET
DTSTART:20271031T010000
END:STANDARD
END:VTIMEZONE
BEGIN:VEVENT
DTSTART;TZID=Europe/Helsinki:20260309T090000
DTEND;TZID=Europe/Helsinki:20260309T094500
DTSTAMP:20260423T234448
CREATED:20250820T065259Z
LAST-MODIFIED:20260331T081723Z
UID:10025701-1773046800-1773049500@kalenteri.niemikoti.fi
SUMMARY:Yhteisön aamiainen
DESCRIPTION:Aamiainen yhteisöpäivän kävijöille. Sisältää puuron\, talon omenahilloa\, leipää\, leivänpäällisiä\, jugurttia\, hedelmiä\, kahvia\, teetä ja mehua. Hinta aamiaiselle 3 e\, sisältää myös iltapäiväkahvin.
URL:https://kalenteri.niemikoti.fi/en/tapahtuma/yhteison-aamiainen-3/2026-03-09/
LOCATION:Toimintakeskus Villa Borgis\, Linnavuorentie 13\, Helsinki\, 00950\, Finland
CATEGORIES:Toimintakeskus Villa Borgis
END:VEVENT
BEGIN:VEVENT
DTSTART;TZID=Europe/Helsinki:20260309T090000
DTEND;TZID=Europe/Helsinki:20260309T100000
DTSTAMP:20260423T234448
CREATED:20260302T134800Z
LAST-MODIFIED:20260302T134800Z
UID:10033970-1773046800-1773050400@kalenteri.niemikoti.fi
SUMMARY:Yhteisön aamiainen Malmilla
DESCRIPTION:Aamiaisella puuroa\, muroja tai jogurttia vaihtelevasti sekä leipää päällisineen. Juomaksi tuoremehua sekä kahvia tai teetä. Hinta 1\,5 e.
URL:https://kalenteri.niemikoti.fi/en/tapahtuma/yhteison-aamiainen-malmilla/2026-03-09/
LOCATION:Malmin päivätoimintakeskus\, Vanha Helsingintie 9\, Helsinki\, 00700\, Finland
CATEGORIES:Malmin päivätoimintakeskus
END:VEVENT
BEGIN:VEVENT
DTSTART;TZID=Europe/Helsinki:20260309T100000
DTEND;TZID=Europe/Helsinki:20260309T103000
DTSTAMP:20260423T234448
CREATED:20250818T063824Z
LAST-MODIFIED:20260331T081921Z
UID:10025918-1773050400-1773052200@kalenteri.niemikoti.fi
SUMMARY:Yhteisöpäivän aamukokous
DESCRIPTION:Yhteisöpäivän aamukokouksessa tutustutaan päivän ohjelmaan ja tuleviin tapahtumiin sekä käydään kuulumiskierros.
URL:https://kalenteri.niemikoti.fi/en/tapahtuma/yhteisopaivan-aamukokous-6/2026-03-09/
LOCATION:Toimintakeskus Villa Borgis\, Linnavuorentie 13\, Helsinki\, 00950\, Finland
CATEGORIES:Toimintakeskus Villa Borgis
END:VEVENT
BEGIN:VEVENT
DTSTART;TZID=Europe/Helsinki:20260309T100000
DTEND;TZID=Europe/Helsinki:20260309T103000
DTSTAMP:20260423T234448
CREATED:20260112T105633Z
LAST-MODIFIED:20260303T072458Z
UID:10028671-1773050400-1773052200@kalenteri.niemikoti.fi
SUMMARY:Aamukokous Malmilla
DESCRIPTION:Kokoonnutaan yhteen vaihtamaan kuulumisia ja keskustellaan päivän ohjelmasta.
URL:https://kalenteri.niemikoti.fi/en/tapahtuma/aamukokous-malmilla/2026-03-09/
LOCATION:Malmin päivätoimintakeskus\, Vanha Helsingintie 9\, Helsinki\, 00700\, Finland
CATEGORIES:Malmin päivätoimintakeskus
END:VEVENT
BEGIN:VEVENT
DTSTART;TZID=Europe/Helsinki:20260309T103000
DTEND;TZID=Europe/Helsinki:20260309T110000
DTSTAMP:20260423T234448
CREATED:20260112T111935Z
LAST-MODIFIED:20260410T061604Z
UID:10030993-1773052200-1773054000@kalenteri.niemikoti.fi
SUMMARY:Talon töitä Malmilla
DESCRIPTION:Pidetään yhdessä huolta yhteisistä tiloista ja tiluksista. Osallistua voi omien voimavarojen mukaan.
URL:https://kalenteri.niemikoti.fi/en/tapahtuma/talon-toita-7/2026-03-09/
LOCATION:Malmin päivätoimintakeskus\, Vanha Helsingintie 9\, Helsinki\, 00700\, Finland
CATEGORIES:Malmin päivätoimintakeskus
END:VEVENT
BEGIN:VEVENT
DTSTART;TZID=Europe/Helsinki:20260309T103000
DTEND;TZID=Europe/Helsinki:20260309T120000
DTSTAMP:20260423T234448
CREATED:20240814T064605Z
LAST-MODIFIED:20260331T080702Z
UID:10025414-1773052200-1773057600@kalenteri.niemikoti.fi
SUMMARY:Talon töitä
DESCRIPTION:Yhteisön yhteisiä talon töitä; siivousta\, pihatöitä\, keittiötöitä\, sisustusta yms.
URL:https://kalenteri.niemikoti.fi/en/tapahtuma/talon-toita-3/2026-03-09/
LOCATION:Toimintakeskus Villa Borgis\, Linnavuorentie 13\, Helsinki\, 00950\, Finland
CATEGORIES:Toimintakeskus Villa Borgis
END:VEVENT
BEGIN:VEVENT
DTSTART;TZID=Europe/Helsinki:20260309T110000
DTEND;TZID=Europe/Helsinki:20260309T120000
DTSTAMP:20260423T234448
CREATED:20260126T112617Z
LAST-MODIFIED:20260304T132032Z
UID:10031815-1773054000-1773057600@kalenteri.niemikoti.fi
SUMMARY:Sanapaja
DESCRIPTION:Ryhmässä tehdään luovia kirjoitusharjoituksia kuten lyhyitä tarinoita ja runoja. \nTäydentyvä ryhmä\, ilmoittaudu mukaan!
URL:https://kalenteri.niemikoti.fi/en/tapahtuma/sanapaja-malmilla-3/2026-03-09/
LOCATION:Malmin päivätoimintakeskus\, Vanha Helsingintie 9\, Helsinki\, 00700\, Finland
CATEGORIES:Malmin päivätoimintakeskus
ATTACH;FMTTYPE=image/jpeg:https://kalenteri.niemikoti.fi/wp-content/uploads/2026/01/Sanapaja.jpg
END:VEVENT
BEGIN:VEVENT
DTSTART;TZID=Europe/Helsinki:20260309T113000
DTEND;TZID=Europe/Helsinki:20260309T120000
DTSTAMP:20260423T234448
CREATED:20251217T074626Z
LAST-MODIFIED:20260331T081041Z
UID:10033953-1773055800-1773057600@kalenteri.niemikoti.fi
SUMMARY:Kävelyryhmä
DESCRIPTION:Pieni kävelyretki Villa Borgiksen lähiluontoon.
URL:https://kalenteri.niemikoti.fi/en/tapahtuma/kavelyryhma-4/2026-03-09/
LOCATION:Toimintakeskus Villa Borgis\, Linnavuorentie 13\, Helsinki\, 00950\, Finland
CATEGORIES:Toimintakeskus Villa Borgis
END:VEVENT
BEGIN:VEVENT
DTSTART;TZID=Europe/Helsinki:20260309T120000
DTEND;TZID=Europe/Helsinki:20260309T130000
DTSTAMP:20260423T234448
CREATED:20250820T065924Z
LAST-MODIFIED:20260331T080813Z
UID:10025434-1773057600-1773061200@kalenteri.niemikoti.fi
SUMMARY:Yhteisön lounas
DESCRIPTION:Lounas yhteisöpäivän kävijöille. Lounaaseen sisältyy ravitsevaa arkiruokaa ja välillä lisäksi salaattia. Lounaan hinta 3 e\, sisältää iltapäiväkahvin.
URL:https://kalenteri.niemikoti.fi/en/tapahtuma/yhteison-luonas/2026-03-09/
LOCATION:Toimintakeskus Villa Borgis\, Linnavuorentie 13\, Helsinki\, 00950\, Finland
CATEGORIES:Toimintakeskus Villa Borgis
END:VEVENT
BEGIN:VEVENT
DTSTART;TZID=Europe/Helsinki:20260309T120000
DTEND;TZID=Europe/Helsinki:20260309T130000
DTSTAMP:20260423T234448
CREATED:20260302T135525Z
LAST-MODIFIED:20260303T072113Z
UID:10035014-1773057600-1773061200@kalenteri.niemikoti.fi
SUMMARY:Yhteisön lounas Malmilla
DESCRIPTION:Lounas ja lounaskahvit. Ruokalista vaihtelee kuukausittain ja on nähtävillä Malmin päivätoimintakeskuksessa. Hinta 3\,5 euroa.
URL:https://kalenteri.niemikoti.fi/en/tapahtuma/yhteison-lounas-malmilla/2026-03-09/
LOCATION:Malmin päivätoimintakeskus\, Vanha Helsingintie 9\, Helsinki\, 00700\, Finland
CATEGORIES:Malmin päivätoimintakeskus
END:VEVENT
BEGIN:VEVENT
DTSTART;TZID=Europe/Helsinki:20260309T130000
DTEND;TZID=Europe/Helsinki:20260309T140000
DTSTAMP:20260423T234448
CREATED:20260213T082630Z
LAST-MODIFIED:20260331T083548Z
UID:10033538-1773061200-1773064800@kalenteri.niemikoti.fi
SUMMARY:Mahdollisuuksien maanantai
DESCRIPTION:Yhteisön omaa ohjelmaa. Pelejä\, käsitöitä\, ulkoilua\, musajuttuja ym. Täydentyvä ryhmä.
URL:https://kalenteri.niemikoti.fi/en/tapahtuma/mahdollisuuksien-maanantai-4/2026-03-09/
LOCATION:Toimintakeskus Villa Borgis\, Linnavuorentie 13\, Helsinki\, 00950\, Finland
CATEGORIES:Toimintakeskus Villa Borgis
END:VEVENT
BEGIN:VEVENT
DTSTART;TZID=Europe/Helsinki:20260309T130000
DTEND;TZID=Europe/Helsinki:20260309T150000
DTSTAMP:20260423T234448
CREATED:20260302T071622Z
LAST-MODIFIED:20260410T063814Z
UID:10033958-1773061200-1773068400@kalenteri.niemikoti.fi
SUMMARY:One shot  -roolipeliryhmä Malmilla
DESCRIPTION:One shot -roolipeliryhmä maanantaisin klo 13-15. One shotit ovat kertaluonteisia lyhyitä yhdellä istumalla pelattavia roolipelejä. Voit tulla pelaamaan ilman aiempaa kokemusta tai omia noppia. Tule ja ihastu roolipelaamiseen! Mukaan mahtuu 6 osallistujaa\, muista siis ilmoittautua! \n13.4. Elämäni supersankarina \n20.4. Lohikäärmeiden ensilento \n27.4. Juhannusseikkailu
URL:https://kalenteri.niemikoti.fi/en/tapahtuma/one-shot-roolipeliryhma/2026-03-09/
LOCATION:Malmin päivätoimintakeskus\, Vanha Helsingintie 9\, Helsinki\, 00700\, Finland
CATEGORIES:Malmin päivätoimintakeskus
ATTACH;FMTTYPE=image/jpeg:https://kalenteri.niemikoti.fi/wp-content/uploads/2026/03/One_shot-roolipeliryhma_Huhtikuu.jpg
END:VEVENT
BEGIN:VEVENT
DTSTART;TZID=Europe/Helsinki:20260310T090000
DTEND;TZID=Europe/Helsinki:20260310T094500
DTSTAMP:20260423T234448
CREATED:20250820T065259Z
LAST-MODIFIED:20260331T081723Z
UID:10025702-1773133200-1773135900@kalenteri.niemikoti.fi
SUMMARY:Yhteisön aamiainen
DESCRIPTION:Aamiainen yhteisöpäivän kävijöille. Sisältää puuron\, talon omenahilloa\, leipää\, leivänpäällisiä\, jugurttia\, hedelmiä\, kahvia\, teetä ja mehua. Hinta aamiaiselle 3 e\, sisältää myös iltapäiväkahvin.
URL:https://kalenteri.niemikoti.fi/en/tapahtuma/yhteison-aamiainen-3/2026-03-10/
LOCATION:Toimintakeskus Villa Borgis\, Linnavuorentie 13\, Helsinki\, 00950\, Finland
CATEGORIES:Toimintakeskus Villa Borgis
END:VEVENT
BEGIN:VEVENT
DTSTART;TZID=Europe/Helsinki:20260310T090000
DTEND;TZID=Europe/Helsinki:20260310T100000
DTSTAMP:20260423T234448
CREATED:20260302T134800Z
LAST-MODIFIED:20260302T134800Z
UID:10033971-1773133200-1773136800@kalenteri.niemikoti.fi
SUMMARY:Yhteisön aamiainen Malmilla
DESCRIPTION:Aamiaisella puuroa\, muroja tai jogurttia vaihtelevasti sekä leipää päällisineen. Juomaksi tuoremehua sekä kahvia tai teetä. Hinta 1\,5 e.
URL:https://kalenteri.niemikoti.fi/en/tapahtuma/yhteison-aamiainen-malmilla/2026-03-10/
LOCATION:Malmin päivätoimintakeskus\, Vanha Helsingintie 9\, Helsinki\, 00700\, Finland
CATEGORIES:Malmin päivätoimintakeskus
END:VEVENT
BEGIN:VEVENT
DTSTART;TZID=Europe/Helsinki:20260310T100000
DTEND;TZID=Europe/Helsinki:20260310T103000
DTSTAMP:20260423T234448
CREATED:20250818T063824Z
LAST-MODIFIED:20260331T081921Z
UID:10025919-1773136800-1773138600@kalenteri.niemikoti.fi
SUMMARY:Yhteisöpäivän aamukokous
DESCRIPTION:Yhteisöpäivän aamukokouksessa tutustutaan päivän ohjelmaan ja tuleviin tapahtumiin sekä käydään kuulumiskierros.
URL:https://kalenteri.niemikoti.fi/en/tapahtuma/yhteisopaivan-aamukokous-6/2026-03-10/
LOCATION:Toimintakeskus Villa Borgis\, Linnavuorentie 13\, Helsinki\, 00950\, Finland
CATEGORIES:Toimintakeskus Villa Borgis
END:VEVENT
BEGIN:VEVENT
DTSTART;TZID=Europe/Helsinki:20260310T100000
DTEND;TZID=Europe/Helsinki:20260310T103000
DTSTAMP:20260423T234448
CREATED:20260112T105633Z
LAST-MODIFIED:20260303T072458Z
UID:10028672-1773136800-1773138600@kalenteri.niemikoti.fi
SUMMARY:Aamukokous Malmilla
DESCRIPTION:Kokoonnutaan yhteen vaihtamaan kuulumisia ja keskustellaan päivän ohjelmasta.
URL:https://kalenteri.niemikoti.fi/en/tapahtuma/aamukokous-malmilla/2026-03-10/
LOCATION:Malmin päivätoimintakeskus\, Vanha Helsingintie 9\, Helsinki\, 00700\, Finland
CATEGORIES:Malmin päivätoimintakeskus
END:VEVENT
BEGIN:VEVENT
DTSTART;TZID=Europe/Helsinki:20260310T103000
DTEND;TZID=Europe/Helsinki:20260310T110000
DTSTAMP:20260423T234448
CREATED:20260112T111935Z
LAST-MODIFIED:20260410T061604Z
UID:10030994-1773138600-1773140400@kalenteri.niemikoti.fi
SUMMARY:Talon töitä Malmilla
DESCRIPTION:Pidetään yhdessä huolta yhteisistä tiloista ja tiluksista. Osallistua voi omien voimavarojen mukaan.
URL:https://kalenteri.niemikoti.fi/en/tapahtuma/talon-toita-7/2026-03-10/
LOCATION:Malmin päivätoimintakeskus\, Vanha Helsingintie 9\, Helsinki\, 00700\, Finland
CATEGORIES:Malmin päivätoimintakeskus
END:VEVENT
BEGIN:VEVENT
DTSTART;TZID=Europe/Helsinki:20260310T103000
DTEND;TZID=Europe/Helsinki:20260310T120000
DTSTAMP:20260423T234448
CREATED:20240814T065248Z
LAST-MODIFIED:20260421T091527Z
UID:10025527-1773138600-1773144000@kalenteri.niemikoti.fi
SUMMARY:Borgiksen Picassot
DESCRIPTION:Kuvataideryhmä. Kaikille sopivaa kuvallista työskentelyä\, ei vaadi erityisosaamista.
URL:https://kalenteri.niemikoti.fi/en/tapahtuma/borgiksen-picassot-2/2026-03-10/
LOCATION:Toimintakeskus Villa Borgis\, Linnavuorentie 13\, Helsinki\, 00950\, Finland
CATEGORIES:Toimintakeskus Villa Borgis
ATTACH;FMTTYPE=image/jpeg:https://kalenteri.niemikoti.fi/wp-content/uploads/2024/08/Borgiksen-Picassot-1.jpg
END:VEVENT
BEGIN:VEVENT
DTSTART;TZID=Europe/Helsinki:20260310T110000
DTEND;TZID=Europe/Helsinki:20260310T120000
DTSTAMP:20260423T234448
CREATED:20260126T114459Z
LAST-MODIFIED:20260126T114459Z
UID:10032132-1773140400-1773144000@kalenteri.niemikoti.fi
SUMMARY:Luonto & liikunta -kävelyryhmä Malmilla
DESCRIPTION:Uusille tilaa\, ilmoittaudu mukaan! Kaksi ryhmää tarpeen mukaan\, tehdään sekä pidempi että lyhyempi kävelylenkki.
URL:https://kalenteri.niemikoti.fi/en/tapahtuma/luonto-liikunta-kavelyryhma-malmilla-3/2026-03-10/
LOCATION:Malmin päivätoimintakeskus\, Vanha Helsingintie 9\, Helsinki\, 00700\, Finland
CATEGORIES:Malmin päivätoimintakeskus
END:VEVENT
BEGIN:VEVENT
DTSTART;TZID=Europe/Helsinki:20260310T120000
DTEND;TZID=Europe/Helsinki:20260310T130000
DTSTAMP:20260423T234448
CREATED:20260302T135525Z
LAST-MODIFIED:20260303T072113Z
UID:10035015-1773144000-1773147600@kalenteri.niemikoti.fi
SUMMARY:Yhteisön lounas Malmilla
DESCRIPTION:Lounas ja lounaskahvit. Ruokalista vaihtelee kuukausittain ja on nähtävillä Malmin päivätoimintakeskuksessa. Hinta 3\,5 euroa.
URL:https://kalenteri.niemikoti.fi/en/tapahtuma/yhteison-lounas-malmilla/2026-03-10/
LOCATION:Malmin päivätoimintakeskus\, Vanha Helsingintie 9\, Helsinki\, 00700\, Finland
CATEGORIES:Malmin päivätoimintakeskus
END:VEVENT
BEGIN:VEVENT
DTSTART;TZID=Europe/Helsinki:20260310T130000
DTEND;TZID=Europe/Helsinki:20260310T140000
DTSTAMP:20260423T234448
CREATED:20260213T083434Z
LAST-MODIFIED:20260331T082245Z
UID:10033599-1773147600-1773151200@kalenteri.niemikoti.fi
SUMMARY:Yhteislaulua
DESCRIPTION:Laulaminen tekee hyvää : ) Tule mukaan\, ei tarvitse ilmoittautua.
URL:https://kalenteri.niemikoti.fi/en/tapahtuma/yhteislaulua/2026-03-10/
LOCATION:Toimintakeskus Villa Borgis\, Linnavuorentie 13\, Helsinki\, 00950\, Finland
CATEGORIES:Toimintakeskus Villa Borgis
END:VEVENT
BEGIN:VEVENT
DTSTART;TZID=Europe/Helsinki:20260310T130000
DTEND;TZID=Europe/Helsinki:20260310T143000
DTSTAMP:20260423T234448
CREATED:20260112T114328Z
LAST-MODIFIED:20260303T072740Z
UID:10027040-1773147600-1773153000@kalenteri.niemikoti.fi
SUMMARY:DJ-paja Malmilla
DESCRIPTION:Niemikotisäätiöläisille avoin yhteisoppimiseen perustuva DJ-paja. Omaa musiikkia saa tuoda mukaan muistitikuilla. Enintään 6 osallistujaa/kerta. Ilmoittaudu mukaan! \nHuom! Ei ryhmää 3.2.
URL:https://kalenteri.niemikoti.fi/en/tapahtuma/dj-paja-malmilla/2026-03-10/
LOCATION:Malmin päivätoimintakeskus\, Vanha Helsingintie 9\, Helsinki\, 00700\, Finland
CATEGORIES:Malmin päivätoimintakeskus
END:VEVENT
BEGIN:VEVENT
DTSTART;TZID=Europe/Helsinki:20260310T130000
DTEND;TZID=Europe/Helsinki:20260310T153000
DTSTAMP:20260423T234448
CREATED:20260112T134809Z
LAST-MODIFIED:20260410T070218Z
UID:10037085-1773147600-1773156600@kalenteri.niemikoti.fi
SUMMARY:JV:n bändi Malmilla
DESCRIPTION:Bändi harjoittelee oman ohjaajan kanssa.
URL:https://kalenteri.niemikoti.fi/en/tapahtuma/jvn-bandi-malmilla/2026-03-10/
LOCATION:Malmin päivätoimintakeskus\, Vanha Helsingintie 9\, Helsinki\, 00700\, Finland
CATEGORIES:Malmin päivätoimintakeskus
END:VEVENT
BEGIN:VEVENT
DTSTART;TZID=Europe/Helsinki:20260311T090000
DTEND;TZID=Europe/Helsinki:20260311T094500
DTSTAMP:20260423T234448
CREATED:20250820T065259Z
LAST-MODIFIED:20260331T081723Z
UID:10025703-1773219600-1773222300@kalenteri.niemikoti.fi
SUMMARY:Yhteisön aamiainen
DESCRIPTION:Aamiainen yhteisöpäivän kävijöille. Sisältää puuron\, talon omenahilloa\, leipää\, leivänpäällisiä\, jugurttia\, hedelmiä\, kahvia\, teetä ja mehua. Hinta aamiaiselle 3 e\, sisältää myös iltapäiväkahvin.
URL:https://kalenteri.niemikoti.fi/en/tapahtuma/yhteison-aamiainen-3/2026-03-11/
LOCATION:Toimintakeskus Villa Borgis\, Linnavuorentie 13\, Helsinki\, 00950\, Finland
CATEGORIES:Toimintakeskus Villa Borgis
END:VEVENT
BEGIN:VEVENT
DTSTART;TZID=Europe/Helsinki:20260311T090000
DTEND;TZID=Europe/Helsinki:20260311T100000
DTSTAMP:20260423T234448
CREATED:20260302T134800Z
LAST-MODIFIED:20260302T134800Z
UID:10033972-1773219600-1773223200@kalenteri.niemikoti.fi
SUMMARY:Yhteisön aamiainen Malmilla
DESCRIPTION:Aamiaisella puuroa\, muroja tai jogurttia vaihtelevasti sekä leipää päällisineen. Juomaksi tuoremehua sekä kahvia tai teetä. Hinta 1\,5 e.
URL:https://kalenteri.niemikoti.fi/en/tapahtuma/yhteison-aamiainen-malmilla/2026-03-11/
LOCATION:Malmin päivätoimintakeskus\, Vanha Helsingintie 9\, Helsinki\, 00700\, Finland
CATEGORIES:Malmin päivätoimintakeskus
END:VEVENT
BEGIN:VEVENT
DTSTART;TZID=Europe/Helsinki:20260311T100000
DTEND;TZID=Europe/Helsinki:20260311T103000
DTSTAMP:20260423T234448
CREATED:20250818T063824Z
LAST-MODIFIED:20260331T081921Z
UID:10025920-1773223200-1773225000@kalenteri.niemikoti.fi
SUMMARY:Yhteisöpäivän aamukokous
DESCRIPTION:Yhteisöpäivän aamukokouksessa tutustutaan päivän ohjelmaan ja tuleviin tapahtumiin sekä käydään kuulumiskierros.
URL:https://kalenteri.niemikoti.fi/en/tapahtuma/yhteisopaivan-aamukokous-6/2026-03-11/
LOCATION:Toimintakeskus Villa Borgis\, Linnavuorentie 13\, Helsinki\, 00950\, Finland
CATEGORIES:Toimintakeskus Villa Borgis
END:VEVENT
BEGIN:VEVENT
DTSTART;TZID=Europe/Helsinki:20260311T100000
DTEND;TZID=Europe/Helsinki:20260311T103000
DTSTAMP:20260423T234448
CREATED:20260112T105633Z
LAST-MODIFIED:20260303T072458Z
UID:10028673-1773223200-1773225000@kalenteri.niemikoti.fi
SUMMARY:Aamukokous Malmilla
DESCRIPTION:Kokoonnutaan yhteen vaihtamaan kuulumisia ja keskustellaan päivän ohjelmasta.
URL:https://kalenteri.niemikoti.fi/en/tapahtuma/aamukokous-malmilla/2026-03-11/
LOCATION:Malmin päivätoimintakeskus\, Vanha Helsingintie 9\, Helsinki\, 00700\, Finland
CATEGORIES:Malmin päivätoimintakeskus
END:VEVENT
BEGIN:VEVENT
DTSTART;TZID=Europe/Helsinki:20260311T103000
DTEND;TZID=Europe/Helsinki:20260311T110000
DTSTAMP:20260423T234448
CREATED:20260112T111935Z
LAST-MODIFIED:20260410T061604Z
UID:10030995-1773225000-1773226800@kalenteri.niemikoti.fi
SUMMARY:Talon töitä Malmilla
DESCRIPTION:Pidetään yhdessä huolta yhteisistä tiloista ja tiluksista. Osallistua voi omien voimavarojen mukaan.
URL:https://kalenteri.niemikoti.fi/en/tapahtuma/talon-toita-7/2026-03-11/
LOCATION:Malmin päivätoimintakeskus\, Vanha Helsingintie 9\, Helsinki\, 00700\, Finland
CATEGORIES:Malmin päivätoimintakeskus
END:VEVENT
BEGIN:VEVENT
DTSTART;TZID=Europe/Helsinki:20260311T103000
DTEND;TZID=Europe/Helsinki:20260311T120000
DTSTAMP:20260423T234448
CREATED:20260213T084015Z
LAST-MODIFIED:20260327T085615Z
UID:10033658-1773225000-1773230400@kalenteri.niemikoti.fi
SUMMARY:Linnavuoren leipurit
DESCRIPTION:Leivotaan yhdessä talon pakastimeen kahvileipää iltapäivien kahvihetkiin.
URL:https://kalenteri.niemikoti.fi/en/tapahtuma/linnavuoren-leipurit/2026-03-11/
LOCATION:Toimintakeskus Villa Borgis\, Linnavuorentie 13\, Helsinki\, 00950\, Finland
CATEGORIES:Toimintakeskus Villa Borgis
END:VEVENT
BEGIN:VEVENT
DTSTART;TZID=Europe/Helsinki:20260311T110000
DTEND;TZID=Europe/Helsinki:20260311T120000
DTSTAMP:20260423T234448
CREATED:20260126T120107Z
LAST-MODIFIED:20260410T062215Z
UID:10032394-1773226800-1773230400@kalenteri.niemikoti.fi
SUMMARY:Siemenestä syötäväksi -hyötypuutarharyhmä
DESCRIPTION:Taimien kasvatusta\, hyötykasvitietoutta ja Malmin lavakauluspuutarhan hoitoa kokemusasiantuntijan kanssa. Täydentyvä ryhmä\, ilmoittaudu mukaan!
URL:https://kalenteri.niemikoti.fi/en/tapahtuma/caffetteria-italiana-malmilla/2026-03-11/
LOCATION:Malmin päivätoimintakeskus\, Vanha Helsingintie 9\, Helsinki\, 00700\, Finland
CATEGORIES:Malmin päivätoimintakeskus
ATTACH;FMTTYPE=image/jpeg:https://kalenteri.niemikoti.fi/wp-content/uploads/2026/01/Siemenesta-syotavaksi-hyotypuutarharyhma-1.jpg
END:VEVENT
END:VCALENDAR