BEGIN:VCALENDAR
VERSION:2.0
PRODID:-//Tapahtumakalenteri - ECPv6.15.18//NONSGML v1.0//EN
CALSCALE:GREGORIAN
METHOD:PUBLISH
X-WR-CALNAME:Tapahtumakalenteri
X-ORIGINAL-URL:https://kalenteri.niemikoti.fi/en/
X-WR-CALDESC:Events for Tapahtumakalenteri
REFRESH-INTERVAL;VALUE=DURATION:PT1H
X-Robots-Tag:noindex
X-PUBLISHED-TTL:PT1H
BEGIN:VTIMEZONE
TZID:Europe/Helsinki
BEGIN:DAYLIGHT
TZOFFSETFROM:+0200
TZOFFSETTO:+0300
TZNAME:EEST
DTSTART:20220327T010000
END:DAYLIGHT
BEGIN:STANDARD
TZOFFSETFROM:+0300
TZOFFSETTO:+0200
TZNAME:EET
DTSTART:20221030T010000
END:STANDARD
BEGIN:DAYLIGHT
TZOFFSETFROM:+0200
TZOFFSETTO:+0300
TZNAME:EEST
DTSTART:20230326T010000
END:DAYLIGHT
BEGIN:STANDARD
TZOFFSETFROM:+0300
TZOFFSETTO:+0200
TZNAME:EET
DTSTART:20231029T010000
END:STANDARD
BEGIN:DAYLIGHT
TZOFFSETFROM:+0200
TZOFFSETTO:+0300
TZNAME:EEST
DTSTART:20240331T010000
END:DAYLIGHT
BEGIN:STANDARD
TZOFFSETFROM:+0300
TZOFFSETTO:+0200
TZNAME:EET
DTSTART:20241027T010000
END:STANDARD
BEGIN:DAYLIGHT
TZOFFSETFROM:+0200
TZOFFSETTO:+0300
TZNAME:EEST
DTSTART:20250330T010000
END:DAYLIGHT
BEGIN:STANDARD
TZOFFSETFROM:+0300
TZOFFSETTO:+0200
TZNAME:EET
DTSTART:20251026T010000
END:STANDARD
BEGIN:DAYLIGHT
TZOFFSETFROM:+0200
TZOFFSETTO:+0300
TZNAME:EEST
DTSTART:20260329T010000
END:DAYLIGHT
BEGIN:STANDARD
TZOFFSETFROM:+0300
TZOFFSETTO:+0200
TZNAME:EET
DTSTART:20261025T010000
END:STANDARD
BEGIN:DAYLIGHT
TZOFFSETFROM:+0200
TZOFFSETTO:+0300
TZNAME:EEST
DTSTART:20270328T010000
END:DAYLIGHT
BEGIN:STANDARD
TZOFFSETFROM:+0300
TZOFFSETTO:+0200
TZNAME:EET
DTSTART:20271031T010000
END:STANDARD
END:VTIMEZONE
BEGIN:VEVENT
DTSTART;TZID=Europe/Helsinki:20260415T090000
DTEND;TZID=Europe/Helsinki:20260415T100000
DTSTAMP:20260423T175356
CREATED:20260226T094743Z
LAST-MODIFIED:20260302T092244Z
UID:10033956-1776243600-1776247200@kalenteri.niemikoti.fi
SUMMARY:tutustuminen Haagan toimintataloon ke. 15.4.2026 klo 9.00
DESCRIPTION:tervetuloa tutustumaan Haagan toimintataloon keskiviikkona 15.4 klo 9.00. Tutustumiskierros alkaa 1.kerroksen kahvilasta tasan klo 9.00 eli tulethan ajoissa. Tutustumiskierros kestää noin tunnin. Tervetuloa!  ps jos tämä aika ei sinulle käy niin ota yhteyttä p 0505931551(Marko Hanni)
URL:https://kalenteri.niemikoti.fi/en/tapahtuma/tutustuminen-haagan-toimintataloon-ke-15-4-2026-klo-9-00/
LOCATION:Haagan toimintatalo\, Vanha viertotie 22\, Helsinki\, 00350\, Finland
CATEGORIES:Haagan toimintatalo,Tapahtumat henkilökunnalle,Tapahtumat palvelunkäyttäjille
END:VEVENT
BEGIN:VEVENT
DTSTART;TZID=Europe/Helsinki:20260225T090000
DTEND;TZID=Europe/Helsinki:20260225T100000
DTSTAMP:20260423T175356
CREATED:20260203T061110Z
LAST-MODIFIED:20260203T061110Z
UID:10033532-1772010000-1772013600@kalenteri.niemikoti.fi
SUMMARY:tutustuminen Haagan toimintataloon ke. 25.2.2026 klo 9.00
DESCRIPTION:Tervetuloa tutustumaan Haagan toimintataloon keskiviikkona  25.2. Tutustumiskierros alkaa tasan klo 9.00 ensimmäisen kerroksen kahvilasta  eli tulethan ajoissa. Tutustumiskierros kestää noin tunnin.
URL:https://kalenteri.niemikoti.fi/en/tapahtuma/tutustuminen-haagan-toimintataloon-ke-25-2-2026-klo-9-00/2026-02-25/2/
LOCATION:Haagan toimintatalo\, Vanha viertotie 22\, Helsinki\, 00350\, Finland
CATEGORIES:Haagan toimintatalo,Tapahtumat henkilökunnalle,Tapahtumat palvelunkäyttäjille
END:VEVENT
BEGIN:VEVENT
DTSTART;TZID=Europe/Helsinki:20260225T080000
DTEND;TZID=Europe/Helsinki:20260225T170000
DTSTAMP:20260423T175356
CREATED:20260203T061110Z
LAST-MODIFIED:20260203T061110Z
UID:10033531-1772006400-1772038800@kalenteri.niemikoti.fi
SUMMARY:tutustuminen Haagan toimintataloon ke. 25.2.2026 klo 9.00
DESCRIPTION:Tervetuloa tutustumaan Haagan toimintataloon keskiviikkona  25.2. Tutustumiskierros alkaa tasan klo 9.00 ensimmäisen kerroksen kahvilasta  eli tulethan ajoissa. Tutustumiskierros kestää noin tunnin.
URL:https://kalenteri.niemikoti.fi/en/tapahtuma/tutustuminen-haagan-toimintataloon-ke-25-2-2026-klo-9-00/2026-02-25/1/
LOCATION:Haagan toimintatalo\, Vanha viertotie 22\, Helsinki\, 00350\, Finland
CATEGORIES:Haagan toimintatalo,Tapahtumat henkilökunnalle,Tapahtumat palvelunkäyttäjille
END:VEVENT
BEGIN:VEVENT
DTSTART;TZID=Europe/Helsinki:20260128T090000
DTEND;TZID=Europe/Helsinki:20260128T100000
DTSTAMP:20260423T175356
CREATED:20260112T065449Z
LAST-MODIFIED:20260112T065449Z
UID:10026124-1769590800-1769594400@kalenteri.niemikoti.fi
SUMMARY:tutustuminen Haagan toimintataloon ke. 28.1.2026  klo 9.00
DESCRIPTION:tervetuloa tutustumaan haagan toimintataloon ke 28.1.2026. klo 9.00. Tutustumiskierros alkaa 1 kerroksen kahvilasta tasan klo 9.00 eli tulethan ajoissa. Tutustumiskierros kestää noin tunnin.
URL:https://kalenteri.niemikoti.fi/en/tapahtuma/tutustuminen-haagan-toimintataloon-ke-28-1-2026-klo-9-00/
LOCATION:Haagan toimintatalo\, Vanha viertotie 22\, Helsinki\, 00350\, Finland
CATEGORIES:Haagan toimintatalo,Tapahtumat henkilökunnalle,Tapahtumat palvelunkäyttäjille
END:VEVENT
BEGIN:VEVENT
DTSTART;TZID=Europe/Helsinki:20251203T090000
DTEND;TZID=Europe/Helsinki:20251203T100000
DTSTAMP:20260423T175356
CREATED:20251112T092946Z
LAST-MODIFIED:20251112T092946Z
UID:10025402-1764752400-1764756000@kalenteri.niemikoti.fi
SUMMARY:tutustuminen Haagan toimintataloon ke. 3.12.2025 klo 9.00
DESCRIPTION:tervetuloa tutustumaan haagan toimintataloon ke 3.12. klo 9.00. Tutustumiskierros alkaa 1 kerroksen kahvilasta tasan klo 9.00 eli tulethan ajoissa. Tutustumiskierros kestää noin tunnin.
URL:https://kalenteri.niemikoti.fi/en/tapahtuma/tutustuminen-haagan-toimintataloon-ke-3-12-2025-klo-9-00/
CATEGORIES:Haagan toimintatalo,Tapahtumat henkilökunnalle,Tapahtumat palvelunkäyttäjille
END:VEVENT
BEGIN:VEVENT
DTSTART;TZID=Europe/Helsinki:20251029T090000
DTEND;TZID=Europe/Helsinki:20251029T100000
DTSTAMP:20260423T175356
CREATED:20250903T093507Z
LAST-MODIFIED:20250903T093507Z
UID:10024811-1761728400-1761732000@kalenteri.niemikoti.fi
SUMMARY:Tutustuminen haagan toimintataloon ke. 29.10. klo 9.00 (työtoiminnassa jonoa)
DESCRIPTION:Tervetuloa tutustumaan Haagan toimintataloon ke 29.10. klo 9.00. Tutustumiskierros alkaa 1. kerroksesta tasan klo.900 ja kestää noin tunnin. Työtoimintamme on varsin täynnä ja jonossa on jo työtoimintaan pääsyä odottavia mutta ryhmätoiminnoissa on tilaa.
URL:https://kalenteri.niemikoti.fi/en/tapahtuma/tutustuminen-haagan-toimintataloon-ke-29-10-klo-9-00-tyotoiminnassa-jonoa/
CATEGORIES:Haagan toimintatalo
END:VEVENT
BEGIN:VEVENT
DTSTART;TZID=Europe/Helsinki:20250903T090000
DTEND;TZID=Europe/Helsinki:20250903T100000
DTSTAMP:20260423T175356
CREATED:20250624T080417Z
LAST-MODIFIED:20250624T080417Z
UID:10023305-1756890000-1756893600@kalenteri.niemikoti.fi
SUMMARY:tutustuminen haagan toimintataloon ke. 3.9. klo 9.00
DESCRIPTION:Tervetuloa tutustumaan Haagan toimintataloon keskiviikkona 3.9. klo 9.00. Kierros alkaa 1 .krs kahvilasta ja kestää noin tunnin
URL:https://kalenteri.niemikoti.fi/en/tapahtuma/tutustuminen-haagan-toimintataloon-ke-3-9-klo-9-00/2025-09-03/
LOCATION:Haagan toimintatalo\, Vanha viertotie 22\, Helsinki\, 00350\, Finland
CATEGORIES:Haagan toimintatalo,Tapahtumat henkilökunnalle,Tapahtumat palvelunkäyttäjille
END:VEVENT
BEGIN:VEVENT
DTSTART;TZID=Europe/Helsinki:20250820T133000
DTEND;TZID=Europe/Helsinki:20250820T150000
DTSTAMP:20260423T175356
CREATED:20250806T062810Z
LAST-MODIFIED:20250806T062810Z
UID:10023337-1755696600-1755702000@kalenteri.niemikoti.fi
SUMMARY:Sateenkaarikahvila 20.8. klo 13.30–15
DESCRIPTION:Kaikkien aikojen ensimmäinen Sateenkaarikahvila Haagan toimintatalossa 20.8.2025 klo 13.30-15. Kokoonkutsujana ja järjestäjänä toimii kokemusasiantuntijatyöryhmä. \nSateenkaarikahvilan teemana on sukupuolten moninaisuus. \nTilaisuus on avoin kaikille kiinnostuneille. Tarjoilujen riittävyyden vuoksi toivomme ilmoittautumista viimeistään 15.8.2025 sirpa.sinisalo@niemikoti.fi. Ja saa tulla vaikka ilmoittautuminen unohtuisi! \nsateenkaarikahvila2025-08.v2
URL:https://kalenteri.niemikoti.fi/en/tapahtuma/sateenkaarikahvila-20-8-klo-13-30-15/
LOCATION:Haagan toimintatalo\, Vanha viertotie 22\, Helsinki\, 00350\, Finland
CATEGORIES:Haagan toimintatalo,Kokemusasiantuntija- ja vertaistoiminta,Omaisille ja läheisille,Tapahtumat henkilökunnalle,Tapahtumat palvelunkäyttäjille
ATTACH;FMTTYPE=image/png:https://kalenteri.niemikoti.fi/wp-content/uploads/2025/08/sateenkaarikahvila2025-08.png
END:VEVENT
BEGIN:VEVENT
DTSTART;TZID=Europe/Helsinki:20250528T090000
DTEND;TZID=Europe/Helsinki:20250528T100000
DTSTAMP:20260423T175356
CREATED:20250403T064648Z
LAST-MODIFIED:20250403T064648Z
UID:10022024-1748422800-1748426400@kalenteri.niemikoti.fi
SUMMARY:Tutustuminen Haagan toimintataloon 28.5. klo 9.oo
DESCRIPTION:tervetuloa tutustumaan Haagan toimintataloon keskiviikkona 28.5. klo 9.00. Tutustumiskierros alkaa 1 krs kahvilasta klo 9.00 eli olethan ajoissa. Kierros kestää noin tunnin.
URL:https://kalenteri.niemikoti.fi/en/tapahtuma/tutustuminen-haagan-toimintataloon-28-5-klo-9-oo/
CATEGORIES:Haagan toimintatalo
END:VEVENT
BEGIN:VEVENT
DTSTART;TZID=Europe/Helsinki:20250326T090000
DTEND;TZID=Europe/Helsinki:20250326T100000
DTSTAMP:20260423T175356
CREATED:20250304T093535Z
LAST-MODIFIED:20250304T093535Z
UID:10021651-1742979600-1742983200@kalenteri.niemikoti.fi
SUMMARY:Tutustuminen Haagan toimintataloon 26.3.2025. klo 9.00
DESCRIPTION:tervetuloa tutustumaan Haagan toimintataloon keskiviiikkona 26.3 klo 9.00. Tutustumiskierros alkaa 1 krs kahvilasta klo 9.00 ja kestää noin tunnin
URL:https://kalenteri.niemikoti.fi/en/tapahtuma/tutustuminen-haagan-toimintataloon-26-3-2025-klo-9-00/
CATEGORIES:Haagan toimintatalo
END:VEVENT
BEGIN:VEVENT
DTSTART;TZID=Europe/Helsinki:20250226T090000
DTEND;TZID=Europe/Helsinki:20250226T100000
DTSTAMP:20260423T175356
CREATED:20250121T104521Z
LAST-MODIFIED:20250121T104521Z
UID:10021360-1740560400-1740564000@kalenteri.niemikoti.fi
SUMMARY:Tutustuminen Haagan toimintataloon 26.2. klo 9.00
DESCRIPTION:tervetuloa tutustumaan Haagan toimintataloon keskiviikkona 26.2. klo 9.00. Tutustumiskierros alkaa 1. kerroksen kahvilasta ja kestää noin tunnin.
URL:https://kalenteri.niemikoti.fi/en/tapahtuma/tutustuminen-haagan-toimintataloon-26-2-klo-9-00/
CATEGORIES:Haagan toimintatalo,Tapahtumat henkilökunnalle,Tapahtumat palvelunkäyttäjille
END:VEVENT
BEGIN:VEVENT
DTSTART;TZID=Europe/Helsinki:20250115T090000
DTEND;TZID=Europe/Helsinki:20250115T100000
DTSTAMP:20260423T175356
CREATED:20250109T054027Z
LAST-MODIFIED:20250109T054027Z
UID:10014061-1736931600-1736935200@kalenteri.niemikoti.fi
SUMMARY:Tutustuminen Haagan toimintataloon 15.1. klo 9-10.00
DESCRIPTION:tervetuloa tutustumaan Haagan toimintataloon keskiviikkona 15.1 klo 9.00. Tutustumiskierros alkaa toimintatalon 1. kerroksen kahvilata tasan klo 9.00 ja kestää noin tunnin.
URL:https://kalenteri.niemikoti.fi/en/tapahtuma/tutustuminen-haagan-toimintataloon-15-1-klo-9-10-00/
CATEGORIES:Haagan toimintatalo,Tapahtumat henkilökunnalle,Tapahtumat palvelunkäyttäjille
END:VEVENT
BEGIN:VEVENT
DTSTART;TZID=Europe/Helsinki:20241212T100000
DTEND;TZID=Europe/Helsinki:20241212T140000
DTSTAMP:20260423T175356
CREATED:20240208T051527Z
LAST-MODIFIED:20241120T051431Z
UID:10005854-1733997600-1734012000@kalenteri.niemikoti.fi
SUMMARY:Haagan joulumyyjäiset 12.12.
DESCRIPTION:Haagan perinteiset joulumyyjäiset os. vanha viertotie 22 C. Tervetuloa jouluostoksille klo 10-14.00 \nJoulumyyjaiset_2024
URL:https://kalenteri.niemikoti.fi/en/tapahtuma/haagan-joulumyyjaiset-12-12/
LOCATION:Haagan toimintatalo\, Vanha viertotie 22\, Helsinki\, 00350\, Finland
CATEGORIES:Haagan toimintatalo
ATTACH;FMTTYPE=image/png:https://kalenteri.niemikoti.fi/wp-content/uploads/2024/02/Screenshot-2024-11-20-at-7.12.59.png
END:VEVENT
BEGIN:VEVENT
DTSTART;TZID=Europe/Helsinki:20241023T090000
DTEND;TZID=Europe/Helsinki:20241023T100000
DTSTAMP:20260423T175356
CREATED:20240927T062324Z
LAST-MODIFIED:20240930T041432Z
UID:10013397-1729674000-1729677600@kalenteri.niemikoti.fi
SUMMARY:Tutustuminen Haagan toimintataloon 23.10. klo 9-10.00
DESCRIPTION:Tervetuloa tutustumaan Haagan toimintataloon keskiviikkona 23.10 klo 9.00. Tutustumiskierros alkaa ensimmäisen kerroksen kahvilatilasta klo 9.00 ja kestää noin tunnin.
URL:https://kalenteri.niemikoti.fi/en/tapahtuma/tutustuminen-haagan-toimintataloon-23-10-klo-9-10-00/
LOCATION:Haagan toimintatalo\, Vanha viertotie 22\, Helsinki\, 00350\, Finland
CATEGORIES:Haagan toimintatalo,Tapahtumat palvelunkäyttäjille
ATTACH;FMTTYPE=image/jpeg:https://kalenteri.niemikoti.fi/wp-content/uploads/2024/09/DSC_0083-3.jpg
END:VEVENT
BEGIN:VEVENT
DTSTART;TZID=Europe/Helsinki:20240612T090000
DTEND;TZID=Europe/Helsinki:20240612T100000
DTSTAMP:20260423T175356
CREATED:20240319T111839Z
LAST-MODIFIED:20240521T051231Z
UID:10006769-1718182800-1718186400@kalenteri.niemikoti.fi
SUMMARY:Tutustuminen Haagan toimintataloon 12.6.2024 klo 9.00
DESCRIPTION:tervetuloa vielä ennen kesälomia tutustumaan Haagan toimintataloon. Tutustumiskierros alkaa ensimmäisestä kerroksesta klo 9.00 ja kestää noin tunnin. Monipuolista työtoimintaa ja ryhmätoimintaa sekä vertais ja kokemusasiantuntijatoimintaa nähtävillä ja kuultavissa!
URL:https://kalenteri.niemikoti.fi/en/tapahtuma/tutustuminen-haagan-toimintataloon-12-6-2024-klo-9-00/2024-06-12/
CATEGORIES:Haagan toimintatalo
ATTACH;FMTTYPE=image/jpeg:https://kalenteri.niemikoti.fi/wp-content/uploads/2024/03/vertaiskuvalehteen.jpg
END:VEVENT
BEGIN:VEVENT
DTSTART;TZID=Europe/Helsinki:20240515T090000
DTEND;TZID=Europe/Helsinki:20240515T100000
DTSTAMP:20260423T175356
CREATED:20240315T060644Z
LAST-MODIFIED:20240405T052440Z
UID:10006767-1715763600-1715767200@kalenteri.niemikoti.fi
SUMMARY:tutustuminen Haagan toimintataloon 15.5. klo 9.00
DESCRIPTION:tervetuloa tutustumaan Haagan toimintataloon ke. 15.5 klo 9.00. Tutustumiskierroa alkaa 1.kerroksesta klo 9.00 ja kestää noin tunnin.
URL:https://kalenteri.niemikoti.fi/en/tapahtuma/tutustuminen-haagan-toimintataloon-15-5-klo-9-00/
CATEGORIES:Haagan toimintatalo
ATTACH;FMTTYPE=image/jpeg:https://kalenteri.niemikoti.fi/wp-content/uploads/2024/03/haikulaurintulppaanit2-scaled.jpg
END:VEVENT
BEGIN:VEVENT
DTSTART;TZID=Europe/Helsinki:20240417T090000
DTEND;TZID=Europe/Helsinki:20240417T100000
DTSTAMP:20260423T175356
CREATED:20240315T055323Z
LAST-MODIFIED:20240405T052401Z
UID:10006766-1713344400-1713348000@kalenteri.niemikoti.fi
SUMMARY:Tutustuminen Haagan toimintataloon 17.4. klo 9.oo
DESCRIPTION:tervetuloa tutustumaan Haagan toimintataloon os. vanha viertotie 22 c. Tutumiskierros alkaa 1 .kerroksesta klo 9.00 ja kestää noin tunnin. \nJos tämä aika ei sinulle sovi niin soita Marko Hannille nro 0505931551 niin katsotaan sopivampi aika.
URL:https://kalenteri.niemikoti.fi/en/tapahtuma/tutustuminen-haagan-toimintataloon-17-4-klo-9-10-00-2/
CATEGORIES:Haagan toimintatalo
ATTACH;FMTTYPE=image/png:https://kalenteri.niemikoti.fi/wp-content/uploads/2024/03/haaga-40-logo.png
END:VEVENT
BEGIN:VEVENT
DTSTART;TZID=Europe/Helsinki:20240126T123000
DTEND;TZID=Europe/Helsinki:20240126T133000
DTSTAMP:20260423T175356
CREATED:20240126T084555Z
LAST-MODIFIED:20240126T084916Z
UID:10005173-1706272200-1706275800@kalenteri.niemikoti.fi
SUMMARY:Valtti Valmennuksen infokahvila Niilossa pe 26.1. klo 12.30-13.30
DESCRIPTION:Tämä tapahtuma on kaikille Niemikotisäätiön yhteisön poppoolle! \nPaikalla Valtti Valmennuksen työvalmentajat Satu. \n\nKysymykset sallittuja ja tervetulleita\, voidaan myös keskustella vapaammin\, mitä mieleen tulee \n\n\n\nTervetuloa!
URL:https://kalenteri.niemikoti.fi/en/tapahtuma/valtti-valmennuksen-infokahvila-niilossa-pe-26-1-klo-12-30-13-30/
LOCATION:Kulttuuripaja ELVIS\, Lautatarhankatu 4\, Helsinki\, 00580\, Finland
CATEGORIES:Asumispalvelut,Haagan toimintatalo,Jälleenvuokraus,Kesäharjun toimintakeskus,Kokemusasiantuntija- ja vertaistoiminta,Kulttuuripaja ELVIS,Malmin päivätoimintakeskus,Mieli Töihin -valmennus,Muut tapahtumajärjestäjät,Omaisille ja läheisille,Ompelimo & Olohuone,Päivätoiminta,Toimintakeskus Villa Borgis,Työ- ja valmennustoiminta,Valtti Valmennus
ATTACH;FMTTYPE=image/jpeg:https://kalenteri.niemikoti.fi/wp-content/uploads/2024/01/Valtin-kahvila-26.1.2024.jpg
END:VEVENT
BEGIN:VEVENT
DTSTART;TZID=Europe/Helsinki:20231213T090000
DTEND;TZID=Europe/Helsinki:20231213T100000
DTSTAMP:20260423T175356
CREATED:20230522T094238Z
LAST-MODIFIED:20230602T031327Z
UID:10000332-1702458000-1702461600@kalenteri.niemikoti.fi
SUMMARY:Tutustumiskierros Haagan toimintatalossa
DESCRIPTION:Tervetuloa tutustumaan Haagan toimintataloon! Tutustumisajat 16.8.\, 20.9.\, 25.10.\, 15.11. ja 13.12.2023. \nTutustumiskierros alkaa klo 9.00 ensimmäisestä kerroksesta ja kestää noin tunnin. Muita tutustumisaikoja voit kysyä Marko Hannilta\, p. 050 5931551.
URL:https://kalenteri.niemikoti.fi/en/tapahtuma/tutustumiskierros-haagan-toimintatalossa/2023-12-13/
LOCATION:Haagan toimintatalo\, Vanha viertotie 22\, Helsinki\, 00350\, Finland
CATEGORIES:Haagan toimintatalo
END:VEVENT
BEGIN:VEVENT
DTSTART;TZID=Europe/Helsinki:20231129T100000
DTEND;TZID=Europe/Helsinki:20231129T140000
DTSTAMP:20260423T175356
CREATED:20230522T094959Z
LAST-MODIFIED:20231106T050451Z
UID:10000334-1701252000-1701266400@kalenteri.niemikoti.fi
SUMMARY:Joulumyyjäiset Haagan toimintatalossa
DESCRIPTION:Haagan perinteiset joulumyyjäiset os vanha viertotie 22 c. \n– ARPAJAISET \n– JOULUN AJAN LEIVONNAISIA \n– JOULUKORTTEJA \n-HAAGASSA TEHTYJÄ TUOTTEITA \nesim. saippuat\, joulutuoksut\, kynttilät\, villasukat\, jalkakylpy\, koreja yms
URL:https://kalenteri.niemikoti.fi/en/tapahtuma/joulumyyjaiset-haagan-toimintatalossa/
LOCATION:Haagan toimintatalo\, Vanha viertotie 22\, Helsinki\, 00350\, Finland
CATEGORIES:Haagan toimintatalo
END:VEVENT
BEGIN:VEVENT
DTSTART;TZID=Europe/Helsinki:20231115T090000
DTEND;TZID=Europe/Helsinki:20231115T100000
DTSTAMP:20260423T175356
CREATED:20230522T094238Z
LAST-MODIFIED:20230602T031327Z
UID:10000331-1700038800-1700042400@kalenteri.niemikoti.fi
SUMMARY:Tutustumiskierros Haagan toimintatalossa
DESCRIPTION:Tervetuloa tutustumaan Haagan toimintataloon! Tutustumisajat 16.8.\, 20.9.\, 25.10.\, 15.11. ja 13.12.2023. \nTutustumiskierros alkaa klo 9.00 ensimmäisestä kerroksesta ja kestää noin tunnin. Muita tutustumisaikoja voit kysyä Marko Hannilta\, p. 050 5931551.
URL:https://kalenteri.niemikoti.fi/en/tapahtuma/tutustumiskierros-haagan-toimintatalossa/2023-11-15/
LOCATION:Haagan toimintatalo\, Vanha viertotie 22\, Helsinki\, 00350\, Finland
CATEGORIES:Haagan toimintatalo
END:VEVENT
BEGIN:VEVENT
DTSTART;TZID=Europe/Helsinki:20231025T090000
DTEND;TZID=Europe/Helsinki:20231025T100000
DTSTAMP:20260423T175356
CREATED:20230522T094238Z
LAST-MODIFIED:20230602T031327Z
UID:10000330-1698224400-1698228000@kalenteri.niemikoti.fi
SUMMARY:Tutustumiskierros Haagan toimintatalossa
DESCRIPTION:Tervetuloa tutustumaan Haagan toimintataloon! Tutustumisajat 16.8.\, 20.9.\, 25.10.\, 15.11. ja 13.12.2023. \nTutustumiskierros alkaa klo 9.00 ensimmäisestä kerroksesta ja kestää noin tunnin. Muita tutustumisaikoja voit kysyä Marko Hannilta\, p. 050 5931551.
URL:https://kalenteri.niemikoti.fi/en/tapahtuma/tutustumiskierros-haagan-toimintatalossa/2023-10-25/
LOCATION:Haagan toimintatalo\, Vanha viertotie 22\, Helsinki\, 00350\, Finland
CATEGORIES:Haagan toimintatalo
END:VEVENT
BEGIN:VEVENT
DTSTART;TZID=Europe/Helsinki:20230920T090000
DTEND;TZID=Europe/Helsinki:20230920T100000
DTSTAMP:20260423T175356
CREATED:20230522T094238Z
LAST-MODIFIED:20230602T031327Z
UID:10000329-1695200400-1695204000@kalenteri.niemikoti.fi
SUMMARY:Tutustumiskierros Haagan toimintatalossa
DESCRIPTION:Tervetuloa tutustumaan Haagan toimintataloon! Tutustumisajat 16.8.\, 20.9.\, 25.10.\, 15.11. ja 13.12.2023. \nTutustumiskierros alkaa klo 9.00 ensimmäisestä kerroksesta ja kestää noin tunnin. Muita tutustumisaikoja voit kysyä Marko Hannilta\, p. 050 5931551.
URL:https://kalenteri.niemikoti.fi/en/tapahtuma/tutustumiskierros-haagan-toimintatalossa/2023-09-20/
LOCATION:Haagan toimintatalo\, Vanha viertotie 22\, Helsinki\, 00350\, Finland
CATEGORIES:Haagan toimintatalo
END:VEVENT
BEGIN:VEVENT
DTSTART;TZID=Europe/Helsinki:20230908T090000
DTEND;TZID=Europe/Helsinki:20230908T130000
DTSTAMP:20260423T175356
CREATED:20230522T094816Z
LAST-MODIFIED:20230602T032632Z
UID:10000333-1694163600-1694178000@kalenteri.niemikoti.fi
SUMMARY:Vertti Vertaispäivä – avoimet ovet Haagan toimintatalossa
DESCRIPTION:Vertti Vertaispäivä ohjelmassa muun muassa musiikkiesityksiä ja vieraat pääsevät tutustumaan talon monipuolisiin toimintoihin. Tarjolla myös kaikille pullakahvit ja edulliseen hintaan voi ostaa keittolounaan!
URL:https://kalenteri.niemikoti.fi/en/tapahtuma/vertti-vertaispaiva-avoimet-ovet-haagan-toimintatalossa/
LOCATION:Haagan toimintatalo\, Vanha viertotie 22\, Helsinki\, 00350\, Finland
CATEGORIES:Haagan toimintatalo
ATTACH;FMTTYPE=image/jpeg:https://kalenteri.niemikoti.fi/wp-content/uploads/2023/05/vertaiskuvalehteen.jpg
END:VEVENT
BEGIN:VEVENT
DTSTART;TZID=Europe/Helsinki:20230816T090000
DTEND;TZID=Europe/Helsinki:20230816T100000
DTSTAMP:20260423T175356
CREATED:20230522T094238Z
LAST-MODIFIED:20230602T031327Z
UID:10000328-1692176400-1692180000@kalenteri.niemikoti.fi
SUMMARY:Tutustumiskierros Haagan toimintatalossa
DESCRIPTION:Tervetuloa tutustumaan Haagan toimintataloon! Tutustumisajat 16.8.\, 20.9.\, 25.10.\, 15.11. ja 13.12.2023. \nTutustumiskierros alkaa klo 9.00 ensimmäisestä kerroksesta ja kestää noin tunnin. Muita tutustumisaikoja voit kysyä Marko Hannilta\, p. 050 5931551.
URL:https://kalenteri.niemikoti.fi/en/tapahtuma/tutustumiskierros-haagan-toimintatalossa/2023-08-16/
LOCATION:Haagan toimintatalo\, Vanha viertotie 22\, Helsinki\, 00350\, Finland
CATEGORIES:Haagan toimintatalo
END:VEVENT
BEGIN:VEVENT
DTSTART;TZID=Europe/Helsinki:20230606T120000
DTEND;TZID=Europe/Helsinki:20230606T150000
DTSTAMP:20260423T175356
CREATED:20230528T033431Z
LAST-MODIFIED:20230606T043032Z
UID:10000335-1686052800-1686063600@kalenteri.niemikoti.fi
SUMMARY:Kesäjuhla Malmilla
DESCRIPTION:Perinteistä kesäjuhlaa vietetään Malmilla klo 12-14 ja juhlan jälkeen on mahdollisuus osallistua peltokierrokselle viereisellä Green City Farm -pellolla\, jossa peltoryhmät kokoontuvat kaupunkiviljelyn merkeissä torstaisin.
URL:https://kalenteri.niemikoti.fi/en/tapahtuma/kesajuhla/
LOCATION:Malmin päivätoimintakeskus\, Vanha Helsingintie 9\, Helsinki\, 00700\, Finland
CATEGORIES:Haagan toimintatalo,Jälleenvuokraus,Kokemusasiantuntija- ja vertaistoiminta,Kulttuuripaja ELVIS,Malmin päivätoimintakeskus,Mieli Töihin -valmennus,Omaisille ja läheisille,Ompelimo & Olohuone,Päivätoiminta,Toimintakeskus Villa Borgis,Työ- ja valmennustoiminta,Valtti Valmennus
ATTACH;FMTTYPE=image/png:https://kalenteri.niemikoti.fi/wp-content/uploads/2023/05/Kesajuhlaflaijeri.png
END:VEVENT
BEGIN:VEVENT
DTSTART;TZID=Europe/Helsinki:20230605T120000
DTEND;TZID=Europe/Helsinki:20230605T150000
DTSTAMP:20260423T175356
CREATED:20230529T080133Z
LAST-MODIFIED:20230529T080504Z
UID:10000341-1685966400-1685977200@kalenteri.niemikoti.fi
SUMMARY:Ilonpilke-kesätapahtuma 2023
DESCRIPTION:Mitä luvassa?\n\nToista kertaa järjestettävä rento ja iloinen tapahtuma\nMaksutonta ja hauskaa tekemistä ja yhdessä oloa\nKaikille sopivia erilaisia toimintapisteitä\nMielenterveysjärjestöihin tutustumista\nKahvia\, teetä\, mehua ja pullaa (70:lle ensimmäiselle)\nPorttiteatterin esitys\n\nTapahtumassa mukana\n\nMajakka\nKarvinen\nKlubitalot\nPro Lapinlahti\nLilinkotisäätiö\nNieikotisäätiö\nTaiteen Sulattamo\nKulttuuripaja K-35\nKulttuuripaja Kupla\nKaupungin liikuntapalvelut\n\nLisätiedot kokemusasiantuntija Laura Nuutinen\, puh. 040 768 3328\, laura92nuutinen@gmail.com \nLämpimästi tervetuloa yksin tai yhdessä! Ei tarvitse ilmoittautua!
URL:https://kalenteri.niemikoti.fi/en/tapahtuma/ilonpilke-kesatapahtuma-2023/
LOCATION:Lapinlahden lähde\, Lapinlahdenpolku 8\, Helsinki\, 00180\, Finland
CATEGORIES:Asumispalvelut,Haagan toimintatalo,Jälleenvuokraus,Kesäharjun toimintakeskus,Kokemusasiantuntija- ja vertaistoiminta,Kulttuuripaja ELVIS,Malmin päivätoimintakeskus,Mieli Töihin -valmennus,Omaisille ja läheisille,Ompelimo & Olohuone,Päivätoiminta,Toimintakeskus Villa Borgis,Työ- ja valmennustoiminta,Valtti Valmennus
ATTACH;FMTTYPE=image/png:https://kalenteri.niemikoti.fi/wp-content/uploads/2023/05/Screenshot-2023-05-29-at-10.56.25.png
END:VEVENT
END:VCALENDAR