BEGIN:VCALENDAR
VERSION:2.0
PRODID:-//Tapahtumakalenteri - ECPv6.15.18//NONSGML v1.0//EN
CALSCALE:GREGORIAN
METHOD:PUBLISH
X-ORIGINAL-URL:https://kalenteri.niemikoti.fi/en/
X-WR-CALDESC:Events for Tapahtumakalenteri
REFRESH-INTERVAL;VALUE=DURATION:PT1H
X-Robots-Tag:noindex
X-PUBLISHED-TTL:PT1H
BEGIN:VTIMEZONE
TZID:Europe/Helsinki
BEGIN:DAYLIGHT
TZOFFSETFROM:+0200
TZOFFSETTO:+0300
TZNAME:EEST
DTSTART:20250330T010000
END:DAYLIGHT
BEGIN:STANDARD
TZOFFSETFROM:+0300
TZOFFSETTO:+0200
TZNAME:EET
DTSTART:20251026T010000
END:STANDARD
BEGIN:DAYLIGHT
TZOFFSETFROM:+0200
TZOFFSETTO:+0300
TZNAME:EEST
DTSTART:20260329T010000
END:DAYLIGHT
BEGIN:STANDARD
TZOFFSETFROM:+0300
TZOFFSETTO:+0200
TZNAME:EET
DTSTART:20261025T010000
END:STANDARD
BEGIN:DAYLIGHT
TZOFFSETFROM:+0200
TZOFFSETTO:+0300
TZNAME:EEST
DTSTART:20270328T010000
END:DAYLIGHT
BEGIN:STANDARD
TZOFFSETFROM:+0300
TZOFFSETTO:+0200
TZNAME:EET
DTSTART:20271031T010000
END:STANDARD
END:VTIMEZONE
BEGIN:VEVENT
DTSTART;TZID=Europe/Helsinki:20260212T140000
DTEND;TZID=Europe/Helsinki:20260212T150000
DTSTAMP:20260423T234421
CREATED:20260202T073944Z
LAST-MODIFIED:20260202T073944Z
UID:10033530-1770904800-1770908400@kalenteri.niemikoti.fi
SUMMARY:Takuusäätiön info
DESCRIPTION:Mitkä laskut pitäisi maksaa ensiksi? Mikä on maksuhäiriömerkintä? Millaisia palveluita on tarjolla taloushaasteissa? Tervetuloa kuulemaan Takuusäätiön info velka- ja talousasioista! \nInfo järjestetään Teamsissä ja ilmoittautuneille lähetetään erillinen Teams-kutsu (ilmoittautumiset ke 11.2. mennessä osoitteeseen emma.heikkinen@niemikoti.fi). Infoa voi myös tulla kuuntelemaan paikan päälle Valtti Valmennukseen (Kuortaneenkatu 1).
URL:https://kalenteri.niemikoti.fi/en/tapahtuma/takuusaation-info/
LOCATION:Valtti Valmennus\, Elimäenkatu 26\, Helsinki\, 00510\, Finland
CATEGORIES:Valtti Valmennus
ATTACH;FMTTYPE=image/png:https://kalenteri.niemikoti.fi/wp-content/uploads/2026/02/Takuusaation-info.png
END:VEVENT
BEGIN:VEVENT
DTSTART;TZID=Europe/Helsinki:20260225T080000
DTEND;TZID=Europe/Helsinki:20260225T170000
DTSTAMP:20260423T234421
CREATED:20260203T061110Z
LAST-MODIFIED:20260203T061110Z
UID:10033531-1772006400-1772038800@kalenteri.niemikoti.fi
SUMMARY:tutustuminen Haagan toimintataloon ke. 25.2.2026 klo 9.00
DESCRIPTION:Tervetuloa tutustumaan Haagan toimintataloon keskiviikkona  25.2. Tutustumiskierros alkaa tasan klo 9.00 ensimmäisen kerroksen kahvilasta  eli tulethan ajoissa. Tutustumiskierros kestää noin tunnin.
URL:https://kalenteri.niemikoti.fi/en/tapahtuma/tutustuminen-haagan-toimintataloon-ke-25-2-2026-klo-9-00/2026-02-25/1/
LOCATION:Haagan toimintatalo\, Vanha viertotie 22\, Helsinki\, 00350\, Finland
CATEGORIES:Haagan toimintatalo,Tapahtumat henkilökunnalle,Tapahtumat palvelunkäyttäjille
END:VEVENT
BEGIN:VEVENT
DTSTART;TZID=Europe/Helsinki:20260225T090000
DTEND;TZID=Europe/Helsinki:20260225T100000
DTSTAMP:20260423T234421
CREATED:20260203T061110Z
LAST-MODIFIED:20260203T061110Z
UID:10033532-1772010000-1772013600@kalenteri.niemikoti.fi
SUMMARY:tutustuminen Haagan toimintataloon ke. 25.2.2026 klo 9.00
DESCRIPTION:Tervetuloa tutustumaan Haagan toimintataloon keskiviikkona  25.2. Tutustumiskierros alkaa tasan klo 9.00 ensimmäisen kerroksen kahvilasta  eli tulethan ajoissa. Tutustumiskierros kestää noin tunnin.
URL:https://kalenteri.niemikoti.fi/en/tapahtuma/tutustuminen-haagan-toimintataloon-ke-25-2-2026-klo-9-00/2026-02-25/2/
LOCATION:Haagan toimintatalo\, Vanha viertotie 22\, Helsinki\, 00350\, Finland
CATEGORIES:Haagan toimintatalo,Tapahtumat henkilökunnalle,Tapahtumat palvelunkäyttäjille
END:VEVENT
BEGIN:VEVENT
DTSTART;TZID=Europe/Helsinki:20260415T090000
DTEND;TZID=Europe/Helsinki:20260415T100000
DTSTAMP:20260423T234421
CREATED:20260226T094743Z
LAST-MODIFIED:20260302T092244Z
UID:10033956-1776243600-1776247200@kalenteri.niemikoti.fi
SUMMARY:tutustuminen Haagan toimintataloon ke. 15.4.2026 klo 9.00
DESCRIPTION:tervetuloa tutustumaan Haagan toimintataloon keskiviikkona 15.4 klo 9.00. Tutustumiskierros alkaa 1.kerroksen kahvilasta tasan klo 9.00 eli tulethan ajoissa. Tutustumiskierros kestää noin tunnin. Tervetuloa!  ps jos tämä aika ei sinulle käy niin ota yhteyttä p 0505931551(Marko Hanni)
URL:https://kalenteri.niemikoti.fi/en/tapahtuma/tutustuminen-haagan-toimintataloon-ke-15-4-2026-klo-9-00/
LOCATION:Haagan toimintatalo\, Vanha viertotie 22\, Helsinki\, 00350\, Finland
CATEGORIES:Haagan toimintatalo,Tapahtumat henkilökunnalle,Tapahtumat palvelunkäyttäjille
END:VEVENT
END:VCALENDAR