BEGIN:VCALENDAR
VERSION:2.0
PRODID:-//Tapahtumakalenteri - ECPv6.15.18//NONSGML v1.0//EN
CALSCALE:GREGORIAN
METHOD:PUBLISH
X-ORIGINAL-URL:https://kalenteri.niemikoti.fi/en/
X-WR-CALDESC:Events for Tapahtumakalenteri
REFRESH-INTERVAL;VALUE=DURATION:PT1H
X-Robots-Tag:noindex
X-PUBLISHED-TTL:PT1H
BEGIN:VTIMEZONE
TZID:Europe/Helsinki
BEGIN:DAYLIGHT
TZOFFSETFROM:+0200
TZOFFSETTO:+0300
TZNAME:EEST
DTSTART:20280326T010000
END:DAYLIGHT
BEGIN:STANDARD
TZOFFSETFROM:+0300
TZOFFSETTO:+0200
TZNAME:EET
DTSTART:20281029T010000
END:STANDARD
BEGIN:DAYLIGHT
TZOFFSETFROM:+0200
TZOFFSETTO:+0300
TZNAME:EEST
DTSTART:20290325T010000
END:DAYLIGHT
BEGIN:STANDARD
TZOFFSETFROM:+0300
TZOFFSETTO:+0200
TZNAME:EET
DTSTART:20291028T010000
END:STANDARD
BEGIN:DAYLIGHT
TZOFFSETFROM:+0200
TZOFFSETTO:+0300
TZNAME:EEST
DTSTART:20300331T010000
END:DAYLIGHT
BEGIN:STANDARD
TZOFFSETFROM:+0300
TZOFFSETTO:+0200
TZNAME:EET
DTSTART:20301027T010000
END:STANDARD
END:VTIMEZONE
BEGIN:VEVENT
DTSTART;TZID=Europe/Helsinki:20290103T100000
DTEND;TZID=Europe/Helsinki:20290103T103000
DTSTAMP:20260424T003756
CREATED:20260112T105633Z
LAST-MODIFIED:20260303T072458Z
UID:10029165-1862128800-1862130600@kalenteri.niemikoti.fi
SUMMARY:Aamukokous Malmilla
DESCRIPTION:Kokoonnutaan yhteen vaihtamaan kuulumisia ja keskustellaan päivän ohjelmasta.
URL:https://kalenteri.niemikoti.fi/en/tapahtuma/aamukokous-malmilla/2029-01-03/
LOCATION:Malmin päivätoimintakeskus\, Vanha Helsingintie 9\, Helsinki\, 00700\, Finland
CATEGORIES:Malmin päivätoimintakeskus
END:VEVENT
BEGIN:VEVENT
DTSTART;TZID=Europe/Helsinki:20290103T103000
DTEND;TZID=Europe/Helsinki:20290103T110000
DTSTAMP:20260424T003756
CREATED:20260112T111935Z
LAST-MODIFIED:20260410T061604Z
UID:10026437-1862130600-1862132400@kalenteri.niemikoti.fi
SUMMARY:Talon töitä Malmilla
DESCRIPTION:Pidetään yhdessä huolta yhteisistä tiloista ja tiluksista. Osallistua voi omien voimavarojen mukaan.
URL:https://kalenteri.niemikoti.fi/en/tapahtuma/talon-toita-7/2029-01-03/
LOCATION:Malmin päivätoimintakeskus\, Vanha Helsingintie 9\, Helsinki\, 00700\, Finland
CATEGORIES:Malmin päivätoimintakeskus
END:VEVENT
BEGIN:VEVENT
DTSTART;TZID=Europe/Helsinki:20290103T120000
DTEND;TZID=Europe/Helsinki:20290103T130000
DTSTAMP:20260424T003756
CREATED:20260302T135525Z
LAST-MODIFIED:20260303T072113Z
UID:10035604-1862136000-1862139600@kalenteri.niemikoti.fi
SUMMARY:Yhteisön lounas Malmilla
DESCRIPTION:Lounas ja lounaskahvit. Ruokalista vaihtelee kuukausittain ja on nähtävillä Malmin päivätoimintakeskuksessa. Hinta 3\,5 euroa.
URL:https://kalenteri.niemikoti.fi/en/tapahtuma/yhteison-lounas-malmilla/2029-01-03/
LOCATION:Malmin päivätoimintakeskus\, Vanha Helsingintie 9\, Helsinki\, 00700\, Finland
CATEGORIES:Malmin päivätoimintakeskus
END:VEVENT
BEGIN:VEVENT
DTSTART;TZID=Europe/Helsinki:20290103T130000
DTEND;TZID=Europe/Helsinki:20290103T143000
DTSTAMP:20260424T003756
CREATED:20260112T131042Z
LAST-MODIFIED:20260303T072919Z
UID:10030036-1862139600-1862145000@kalenteri.niemikoti.fi
SUMMARY:Väriä elämään Malmilla
DESCRIPTION:Visuaalista taidetta vaihtuvin teemoin ja tekniikoin. Enintään 8 osallistujaa kerralla. Ilmoittaudu mukaan!
URL:https://kalenteri.niemikoti.fi/en/tapahtuma/varia-elamaan-malmilla/2029-01-03/
LOCATION:Malmin päivätoimintakeskus\, Vanha Helsingintie 9\, Helsinki\, 00700\, Finland
CATEGORIES:Malmin päivätoimintakeskus
END:VEVENT
BEGIN:VEVENT
DTSTART;TZID=Europe/Helsinki:20290104T120000
DTEND;TZID=Europe/Helsinki:20290104T133000
DTSTAMP:20260424T003756
CREATED:20260126T125733Z
LAST-MODIFIED:20260126T125733Z
UID:10032597-1862222400-1862227800@kalenteri.niemikoti.fi
SUMMARY:Malmin bändi
DESCRIPTION:Vakiintunut kokoonpano\, voit kysyä lisää tietoa ohjaajilta. Ei ryhmää 26.2.
URL:https://kalenteri.niemikoti.fi/en/tapahtuma/malmin-bandi-2/2029-01-04/
LOCATION:Malmin päivätoimintakeskus\, Vanha Helsingintie 9\, Helsinki\, 00700\, Finland
CATEGORIES:Malmin päivätoimintakeskus
END:VEVENT
BEGIN:VEVENT
DTSTART;TZID=Europe/Helsinki:20290104T140000
DTEND;TZID=Europe/Helsinki:20290104T153000
DTSTAMP:20260424T003756
CREATED:20260126T130916Z
LAST-MODIFIED:20260126T130916Z
UID:10033115-1862229600-1862235000@kalenteri.niemikoti.fi
SUMMARY:Jamibändi Malmilla
DESCRIPTION:Kaikille avoin\, ei ilmoittautumista. \nVapaata bändisoittoa. Bänditilassa rummut\, kitara\, basso ja koskettimet. \nHuom! Ei ryhmää 26.2.
URL:https://kalenteri.niemikoti.fi/en/tapahtuma/jamibandi-malmilla-2/2029-01-04/
LOCATION:Malmin päivätoimintakeskus\, Vanha Helsingintie 9\, Helsinki\, 00700\, Finland
CATEGORIES:Malmin päivätoimintakeskus
END:VEVENT
BEGIN:VEVENT
DTSTART;TZID=Europe/Helsinki:20290104T153000
DTEND;TZID=Europe/Helsinki:20290104T170000
DTSTAMP:20260424T003756
CREATED:20260112T135251Z
LAST-MODIFIED:20260303T072957Z
UID:10030863-1862235000-1862240400@kalenteri.niemikoti.fi
SUMMARY:Rhythm Machine Malmilla
DESCRIPTION:Bändi harjoittelee oman ohjaajan kanssa.
URL:https://kalenteri.niemikoti.fi/en/tapahtuma/rhythm-machine-malmilla/2029-01-04/
LOCATION:Malmin päivätoimintakeskus\, Vanha Helsingintie 9\, Helsinki\, 00700\, Finland
CATEGORIES:Malmin päivätoimintakeskus
END:VEVENT
BEGIN:VEVENT
DTSTART;TZID=Europe/Helsinki:20290105T090000
DTEND;TZID=Europe/Helsinki:20290105T100000
DTSTAMP:20260424T003756
CREATED:20260302T134800Z
LAST-MODIFIED:20260302T134800Z
UID:10034561-1862298000-1862301600@kalenteri.niemikoti.fi
SUMMARY:Yhteisön aamiainen Malmilla
DESCRIPTION:Aamiaisella puuroa\, muroja tai jogurttia vaihtelevasti sekä leipää päällisineen. Juomaksi tuoremehua sekä kahvia tai teetä. Hinta 1\,5 e.
URL:https://kalenteri.niemikoti.fi/en/tapahtuma/yhteison-aamiainen-malmilla/2029-01-05/
LOCATION:Malmin päivätoimintakeskus\, Vanha Helsingintie 9\, Helsinki\, 00700\, Finland
CATEGORIES:Malmin päivätoimintakeskus
END:VEVENT
BEGIN:VEVENT
DTSTART;TZID=Europe/Helsinki:20290105T110000
DTEND;TZID=Europe/Helsinki:20290105T120000
DTSTAMP:20260424T003756
CREATED:20260303T072331Z
LAST-MODIFIED:20260303T072331Z
UID:10036763-1862305200-1862308800@kalenteri.niemikoti.fi
SUMMARY:Yhteisön lounas Malmilla
DESCRIPTION:Lounas ja lounaskahvit. Ruokalista vaihtelee kuukausittain ja on nähtävillä Malmin päivätoimintakeskuksessa. Hinta 3\,5 euroa.
URL:https://kalenteri.niemikoti.fi/en/tapahtuma/yhteison-lounas-malmilla-2/2029-01-05/
LOCATION:Malmin päivätoimintakeskus\, Vanha Helsingintie 9\, Helsinki\, 00700\, Finland
CATEGORIES:Malmin päivätoimintakeskus
END:VEVENT
BEGIN:VEVENT
DTSTART;TZID=Europe/Helsinki:20290105T120000
DTEND;TZID=Europe/Helsinki:20290105T130000
DTSTAMP:20260424T003756
CREATED:20260112T134429Z
LAST-MODIFIED:20260303T073209Z
UID:10036501-1862308800-1862312400@kalenteri.niemikoti.fi
SUMMARY:Soittoryhmä Malmilla
DESCRIPTION:Tutustaan yhdessä pianon\, ukulelen ja kitaran soiton alkeisiin. Ryhmään mahtuu enintään 6 osallistujaa kerralla. Täydentyvä ryhmä\, ilmoittaudu mukaan!
URL:https://kalenteri.niemikoti.fi/en/tapahtuma/soittoryhma-malmilla/2029-01-05/
LOCATION:Malmin päivätoimintakeskus\, Vanha Helsingintie 9\, Helsinki\, 00700\, Finland
CATEGORIES:Malmin päivätoimintakeskus
END:VEVENT
BEGIN:VEVENT
DTSTART;TZID=Europe/Helsinki:20290108T090000
DTEND;TZID=Europe/Helsinki:20290108T100000
DTSTAMP:20260424T003756
CREATED:20260302T134800Z
LAST-MODIFIED:20260302T134800Z
UID:10034562-1862557200-1862560800@kalenteri.niemikoti.fi
SUMMARY:Yhteisön aamiainen Malmilla
DESCRIPTION:Aamiaisella puuroa\, muroja tai jogurttia vaihtelevasti sekä leipää päällisineen. Juomaksi tuoremehua sekä kahvia tai teetä. Hinta 1\,5 e.
URL:https://kalenteri.niemikoti.fi/en/tapahtuma/yhteison-aamiainen-malmilla/2029-01-08/
LOCATION:Malmin päivätoimintakeskus\, Vanha Helsingintie 9\, Helsinki\, 00700\, Finland
CATEGORIES:Malmin päivätoimintakeskus
END:VEVENT
BEGIN:VEVENT
DTSTART;TZID=Europe/Helsinki:20290108T100000
DTEND;TZID=Europe/Helsinki:20290108T103000
DTSTAMP:20260424T003756
CREATED:20260112T105633Z
LAST-MODIFIED:20260303T072458Z
UID:10026229-1862560800-1862562600@kalenteri.niemikoti.fi
SUMMARY:Aamukokous Malmilla
DESCRIPTION:Kokoonnutaan yhteen vaihtamaan kuulumisia ja keskustellaan päivän ohjelmasta.
URL:https://kalenteri.niemikoti.fi/en/tapahtuma/aamukokous-malmilla/2029-01-08/
LOCATION:Malmin päivätoimintakeskus\, Vanha Helsingintie 9\, Helsinki\, 00700\, Finland
CATEGORIES:Malmin päivätoimintakeskus
END:VEVENT
BEGIN:VEVENT
DTSTART;TZID=Europe/Helsinki:20290108T103000
DTEND;TZID=Europe/Helsinki:20290108T110000
DTSTAMP:20260424T003756
CREATED:20260112T111935Z
LAST-MODIFIED:20260410T061604Z
UID:10031437-1862562600-1862564400@kalenteri.niemikoti.fi
SUMMARY:Talon töitä Malmilla
DESCRIPTION:Pidetään yhdessä huolta yhteisistä tiloista ja tiluksista. Osallistua voi omien voimavarojen mukaan.
URL:https://kalenteri.niemikoti.fi/en/tapahtuma/talon-toita-7/2029-01-08/
LOCATION:Malmin päivätoimintakeskus\, Vanha Helsingintie 9\, Helsinki\, 00700\, Finland
CATEGORIES:Malmin päivätoimintakeskus
END:VEVENT
BEGIN:VEVENT
DTSTART;TZID=Europe/Helsinki:20290108T120000
DTEND;TZID=Europe/Helsinki:20290108T130000
DTSTAMP:20260424T003756
CREATED:20260302T135525Z
LAST-MODIFIED:20260303T072113Z
UID:10035606-1862568000-1862571600@kalenteri.niemikoti.fi
SUMMARY:Yhteisön lounas Malmilla
DESCRIPTION:Lounas ja lounaskahvit. Ruokalista vaihtelee kuukausittain ja on nähtävillä Malmin päivätoimintakeskuksessa. Hinta 3\,5 euroa.
URL:https://kalenteri.niemikoti.fi/en/tapahtuma/yhteison-lounas-malmilla/2029-01-08/
LOCATION:Malmin päivätoimintakeskus\, Vanha Helsingintie 9\, Helsinki\, 00700\, Finland
CATEGORIES:Malmin päivätoimintakeskus
END:VEVENT
BEGIN:VEVENT
DTSTART;TZID=Europe/Helsinki:20290109T090000
DTEND;TZID=Europe/Helsinki:20290109T100000
DTSTAMP:20260424T003756
CREATED:20260302T134800Z
LAST-MODIFIED:20260302T134800Z
UID:10034563-1862643600-1862647200@kalenteri.niemikoti.fi
SUMMARY:Yhteisön aamiainen Malmilla
DESCRIPTION:Aamiaisella puuroa\, muroja tai jogurttia vaihtelevasti sekä leipää päällisineen. Juomaksi tuoremehua sekä kahvia tai teetä. Hinta 1\,5 e.
URL:https://kalenteri.niemikoti.fi/en/tapahtuma/yhteison-aamiainen-malmilla/2029-01-09/
LOCATION:Malmin päivätoimintakeskus\, Vanha Helsingintie 9\, Helsinki\, 00700\, Finland
CATEGORIES:Malmin päivätoimintakeskus
END:VEVENT
BEGIN:VEVENT
DTSTART;TZID=Europe/Helsinki:20290109T100000
DTEND;TZID=Europe/Helsinki:20290109T103000
DTSTAMP:20260424T003756
CREATED:20260112T105633Z
LAST-MODIFIED:20260303T072458Z
UID:10026230-1862647200-1862649000@kalenteri.niemikoti.fi
SUMMARY:Aamukokous Malmilla
DESCRIPTION:Kokoonnutaan yhteen vaihtamaan kuulumisia ja keskustellaan päivän ohjelmasta.
URL:https://kalenteri.niemikoti.fi/en/tapahtuma/aamukokous-malmilla/2029-01-09/
LOCATION:Malmin päivätoimintakeskus\, Vanha Helsingintie 9\, Helsinki\, 00700\, Finland
CATEGORIES:Malmin päivätoimintakeskus
END:VEVENT
BEGIN:VEVENT
DTSTART;TZID=Europe/Helsinki:20290109T103000
DTEND;TZID=Europe/Helsinki:20290109T110000
DTSTAMP:20260424T003756
CREATED:20260112T111935Z
LAST-MODIFIED:20260410T061604Z
UID:10031438-1862649000-1862650800@kalenteri.niemikoti.fi
SUMMARY:Talon töitä Malmilla
DESCRIPTION:Pidetään yhdessä huolta yhteisistä tiloista ja tiluksista. Osallistua voi omien voimavarojen mukaan.
URL:https://kalenteri.niemikoti.fi/en/tapahtuma/talon-toita-7/2029-01-09/
LOCATION:Malmin päivätoimintakeskus\, Vanha Helsingintie 9\, Helsinki\, 00700\, Finland
CATEGORIES:Malmin päivätoimintakeskus
END:VEVENT
BEGIN:VEVENT
DTSTART;TZID=Europe/Helsinki:20290109T110000
DTEND;TZID=Europe/Helsinki:20290109T120000
DTSTAMP:20260424T003756
CREATED:20260126T114459Z
LAST-MODIFIED:20260126T114459Z
UID:10032280-1862650800-1862654400@kalenteri.niemikoti.fi
SUMMARY:Luonto & liikunta -kävelyryhmä Malmilla
DESCRIPTION:Uusille tilaa\, ilmoittaudu mukaan! Kaksi ryhmää tarpeen mukaan\, tehdään sekä pidempi että lyhyempi kävelylenkki.
URL:https://kalenteri.niemikoti.fi/en/tapahtuma/luonto-liikunta-kavelyryhma-malmilla-3/2029-01-09/
LOCATION:Malmin päivätoimintakeskus\, Vanha Helsingintie 9\, Helsinki\, 00700\, Finland
CATEGORIES:Malmin päivätoimintakeskus
END:VEVENT
BEGIN:VEVENT
DTSTART;TZID=Europe/Helsinki:20290109T120000
DTEND;TZID=Europe/Helsinki:20290109T130000
DTSTAMP:20260424T003756
CREATED:20260302T135525Z
LAST-MODIFIED:20260303T072113Z
UID:10035607-1862654400-1862658000@kalenteri.niemikoti.fi
SUMMARY:Yhteisön lounas Malmilla
DESCRIPTION:Lounas ja lounaskahvit. Ruokalista vaihtelee kuukausittain ja on nähtävillä Malmin päivätoimintakeskuksessa. Hinta 3\,5 euroa.
URL:https://kalenteri.niemikoti.fi/en/tapahtuma/yhteison-lounas-malmilla/2029-01-09/
LOCATION:Malmin päivätoimintakeskus\, Vanha Helsingintie 9\, Helsinki\, 00700\, Finland
CATEGORIES:Malmin päivätoimintakeskus
END:VEVENT
BEGIN:VEVENT
DTSTART;TZID=Europe/Helsinki:20290109T130000
DTEND;TZID=Europe/Helsinki:20290109T143000
DTSTAMP:20260424T003756
CREATED:20260112T114328Z
LAST-MODIFIED:20260303T072740Z
UID:10027188-1862658000-1862663400@kalenteri.niemikoti.fi
SUMMARY:DJ-paja Malmilla
DESCRIPTION:Niemikotisäätiöläisille avoin yhteisoppimiseen perustuva DJ-paja. Omaa musiikkia saa tuoda mukaan muistitikuilla. Enintään 6 osallistujaa/kerta. Ilmoittaudu mukaan! \nHuom! Ei ryhmää 3.2.
URL:https://kalenteri.niemikoti.fi/en/tapahtuma/dj-paja-malmilla/2029-01-09/
LOCATION:Malmin päivätoimintakeskus\, Vanha Helsingintie 9\, Helsinki\, 00700\, Finland
CATEGORIES:Malmin päivätoimintakeskus
END:VEVENT
BEGIN:VEVENT
DTSTART;TZID=Europe/Helsinki:20290109T130000
DTEND;TZID=Europe/Helsinki:20290109T153000
DTSTAMP:20260424T003756
CREATED:20260112T134809Z
LAST-MODIFIED:20260410T070218Z
UID:10037233-1862658000-1862667000@kalenteri.niemikoti.fi
SUMMARY:JV:n bändi Malmilla
DESCRIPTION:Bändi harjoittelee oman ohjaajan kanssa.
URL:https://kalenteri.niemikoti.fi/en/tapahtuma/jvn-bandi-malmilla/2029-01-09/
LOCATION:Malmin päivätoimintakeskus\, Vanha Helsingintie 9\, Helsinki\, 00700\, Finland
CATEGORIES:Malmin päivätoimintakeskus
END:VEVENT
BEGIN:VEVENT
DTSTART;TZID=Europe/Helsinki:20290110T090000
DTEND;TZID=Europe/Helsinki:20290110T100000
DTSTAMP:20260424T003756
CREATED:20260302T134800Z
LAST-MODIFIED:20260302T134800Z
UID:10034564-1862730000-1862733600@kalenteri.niemikoti.fi
SUMMARY:Yhteisön aamiainen Malmilla
DESCRIPTION:Aamiaisella puuroa\, muroja tai jogurttia vaihtelevasti sekä leipää päällisineen. Juomaksi tuoremehua sekä kahvia tai teetä. Hinta 1\,5 e.
URL:https://kalenteri.niemikoti.fi/en/tapahtuma/yhteison-aamiainen-malmilla/2029-01-10/
LOCATION:Malmin päivätoimintakeskus\, Vanha Helsingintie 9\, Helsinki\, 00700\, Finland
CATEGORIES:Malmin päivätoimintakeskus
END:VEVENT
BEGIN:VEVENT
DTSTART;TZID=Europe/Helsinki:20290110T100000
DTEND;TZID=Europe/Helsinki:20290110T103000
DTSTAMP:20260424T003756
CREATED:20260112T105633Z
LAST-MODIFIED:20260303T072458Z
UID:10026231-1862733600-1862735400@kalenteri.niemikoti.fi
SUMMARY:Aamukokous Malmilla
DESCRIPTION:Kokoonnutaan yhteen vaihtamaan kuulumisia ja keskustellaan päivän ohjelmasta.
URL:https://kalenteri.niemikoti.fi/en/tapahtuma/aamukokous-malmilla/2029-01-10/
LOCATION:Malmin päivätoimintakeskus\, Vanha Helsingintie 9\, Helsinki\, 00700\, Finland
CATEGORIES:Malmin päivätoimintakeskus
END:VEVENT
BEGIN:VEVENT
DTSTART;TZID=Europe/Helsinki:20290110T103000
DTEND;TZID=Europe/Helsinki:20290110T110000
DTSTAMP:20260424T003756
CREATED:20260112T111935Z
LAST-MODIFIED:20260410T061604Z
UID:10031439-1862735400-1862737200@kalenteri.niemikoti.fi
SUMMARY:Talon töitä Malmilla
DESCRIPTION:Pidetään yhdessä huolta yhteisistä tiloista ja tiluksista. Osallistua voi omien voimavarojen mukaan.
URL:https://kalenteri.niemikoti.fi/en/tapahtuma/talon-toita-7/2029-01-10/
LOCATION:Malmin päivätoimintakeskus\, Vanha Helsingintie 9\, Helsinki\, 00700\, Finland
CATEGORIES:Malmin päivätoimintakeskus
END:VEVENT
BEGIN:VEVENT
DTSTART;TZID=Europe/Helsinki:20290110T120000
DTEND;TZID=Europe/Helsinki:20290110T130000
DTSTAMP:20260424T003756
CREATED:20260302T135525Z
LAST-MODIFIED:20260303T072113Z
UID:10035608-1862740800-1862744400@kalenteri.niemikoti.fi
SUMMARY:Yhteisön lounas Malmilla
DESCRIPTION:Lounas ja lounaskahvit. Ruokalista vaihtelee kuukausittain ja on nähtävillä Malmin päivätoimintakeskuksessa. Hinta 3\,5 euroa.
URL:https://kalenteri.niemikoti.fi/en/tapahtuma/yhteison-lounas-malmilla/2029-01-10/
LOCATION:Malmin päivätoimintakeskus\, Vanha Helsingintie 9\, Helsinki\, 00700\, Finland
CATEGORIES:Malmin päivätoimintakeskus
END:VEVENT
BEGIN:VEVENT
DTSTART;TZID=Europe/Helsinki:20290110T130000
DTEND;TZID=Europe/Helsinki:20290110T143000
DTSTAMP:20260424T003756
CREATED:20260112T131042Z
LAST-MODIFIED:20260303T072919Z
UID:10027641-1862744400-1862749800@kalenteri.niemikoti.fi
SUMMARY:Väriä elämään Malmilla
DESCRIPTION:Visuaalista taidetta vaihtuvin teemoin ja tekniikoin. Enintään 8 osallistujaa kerralla. Ilmoittaudu mukaan!
URL:https://kalenteri.niemikoti.fi/en/tapahtuma/varia-elamaan-malmilla/2029-01-10/
LOCATION:Malmin päivätoimintakeskus\, Vanha Helsingintie 9\, Helsinki\, 00700\, Finland
CATEGORIES:Malmin päivätoimintakeskus
END:VEVENT
BEGIN:VEVENT
DTSTART;TZID=Europe/Helsinki:20290111T120000
DTEND;TZID=Europe/Helsinki:20290111T133000
DTSTAMP:20260424T003756
CREATED:20260126T125733Z
LAST-MODIFIED:20260126T125733Z
UID:10032598-1862827200-1862832600@kalenteri.niemikoti.fi
SUMMARY:Malmin bändi
DESCRIPTION:Vakiintunut kokoonpano\, voit kysyä lisää tietoa ohjaajilta. Ei ryhmää 26.2.
URL:https://kalenteri.niemikoti.fi/en/tapahtuma/malmin-bandi-2/2029-01-11/
LOCATION:Malmin päivätoimintakeskus\, Vanha Helsingintie 9\, Helsinki\, 00700\, Finland
CATEGORIES:Malmin päivätoimintakeskus
END:VEVENT
BEGIN:VEVENT
DTSTART;TZID=Europe/Helsinki:20290111T140000
DTEND;TZID=Europe/Helsinki:20290111T153000
DTSTAMP:20260424T003756
CREATED:20260126T130916Z
LAST-MODIFIED:20260126T130916Z
UID:10033116-1862834400-1862839800@kalenteri.niemikoti.fi
SUMMARY:Jamibändi Malmilla
DESCRIPTION:Kaikille avoin\, ei ilmoittautumista. \nVapaata bändisoittoa. Bänditilassa rummut\, kitara\, basso ja koskettimet. \nHuom! Ei ryhmää 26.2.
URL:https://kalenteri.niemikoti.fi/en/tapahtuma/jamibandi-malmilla-2/2029-01-11/
LOCATION:Malmin päivätoimintakeskus\, Vanha Helsingintie 9\, Helsinki\, 00700\, Finland
CATEGORIES:Malmin päivätoimintakeskus
END:VEVENT
BEGIN:VEVENT
DTSTART;TZID=Europe/Helsinki:20290111T153000
DTEND;TZID=Europe/Helsinki:20290111T170000
DTSTAMP:20260424T003756
CREATED:20260112T135251Z
LAST-MODIFIED:20260303T072957Z
UID:10030864-1862839800-1862845200@kalenteri.niemikoti.fi
SUMMARY:Rhythm Machine Malmilla
DESCRIPTION:Bändi harjoittelee oman ohjaajan kanssa.
URL:https://kalenteri.niemikoti.fi/en/tapahtuma/rhythm-machine-malmilla/2029-01-11/
LOCATION:Malmin päivätoimintakeskus\, Vanha Helsingintie 9\, Helsinki\, 00700\, Finland
CATEGORIES:Malmin päivätoimintakeskus
END:VEVENT
BEGIN:VEVENT
DTSTART;TZID=Europe/Helsinki:20290112T090000
DTEND;TZID=Europe/Helsinki:20290112T100000
DTSTAMP:20260424T003756
CREATED:20260302T134800Z
LAST-MODIFIED:20260302T134800Z
UID:10034565-1862902800-1862906400@kalenteri.niemikoti.fi
SUMMARY:Yhteisön aamiainen Malmilla
DESCRIPTION:Aamiaisella puuroa\, muroja tai jogurttia vaihtelevasti sekä leipää päällisineen. Juomaksi tuoremehua sekä kahvia tai teetä. Hinta 1\,5 e.
URL:https://kalenteri.niemikoti.fi/en/tapahtuma/yhteison-aamiainen-malmilla/2029-01-12/
LOCATION:Malmin päivätoimintakeskus\, Vanha Helsingintie 9\, Helsinki\, 00700\, Finland
CATEGORIES:Malmin päivätoimintakeskus
END:VEVENT
END:VCALENDAR