BEGIN:VCALENDAR
VERSION:2.0
PRODID:-//Tapahtumakalenteri - ECPv6.15.18//NONSGML v1.0//EN
CALSCALE:GREGORIAN
METHOD:PUBLISH
X-WR-CALNAME:Tapahtumakalenteri
X-ORIGINAL-URL:https://kalenteri.niemikoti.fi/en/
X-WR-CALDESC:Events for Tapahtumakalenteri
REFRESH-INTERVAL;VALUE=DURATION:PT1H
X-Robots-Tag:noindex
X-PUBLISHED-TTL:PT1H
BEGIN:VTIMEZONE
TZID:Europe/Helsinki
BEGIN:DAYLIGHT
TZOFFSETFROM:+0200
TZOFFSETTO:+0300
TZNAME:EEST
DTSTART:20220327T010000
END:DAYLIGHT
BEGIN:STANDARD
TZOFFSETFROM:+0300
TZOFFSETTO:+0200
TZNAME:EET
DTSTART:20221030T010000
END:STANDARD
BEGIN:DAYLIGHT
TZOFFSETFROM:+0200
TZOFFSETTO:+0300
TZNAME:EEST
DTSTART:20230326T010000
END:DAYLIGHT
BEGIN:STANDARD
TZOFFSETFROM:+0300
TZOFFSETTO:+0200
TZNAME:EET
DTSTART:20231029T010000
END:STANDARD
BEGIN:DAYLIGHT
TZOFFSETFROM:+0200
TZOFFSETTO:+0300
TZNAME:EEST
DTSTART:20240331T010000
END:DAYLIGHT
BEGIN:STANDARD
TZOFFSETFROM:+0300
TZOFFSETTO:+0200
TZNAME:EET
DTSTART:20241027T010000
END:STANDARD
END:VTIMEZONE
BEGIN:VEVENT
DTSTART;TZID=Europe/Helsinki:20230605T120000
DTEND;TZID=Europe/Helsinki:20230605T123000
DTSTAMP:20260423T175625
CREATED:20230531T112750Z
LAST-MODIFIED:20250321T104552Z
UID:10000740-1685966400-1685968200@kalenteri.niemikoti.fi
SUMMARY:Yhteisöpäivän lounas
DESCRIPTION:Lounas yhteisöpäivään osallistuville\, maksullinen.
URL:https://kalenteri.niemikoti.fi/en/tapahtuma/yhteisopaivan-lounas/2023-06-05/
LOCATION:Toimintakeskus Villa Borgis\, Linnavuorentie 13\, Helsinki\, 00950\, Finland
CATEGORIES:Toimintakeskus Villa Borgis
END:VEVENT
BEGIN:VEVENT
DTSTART;TZID=Europe/Helsinki:20230605T120000
DTEND;TZID=Europe/Helsinki:20230605T150000
DTSTAMP:20260423T175625
CREATED:20230529T080133Z
LAST-MODIFIED:20230529T080504Z
UID:10000341-1685966400-1685977200@kalenteri.niemikoti.fi
SUMMARY:Ilonpilke-kesätapahtuma 2023
DESCRIPTION:Mitä luvassa?\n\nToista kertaa järjestettävä rento ja iloinen tapahtuma\nMaksutonta ja hauskaa tekemistä ja yhdessä oloa\nKaikille sopivia erilaisia toimintapisteitä\nMielenterveysjärjestöihin tutustumista\nKahvia\, teetä\, mehua ja pullaa (70:lle ensimmäiselle)\nPorttiteatterin esitys\n\nTapahtumassa mukana\n\nMajakka\nKarvinen\nKlubitalot\nPro Lapinlahti\nLilinkotisäätiö\nNieikotisäätiö\nTaiteen Sulattamo\nKulttuuripaja K-35\nKulttuuripaja Kupla\nKaupungin liikuntapalvelut\n\nLisätiedot kokemusasiantuntija Laura Nuutinen\, puh. 040 768 3328\, laura92nuutinen@gmail.com \nLämpimästi tervetuloa yksin tai yhdessä! Ei tarvitse ilmoittautua!
URL:https://kalenteri.niemikoti.fi/en/tapahtuma/ilonpilke-kesatapahtuma-2023/
LOCATION:Lapinlahden lähde\, Lapinlahdenpolku 8\, Helsinki\, 00180\, Finland
CATEGORIES:Asumispalvelut,Haagan toimintatalo,Jälleenvuokraus,Kesäharjun toimintakeskus,Kokemusasiantuntija- ja vertaistoiminta,Kulttuuripaja ELVIS,Malmin päivätoimintakeskus,Mieli Töihin -valmennus,Omaisille ja läheisille,Ompelimo & Olohuone,Päivätoiminta,Toimintakeskus Villa Borgis,Työ- ja valmennustoiminta,Valtti Valmennus
ATTACH;FMTTYPE=image/png:https://kalenteri.niemikoti.fi/wp-content/uploads/2023/05/Screenshot-2023-05-29-at-10.56.25.png
END:VEVENT
BEGIN:VEVENT
DTSTART;TZID=Europe/Helsinki:20230605T130000
DTEND;TZID=Europe/Helsinki:20230605T150000
DTSTAMP:20260423T175625
CREATED:20230531T091641Z
LAST-MODIFIED:20230531T091641Z
UID:10000739-1685970000-1685977200@kalenteri.niemikoti.fi
SUMMARY:Retki Ilonpilke -tapahtumaan
DESCRIPTION:Retki Ilonpilke kesätapahtumaan. Yhteislähtö toimintakeskus Villa Borgiksesta n. klo 13.
URL:https://kalenteri.niemikoti.fi/en/tapahtuma/retki-ilonpilke-tapahtumaan/
LOCATION:Toimintakeskus Villa Borgis\, Linnavuorentie 13\, Helsinki\, 00950\, Finland
CATEGORIES:Toimintakeskus Villa Borgis
END:VEVENT
BEGIN:VEVENT
DTSTART;TZID=Europe/Helsinki:20230605T140000
DTEND;TZID=Europe/Helsinki:20230605T160000
DTSTAMP:20260423T175625
CREATED:20230601T125859Z
LAST-MODIFIED:20230607T095032Z
UID:10001141-1685973600-1685980800@kalenteri.niemikoti.fi
SUMMARY:Kesähygge Teurastamolla
DESCRIPTION:Rentoa ja vapaata yhdessä hengailua Teurastamolla. Huonolla säällä ollaan Kulttuuripaja ELVIKSESSÄ.
URL:https://kalenteri.niemikoti.fi/en/tapahtuma/kesahygge-teurastamolla/2023-06-05/
LOCATION:Teurastamo\, Työpajankatu 2\, Helsinki\, 00580\, Finland
CATEGORIES:Kulttuuripaja ELVIS
END:VEVENT
BEGIN:VEVENT
DTSTART;TZID=Europe/Helsinki:20230605T163000
DTEND;TZID=Europe/Helsinki:20230605T180000
DTSTAMP:20260423T175625
CREATED:20230601T111454Z
LAST-MODIFIED:20230607T095108Z
UID:10001135-1685982600-1685988000@kalenteri.niemikoti.fi
SUMMARY:Jamibändi ELVIKSESSÄ
DESCRIPTION:Tervetuloa soittamaan\, laulamaan tai kuuntelemaan musiikkia!
URL:https://kalenteri.niemikoti.fi/en/tapahtuma/jamibandi-elviksessa/2023-06-05/
LOCATION:Kulttuuripaja ELVIS\, Lautatarhankatu 4\, Helsinki\, 00580\, Finland
CATEGORIES:Kulttuuripaja ELVIS
END:VEVENT
BEGIN:VEVENT
DTSTART;TZID=Europe/Helsinki:20230606T090000
DTEND;TZID=Europe/Helsinki:20230606T094500
DTSTAMP:20260423T175625
CREATED:20230531T083840Z
LAST-MODIFIED:20240205T125147Z
UID:10000520-1686042000-1686044700@kalenteri.niemikoti.fi
SUMMARY:Yhteisöpäivän aamiainen
DESCRIPTION:Aamupala yhteisöpäivään osallistuville (maksullinen).
URL:https://kalenteri.niemikoti.fi/en/tapahtuma/yhteisopaivan-aamiainen-2/2023-06-06/
LOCATION:Toimintakeskus Villa Borgis\, Linnavuorentie 13\, Helsinki\, 00950\, Finland
CATEGORIES:Toimintakeskus Villa Borgis
END:VEVENT
BEGIN:VEVENT
DTSTART;TZID=Europe/Helsinki:20230606T090000
DTEND;TZID=Europe/Helsinki:20230606T150000
DTSTAMP:20260423T175625
CREATED:20230531T125715Z
LAST-MODIFIED:20230811T074137Z
UID:10000862-1686042000-1686063600@kalenteri.niemikoti.fi
SUMMARY:Yhteisöpäivä klo 9-15
DESCRIPTION:Yhteisöpäivä\, Villa Borgis auki klo 9-15\, täydentyvä ryhmä\, ilmoittaudu.
URL:https://kalenteri.niemikoti.fi/en/tapahtuma/yhteisopaiva-klo-9-15/2023-06-06/
LOCATION:Toimintakeskus Villa Borgis\, Linnavuorentie 13\, Helsinki\, 00950\, Finland
CATEGORIES:Toimintakeskus Villa Borgis
END:VEVENT
BEGIN:VEVENT
DTSTART;TZID=Europe/Helsinki:20230606T100000
DTEND;TZID=Europe/Helsinki:20230606T103000
DTSTAMP:20260423T175625
CREATED:20230531T081915Z
LAST-MODIFIED:20240205T125027Z
UID:10000354-1686045600-1686047400@kalenteri.niemikoti.fi
SUMMARY:Yhteisöpäivän aamukokous
DESCRIPTION:Yhteisöpäivän aamukokouksessa käydään läpi päivän ohjelmaa\, tapahtumia\, yhteisötehtäviä ja muita ajankohtaisia asioita.
URL:https://kalenteri.niemikoti.fi/en/tapahtuma/yhteisopaivan-aamukokous/2023-06-06/
LOCATION:Toimintakeskus Villa Borgis\, Linnavuorentie 13\, Helsinki\, 00950\, Finland
CATEGORIES:Toimintakeskus Villa Borgis
END:VEVENT
BEGIN:VEVENT
DTSTART;TZID=Europe/Helsinki:20230606T110000
DTEND;TZID=Europe/Helsinki:20230606T140000
DTSTAMP:20260423T175625
CREATED:20230601T061403Z
LAST-MODIFIED:20230601T061433Z
UID:10001126-1686049200-1686060000@kalenteri.niemikoti.fi
SUMMARY:Retki Malmin kesäjuhlille
DESCRIPTION:Yhteislähtö Villa Borgiksesta klo 11.15 tai voit tulla suoraan paikan päälle Malmin päivätoimintakeskukseen. Juhlat klo 12-14.
URL:https://kalenteri.niemikoti.fi/en/tapahtuma/retki-malmin-kesajuhlille/
LOCATION:Toimintakeskus Villa Borgis\, Linnavuorentie 13\, Helsinki\, 00950\, Finland
CATEGORIES:Toimintakeskus Villa Borgis
END:VEVENT
BEGIN:VEVENT
DTSTART;TZID=Europe/Helsinki:20230606T120000
DTEND;TZID=Europe/Helsinki:20230606T150000
DTSTAMP:20260423T175625
CREATED:20230528T033431Z
LAST-MODIFIED:20230606T043032Z
UID:10000335-1686052800-1686063600@kalenteri.niemikoti.fi
SUMMARY:Kesäjuhla Malmilla
DESCRIPTION:Perinteistä kesäjuhlaa vietetään Malmilla klo 12-14 ja juhlan jälkeen on mahdollisuus osallistua peltokierrokselle viereisellä Green City Farm -pellolla\, jossa peltoryhmät kokoontuvat kaupunkiviljelyn merkeissä torstaisin.
URL:https://kalenteri.niemikoti.fi/en/tapahtuma/kesajuhla/
LOCATION:Malmin päivätoimintakeskus\, Vanha Helsingintie 9\, Helsinki\, 00700\, Finland
CATEGORIES:Haagan toimintatalo,Jälleenvuokraus,Kokemusasiantuntija- ja vertaistoiminta,Kulttuuripaja ELVIS,Malmin päivätoimintakeskus,Mieli Töihin -valmennus,Omaisille ja läheisille,Ompelimo & Olohuone,Päivätoiminta,Toimintakeskus Villa Borgis,Työ- ja valmennustoiminta,Valtti Valmennus
ATTACH;FMTTYPE=image/png:https://kalenteri.niemikoti.fi/wp-content/uploads/2023/05/Kesajuhlaflaijeri.png
END:VEVENT
BEGIN:VEVENT
DTSTART;TZID=Europe/Helsinki:20230607T090000
DTEND;TZID=Europe/Helsinki:20230607T094500
DTSTAMP:20260423T175625
CREATED:20230531T083840Z
LAST-MODIFIED:20240205T125147Z
UID:10000521-1686128400-1686131100@kalenteri.niemikoti.fi
SUMMARY:Yhteisöpäivän aamiainen
DESCRIPTION:Aamupala yhteisöpäivään osallistuville (maksullinen).
URL:https://kalenteri.niemikoti.fi/en/tapahtuma/yhteisopaivan-aamiainen-2/2023-06-07/
LOCATION:Toimintakeskus Villa Borgis\, Linnavuorentie 13\, Helsinki\, 00950\, Finland
CATEGORIES:Toimintakeskus Villa Borgis
END:VEVENT
BEGIN:VEVENT
DTSTART;TZID=Europe/Helsinki:20230607T090000
DTEND;TZID=Europe/Helsinki:20230607T150000
DTSTAMP:20260423T175625
CREATED:20230531T125715Z
LAST-MODIFIED:20230811T074137Z
UID:10000863-1686128400-1686150000@kalenteri.niemikoti.fi
SUMMARY:Yhteisöpäivä klo 9-15
DESCRIPTION:Yhteisöpäivä\, Villa Borgis auki klo 9-15\, täydentyvä ryhmä\, ilmoittaudu.
URL:https://kalenteri.niemikoti.fi/en/tapahtuma/yhteisopaiva-klo-9-15/2023-06-07/
LOCATION:Toimintakeskus Villa Borgis\, Linnavuorentie 13\, Helsinki\, 00950\, Finland
CATEGORIES:Toimintakeskus Villa Borgis
END:VEVENT
BEGIN:VEVENT
DTSTART;TZID=Europe/Helsinki:20230607T100000
DTEND;TZID=Europe/Helsinki:20230607T103000
DTSTAMP:20260423T175625
CREATED:20230531T081915Z
LAST-MODIFIED:20240205T125027Z
UID:10000355-1686132000-1686133800@kalenteri.niemikoti.fi
SUMMARY:Yhteisöpäivän aamukokous
DESCRIPTION:Yhteisöpäivän aamukokouksessa käydään läpi päivän ohjelmaa\, tapahtumia\, yhteisötehtäviä ja muita ajankohtaisia asioita.
URL:https://kalenteri.niemikoti.fi/en/tapahtuma/yhteisopaivan-aamukokous/2023-06-07/
LOCATION:Toimintakeskus Villa Borgis\, Linnavuorentie 13\, Helsinki\, 00950\, Finland
CATEGORIES:Toimintakeskus Villa Borgis
END:VEVENT
BEGIN:VEVENT
DTSTART;TZID=Europe/Helsinki:20230607T100000
DTEND;TZID=Europe/Helsinki:20230607T110000
DTSTAMP:20260423T175625
CREATED:20230606T124234Z
LAST-MODIFIED:20230607T095154Z
UID:10001153-1686132000-1686135600@kalenteri.niemikoti.fi
SUMMARY:Avoin info Kulttuuripaja Elviksen toiminnasta kiinnostuneille
DESCRIPTION:Avoimessa infossa kerrotaan Kulttuuripaja ELVIKSEN  toiminnasta. Tervetuloa tutustumaan ELVIKSEEN!
URL:https://kalenteri.niemikoti.fi/en/tapahtuma/avoin-info-kulttuuripaja-elviksen-toiminnasta-kiinnostuneille/
LOCATION:Kulttuuripaja ELVIS\, Lautatarhankatu 4\, Helsinki\, 00580\, Finland
CATEGORIES:Kulttuuripaja ELVIS
END:VEVENT
BEGIN:VEVENT
DTSTART;TZID=Europe/Helsinki:20230607T103000
DTEND;TZID=Europe/Helsinki:20230607T113000
DTSTAMP:20260423T175625
CREATED:20230531T134609Z
LAST-MODIFIED:20230629T091353Z
UID:10001178-1686133800-1686137400@kalenteri.niemikoti.fi
SUMMARY:Sulkakynät -kirjoittajaryhmä
DESCRIPTION:Luovaa kirjoittamista eri tekniikoin\, ilmoittaudu.
URL:https://kalenteri.niemikoti.fi/en/tapahtuma/sulkakynat-kirjoittajaryhma/2023-06-07/
LOCATION:Toimintakeskus Villa Borgis\, Linnavuorentie 13\, Helsinki\, 00950\, Finland
CATEGORIES:Toimintakeskus Villa Borgis
END:VEVENT
BEGIN:VEVENT
DTSTART;TZID=Europe/Helsinki:20230607T110000
DTEND;TZID=Europe/Helsinki:20230607T130000
DTSTAMP:20260423T175625
CREATED:20230606T125016Z
LAST-MODIFIED:20230607T095222Z
UID:10001154-1686135600-1686142800@kalenteri.niemikoti.fi
SUMMARY:Pleikkapelien pelaamista Kulttuuripaja ELVIKSESSÄ
DESCRIPTION:Tervetuloa pelaamaan Pleikkapelejä ELVIKSEEN!
URL:https://kalenteri.niemikoti.fi/en/tapahtuma/pleikkapelien-pelaamista-kulttuuripaja-elviksessa/2023-06-07/
LOCATION:Kulttuuripaja ELVIS\, Lautatarhankatu 4\, Helsinki\, 00580\, Finland
CATEGORIES:Kulttuuripaja ELVIS
END:VEVENT
BEGIN:VEVENT
DTSTART;TZID=Europe/Helsinki:20230607T130000
DTEND;TZID=Europe/Helsinki:20230607T150000
DTSTAMP:20260423T175625
CREATED:20230531T135008Z
LAST-MODIFIED:20230822T123457Z
UID:10001099-1686142800-1686150000@kalenteri.niemikoti.fi
SUMMARY:Viherpeukalot
DESCRIPTION:Luontolähtöistä toimintaa sisällä ja ulkona. Mm. kasvien kasvatusta\, pihatöitä ja puutarhavierailuja.
URL:https://kalenteri.niemikoti.fi/en/tapahtuma/viherpeukalot/2023-06-07/
LOCATION:Toimintakeskus Villa Borgis\, Linnavuorentie 13\, Helsinki\, 00950\, Finland
CATEGORIES:Toimintakeskus Villa Borgis
END:VEVENT
BEGIN:VEVENT
DTSTART;TZID=Europe/Helsinki:20230607T130000
DTEND;TZID=Europe/Helsinki:20230607T150000
DTSTAMP:20260423T175625
CREATED:20230606T125943Z
LAST-MODIFIED:20230621T094120Z
UID:10001158-1686142800-1686150000@kalenteri.niemikoti.fi
SUMMARY:Kesäkässä & Kuvis Elviksessä
DESCRIPTION:Yhdistetty kädentaito – ja kuvisryhmä\, vaihtuvat teemat ja tekniikat.
URL:https://kalenteri.niemikoti.fi/en/tapahtuma/kesakassa-kuvis-teurastamolla/2023-06-07/
LOCATION:Teurastamo\, Työpajankatu 2\, Helsinki\, 00580\, Finland
CATEGORIES:Kulttuuripaja ELVIS
END:VEVENT
BEGIN:VEVENT
DTSTART;TZID=Europe/Helsinki:20230607T140000
DTEND;TZID=Europe/Helsinki:20230607T143000
DTSTAMP:20260423T175625
CREATED:20230607T051246Z
LAST-MODIFIED:20250107T131756Z
UID:10001185-1686146400-1686148200@kalenteri.niemikoti.fi
SUMMARY:Yhteisöpäivän päiväkahvit
DESCRIPTION:Päiväkahvit kuuluvat aamiaisen ja/tai lounaan hintaan\, muuten 1 €.
URL:https://kalenteri.niemikoti.fi/en/tapahtuma/yhteisopaivan-paivakahvit/2023-06-07/
LOCATION:Toimintakeskus Villa Borgis\, Linnavuorentie 13\, Helsinki\, 00950\, Finland
CATEGORIES:Toimintakeskus Villa Borgis
END:VEVENT
BEGIN:VEVENT
DTSTART;TZID=Europe/Helsinki:20230607T151500
DTEND;TZID=Europe/Helsinki:20230607T164500
DTSTAMP:20260423T175625
CREATED:20230607T111252Z
LAST-MODIFIED:20230607T111252Z
UID:10001335-1686150900-1686156300@kalenteri.niemikoti.fi
SUMMARY:Musavideoraati
DESCRIPTION:Kulttuuripaja ELVIKSESSÄ musavideoraati\, jossa katsellaan ja kuunnellaan monipuolisesti eri musiikkivideoita sekä keskustellaan niistä. Tervetuloa!
URL:https://kalenteri.niemikoti.fi/en/tapahtuma/musavideoraati/
LOCATION:Kulttuuripaja ELVIS\, Lautatarhankatu 4\, Helsinki\, 00580\, Finland
CATEGORIES:Kulttuuripaja ELVIS
END:VEVENT
BEGIN:VEVENT
DTSTART;TZID=Europe/Helsinki:20230608T093000
DTEND;TZID=Europe/Helsinki:20230608T103000
DTSTAMP:20260423T175625
CREATED:20230531T140008Z
LAST-MODIFIED:20230731T073750Z
UID:10001117-1686216600-1686220200@kalenteri.niemikoti.fi
SUMMARY:Kädentaitoja
DESCRIPTION:Kädentaitoryhmä. Vanhojen puutarhakalusteiden kunnostusta 1.6.-22.6.2023. Ilmoittaudu.
URL:https://kalenteri.niemikoti.fi/en/tapahtuma/kadentaitoja/2023-06-08/
LOCATION:Toimintakeskus Villa Borgis\, Linnavuorentie 13\, Helsinki\, 00950\, Finland
CATEGORIES:Toimintakeskus Villa Borgis
END:VEVENT
BEGIN:VEVENT
DTSTART;TZID=Europe/Helsinki:20230608T103000
DTEND;TZID=Europe/Helsinki:20230608T150000
DTSTAMP:20260423T175625
CREATED:20230607T051917Z
LAST-MODIFIED:20231110T073904Z
UID:10001547-1686220200-1686236400@kalenteri.niemikoti.fi
SUMMARY:Ryhmäpäivä
DESCRIPTION:Ryhmäpäivä\, talo auki klo 9-15. Ilmoittaudu mukaan yhteen tai useampaan ryhmään. Kahvia tarjolla hintaan 1 €/päivä. Omat eväät mukaan!
URL:https://kalenteri.niemikoti.fi/en/tapahtuma/ryhmapaiva/2023-06-08/
LOCATION:Toimintakeskus Villa Borgis\, Linnavuorentie 13\, Helsinki\, 00950\, Finland
CATEGORIES:Toimintakeskus Villa Borgis
END:VEVENT
BEGIN:VEVENT
DTSTART;TZID=Europe/Helsinki:20230608T110000
DTEND;TZID=Europe/Helsinki:20230608T113000
DTSTAMP:20260423T175625
CREATED:20230531T131125Z
LAST-MODIFIED:20230607T094850Z
UID:10001027-1686222000-1686223800@kalenteri.niemikoti.fi
SUMMARY:Ukulelet ELVIKSESSÄ
DESCRIPTION:Tervetuloa opettelemaan ukulelen sointuja ja helppojen biisien säestämistä! Ota oma ukulele mukaan\, jos omistat sellaisen. ELVIKSESSÄ on muutama kappale soittimia.
URL:https://kalenteri.niemikoti.fi/en/tapahtuma/ukulelet-elviksessa/2023-06-08/
LOCATION:Kulttuuripaja ELVIS\, Lautatarhankatu 4\, Helsinki\, 00580\, Finland
CATEGORIES:Kulttuuripaja ELVIS
ATTACH;FMTTYPE=image/jpeg:https://kalenteri.niemikoti.fi/wp-content/uploads/2023/05/ukulele.jpg
END:VEVENT
BEGIN:VEVENT
DTSTART;TZID=Europe/Helsinki:20230608T111500
DTEND;TZID=Europe/Helsinki:20230608T140000
DTSTAMP:20260423T175625
CREATED:20230531T135552Z
LAST-MODIFIED:20230808T115834Z
UID:10001113-1686222900-1686232800@kalenteri.niemikoti.fi
SUMMARY:Kaupunkiviljely Malmilla
DESCRIPTION:Green City Farmin pellolla Malmilla. Lähtö Villa Borgiksesta klo 11.15\, ryhmä klo 12-14.
URL:https://kalenteri.niemikoti.fi/en/tapahtuma/kaupunkiviljely-malmilla/2023-06-08/
LOCATION:Toimintakeskus Villa Borgis\, Linnavuorentie 13\, Helsinki\, 00950\, Finland
CATEGORIES:Toimintakeskus Villa Borgis
END:VEVENT
BEGIN:VEVENT
DTSTART;TZID=Europe/Helsinki:20230608T120000
DTEND;TZID=Europe/Helsinki:20230608T130000
DTSTAMP:20260423T175625
CREATED:20230531T140401Z
LAST-MODIFIED:20230912T084405Z
UID:10001122-1686225600-1686229200@kalenteri.niemikoti.fi
SUMMARY:Kävelyryhmä
DESCRIPTION:Ulkoilua\, sauvakävelyä ja roskakävelyä Villa Borgiksen lähiympäristössä\, ilmoittaudu.
URL:https://kalenteri.niemikoti.fi/en/tapahtuma/kavelyryhma/2023-06-08/
LOCATION:Toimintakeskus Villa Borgis\, Linnavuorentie 13\, Helsinki\, 00950\, Finland
CATEGORIES:Toimintakeskus Villa Borgis
END:VEVENT
BEGIN:VEVENT
DTSTART;TZID=Europe/Helsinki:20230608T120000
DTEND;TZID=Europe/Helsinki:20230608T140000
DTSTAMP:20260423T175625
CREATED:20230531T134447Z
LAST-MODIFIED:20230607T094934Z
UID:10001086-1686225600-1686232800@kalenteri.niemikoti.fi
SUMMARY:Pingistä&piknikkiä Teurastamolla (sateella ELVIKSESSÄ)
DESCRIPTION:Omat eväät mukaan\, Elvis tarjoaa kaffet/teet\, grillausmahdollisuus.
URL:https://kalenteri.niemikoti.fi/en/tapahtuma/pingistapiknikkia-teurastamolla-sateella-elviksessa/2023-06-08/
LOCATION:Teurastamo\, Työpajankatu 2\, Helsinki\, 00580\, Finland
CATEGORIES:Kulttuuripaja ELVIS
END:VEVENT
BEGIN:VEVENT
DTSTART;TZID=Europe/Helsinki:20230609T080000
DTEND;TZID=Europe/Helsinki:20230609T170000
DTSTAMP:20260423T175625
CREATED:20230531T124854Z
LAST-MODIFIED:20230531T124854Z
UID:10000860-1686297600-1686330000@kalenteri.niemikoti.fi
SUMMARY:Toimintakeskus Villa Borgis kiinni
DESCRIPTION:Talo kiinni ohjaajien koulutuspäivän vuoksi.
URL:https://kalenteri.niemikoti.fi/en/tapahtuma/toimintakeskus-villa-borgis-kiinni/
LOCATION:Toimintakeskus Villa Borgis\, Linnavuorentie 13\, Helsinki\, 00950\, Finland
CATEGORIES:Toimintakeskus Villa Borgis
END:VEVENT
BEGIN:VEVENT
DTSTART;TZID=Europe/Helsinki:20230609T103000
DTEND;TZID=Europe/Helsinki:20230609T111500
DTSTAMP:20260423T175625
CREATED:20230427T053444Z
LAST-MODIFIED:20230606T044728Z
UID:10000016-1686306600-1686309300@kalenteri.niemikoti.fi
SUMMARY:Ajan tasalla -ryhmä
DESCRIPTION:Ajankohtaista keskustelua\, tietovisailua\, musiikin kuuntelua ym. perjantaikävijöiden toiveiden mukaan Malmin päivätoimintakeskuksessa.
URL:https://kalenteri.niemikoti.fi/en/tapahtuma/ajan-tasalla-ryhma/2023-06-09/
LOCATION:Malmin päivätoimintakeskus\, Vanha Helsingintie 9\, Helsinki\, 00700\, Finland
CATEGORIES:Malmin päivätoimintakeskus,Päivätoiminta
END:VEVENT
BEGIN:VEVENT
DTSTART;TZID=Europe/Helsinki:20230609T123000
DTEND;TZID=Europe/Helsinki:20230609T141500
DTSTAMP:20260423T175625
CREATED:20230427T054406Z
LAST-MODIFIED:20230606T044918Z
UID:10000277-1686313800-1686320100@kalenteri.niemikoti.fi
SUMMARY:Uintiryhmä
DESCRIPTION:Omatoiminen liikuntaryhmä Malmin uimahallille. Kysy lisää ohjaajilta.
URL:https://kalenteri.niemikoti.fi/en/tapahtuma/uintiryhma/2023-06-09/
LOCATION:Malmin päivätoimintakeskus\, Vanha Helsingintie 9\, Helsinki\, 00700\, Finland
CATEGORIES:Malmin päivätoimintakeskus,Päivätoiminta
END:VEVENT
BEGIN:VEVENT
DTSTART;TZID=Europe/Helsinki:20230612T090000
DTEND;TZID=Europe/Helsinki:20230612T094500
DTSTAMP:20260423T175625
CREATED:20230531T083840Z
LAST-MODIFIED:20240205T125147Z
UID:10000522-1686560400-1686563100@kalenteri.niemikoti.fi
SUMMARY:Yhteisöpäivän aamiainen
DESCRIPTION:Aamupala yhteisöpäivään osallistuville (maksullinen).
URL:https://kalenteri.niemikoti.fi/en/tapahtuma/yhteisopaivan-aamiainen-2/2023-06-12/
LOCATION:Toimintakeskus Villa Borgis\, Linnavuorentie 13\, Helsinki\, 00950\, Finland
CATEGORIES:Toimintakeskus Villa Borgis
END:VEVENT
END:VCALENDAR