BEGIN:VCALENDAR
VERSION:2.0
PRODID:-//Tapahtumakalenteri - ECPv6.15.18//NONSGML v1.0//EN
CALSCALE:GREGORIAN
METHOD:PUBLISH
X-ORIGINAL-URL:https://kalenteri.niemikoti.fi/en/
X-WR-CALDESC:Events for Tapahtumakalenteri
REFRESH-INTERVAL;VALUE=DURATION:PT1H
X-Robots-Tag:noindex
X-PUBLISHED-TTL:PT1H
BEGIN:VTIMEZONE
TZID:Europe/Helsinki
BEGIN:DAYLIGHT
TZOFFSETFROM:+0200
TZOFFSETTO:+0300
TZNAME:EEST
DTSTART:20230326T010000
END:DAYLIGHT
BEGIN:STANDARD
TZOFFSETFROM:+0300
TZOFFSETTO:+0200
TZNAME:EET
DTSTART:20231029T010000
END:STANDARD
BEGIN:DAYLIGHT
TZOFFSETFROM:+0200
TZOFFSETTO:+0300
TZNAME:EEST
DTSTART:20240331T010000
END:DAYLIGHT
BEGIN:STANDARD
TZOFFSETFROM:+0300
TZOFFSETTO:+0200
TZNAME:EET
DTSTART:20241027T010000
END:STANDARD
BEGIN:DAYLIGHT
TZOFFSETFROM:+0200
TZOFFSETTO:+0300
TZNAME:EEST
DTSTART:20250330T010000
END:DAYLIGHT
BEGIN:STANDARD
TZOFFSETFROM:+0300
TZOFFSETTO:+0200
TZNAME:EET
DTSTART:20251026T010000
END:STANDARD
END:VTIMEZONE
BEGIN:VEVENT
DTSTART;TZID=Europe/Helsinki:20240410T103000
DTEND;TZID=Europe/Helsinki:20240410T111500
DTSTAMP:20260421T200649
CREATED:20240223T073950Z
LAST-MODIFIED:20240403T063622Z
UID:10006417-1712745000-1712747700@kalenteri.niemikoti.fi
SUMMARY:Sanapaja Malmilla
DESCRIPTION:Luovia kirjoitusharjoituksia ja sanataidetta ryhmässä. Täydentyvä ryhmä\, ilmoittaudu mukaan.
URL:https://kalenteri.niemikoti.fi/en/tapahtuma/sanapaja-malmilla/2024-04-10/
LOCATION:Malmin päivätoimintakeskus\, Vanha Helsingintie 9\, Helsinki\, 00700\, Finland
CATEGORIES:Malmin päivätoimintakeskus
END:VEVENT
BEGIN:VEVENT
DTSTART;TZID=Europe/Helsinki:20240410T103000
DTEND;TZID=Europe/Helsinki:20240410T120000
DTSTAMP:20260421T200649
CREATED:20240123T093625Z
LAST-MODIFIED:20240123T094801Z
UID:10005090-1712745000-1712750400@kalenteri.niemikoti.fi
SUMMARY:Pelit ja leikit
DESCRIPTION:Uusia ja vanhoja pelejä ja leikkejä sisällä ja ulkona.
URL:https://kalenteri.niemikoti.fi/en/tapahtuma/pelit-ja-leikit-2/2024-04-10/
LOCATION:Toimintakeskus Villa Borgis\, Linnavuorentie 13\, Helsinki\, 00950\, Finland
CATEGORIES:Toimintakeskus Villa Borgis
END:VEVENT
BEGIN:VEVENT
DTSTART;TZID=Europe/Helsinki:20240410T110000
DTEND;TZID=Europe/Helsinki:20240410T123000
DTSTAMP:20260421T200649
CREATED:20240325T104030Z
LAST-MODIFIED:20240408T090826Z
UID:10006775-1712746800-1712752200@kalenteri.niemikoti.fi
SUMMARY:TYÖELÄMÄ-ryhmä
DESCRIPTION:Aiheena Helsingin Työllisyyspalvelut ja työnteko eläkkeensaajana. Tule kuulemaan\, millaisia mahdollisuuksia työllistymisen edistämiseksi avautuu Työllisyyspalvelujen asiakkaana. Jutellaan myös siitä\, miten sovittaa tulonsa etuuksiin.
URL:https://kalenteri.niemikoti.fi/en/tapahtuma/tyoelama-ryhma-3/2024-04-10/
LOCATION:Valtti Valmennus\, Elimäenkatu 26\, Helsinki\, 00510\, Finland
CATEGORIES:Valtti Valmennus
END:VEVENT
BEGIN:VEVENT
DTSTART;TZID=Europe/Helsinki:20240410T130000
DTEND;TZID=Europe/Helsinki:20240410T143000
DTSTAMP:20260421T200649
CREATED:20240103T134956Z
LAST-MODIFIED:20240912T102443Z
UID:10004840-1712754000-1712759400@kalenteri.niemikoti.fi
SUMMARY:Taide & käsityö -ryhmä Malmilla
DESCRIPTION:Kuvataidetta ja käsitöitä vaihtuvin teemoin ja tekniikoin. Max. 8 osallistujaa\, ilmoittaudu mukaan!
URL:https://kalenteri.niemikoti.fi/en/tapahtuma/kuvis-ja-kasityo-ryhma-malmilla/2024-04-10/
LOCATION:Malmin päivätoimintakeskus\, Vanha Helsingintie 9\, Helsinki\, 00700\, Finland
CATEGORIES:Malmin päivätoimintakeskus
END:VEVENT
BEGIN:VEVENT
DTSTART;TZID=Europe/Helsinki:20240410T130000
DTEND;TZID=Europe/Helsinki:20240410T150000
DTSTAMP:20260421T200649
CREATED:20240112T082706Z
LAST-MODIFIED:20240708T061422Z
UID:10004917-1712754000-1712761200@kalenteri.niemikoti.fi
SUMMARY:Viherpeukalot
DESCRIPTION:Siementen kylvämistä\, kasvien hoitoa\, viherpeukalointia sisällä ja ulkona Villa Borgiksen puutarhassa. Laita yllesi vaatteet\, jotka eivät säikähdä likaantumista. Käsineet ja työvälineet talon puolesta\, myös kumisaappaita löytyy lainaksi.
URL:https://kalenteri.niemikoti.fi/en/tapahtuma/viherpeukalot-2/2024-04-10/
LOCATION:Toimintakeskus Villa Borgis\, Linnavuorentie 13\, Helsinki\, 00950\, Finland
CATEGORIES:Toimintakeskus Villa Borgis
END:VEVENT
BEGIN:VEVENT
DTSTART;TZID=Europe/Helsinki:20240410T140000
DTEND;TZID=Europe/Helsinki:20240410T143000
DTSTAMP:20260421T200649
CREATED:20230607T051246Z
LAST-MODIFIED:20250107T131756Z
UID:10013960-1712757600-1712759400@kalenteri.niemikoti.fi
SUMMARY:Yhteisöpäivän päiväkahvit
DESCRIPTION:Päiväkahvit kuuluvat aamiaisen ja/tai lounaan hintaan\, muuten 1 €.
URL:https://kalenteri.niemikoti.fi/en/tapahtuma/yhteisopaivan-paivakahvit/2024-04-10/
LOCATION:Toimintakeskus Villa Borgis\, Linnavuorentie 13\, Helsinki\, 00950\, Finland
CATEGORIES:Toimintakeskus Villa Borgis
END:VEVENT
BEGIN:VEVENT
DTSTART;TZID=Europe/Helsinki:20240411T110000
DTEND;TZID=Europe/Helsinki:20240411T120000
DTSTAMP:20260421T200649
CREATED:20231110T103101Z
LAST-MODIFIED:20240911T111654Z
UID:10010637-1712833200-1712836800@kalenteri.niemikoti.fi
SUMMARY:Rento jooga Malmilla
DESCRIPTION:Lempeää ja helppoa venyttelyä sekä rentoutusta. Täydentyvä ryhmä\, ilmoittaudu mukaan!
URL:https://kalenteri.niemikoti.fi/en/tapahtuma/jooga-malmilla/2024-04-11/
LOCATION:Malmin päivätoimintakeskus\, Vanha Helsingintie 9\, Helsinki\, 00700\, Finland
CATEGORIES:Malmin päivätoimintakeskus
END:VEVENT
BEGIN:VEVENT
DTSTART;TZID=Europe/Helsinki:20240411T123000
DTEND;TZID=Europe/Helsinki:20240411T160000
DTSTAMP:20260421T200649
CREATED:20240403T072243Z
LAST-MODIFIED:20240403T072243Z
UID:10006779-1712838600-1712851200@kalenteri.niemikoti.fi
SUMMARY:Museot tutuksi -retkiryhmä
DESCRIPTION:Tutustutaan yhdessä Helsingin museoihin. Lähtö Malmilta klo 12.30 tai voit saapua suoraan museolle. \n4.4. Kiasma (klo 13.00) \n11.4. Amos Rex klo (13.15) \nIlmoittaudu mukaan!
URL:https://kalenteri.niemikoti.fi/en/tapahtuma/museot-tutuksi-retkiryhma/2024-04-11/
LOCATION:Malmin päivätoimintakeskus\, Vanha Helsingintie 9\, Helsinki\, 00700\, Finland
CATEGORIES:Malmin päivätoimintakeskus
END:VEVENT
BEGIN:VEVENT
DTSTART;TZID=Europe/Helsinki:20240411T130000
DTEND;TZID=Europe/Helsinki:20240411T143000
DTSTAMP:20260421T200649
CREATED:20240123T094518Z
LAST-MODIFIED:20240318T125309Z
UID:10006018-1712840400-1712845800@kalenteri.niemikoti.fi
SUMMARY:Luontokävelijät
DESCRIPTION:Kävelyretkiä keväisessä lähiluonnossa. Tarkkaillaan ja havainnoidaan kevään etenemistä.
URL:https://kalenteri.niemikoti.fi/en/tapahtuma/luontokavelijat/2024-04-11/
LOCATION:Toimintakeskus Villa Borgis\, Linnavuorentie 13\, Helsinki\, 00950\, Finland
CATEGORIES:Toimintakeskus Villa Borgis
END:VEVENT
BEGIN:VEVENT
DTSTART;TZID=Europe/Helsinki:20240412T090000
DTEND;TZID=Europe/Helsinki:20240412T130000
DTSTAMP:20260421T200649
CREATED:20230823T123530Z
LAST-MODIFIED:20240528T092233Z
UID:10004489-1712912400-1712926800@kalenteri.niemikoti.fi
SUMMARY:Yhteisöpäivä Malmilla klo 9-14
DESCRIPTION:Yhteisöpäivä\, Malmin päivätoimintakeskus auki klo 9-14. Ilmoittaudu mukaan!
URL:https://kalenteri.niemikoti.fi/en/tapahtuma/yhteisopaiva-malmilla-klo-9-13-5/2024-04-12/
LOCATION:Malmin päivätoimintakeskus\, Vanha Helsingintie 9\, Helsinki\, 00700\, Finland
CATEGORIES:Malmin päivätoimintakeskus
END:VEVENT
BEGIN:VEVENT
DTSTART;TZID=Europe/Helsinki:20240412T100000
DTEND;TZID=Europe/Helsinki:20240412T103000
DTSTAMP:20260421T200649
CREATED:20230823T123714Z
LAST-MODIFIED:20240528T092313Z
UID:10004515-1712916000-1712917800@kalenteri.niemikoti.fi
SUMMARY:Yhteisöpäivän aamukokous Malmilla
DESCRIPTION:Yhteisöpäivän aamukokouksessa käydään läpi päivän ohjelma\, tulevat tapahtumat ja kuulumiskierros.
URL:https://kalenteri.niemikoti.fi/en/tapahtuma/yhteisopaivan-aamukokous-malmilla-4/2024-04-12/
LOCATION:Malmin päivätoimintakeskus\, Vanha Helsingintie 9\, Helsinki\, 00700\, Finland
CATEGORIES:Malmin päivätoimintakeskus
END:VEVENT
BEGIN:VEVENT
DTSTART;TZID=Europe/Helsinki:20240412T100000
DTEND;TZID=Europe/Helsinki:20240412T110000
DTSTAMP:20260421T200649
CREATED:20230427T055304Z
LAST-MODIFIED:20240513T053309Z
UID:10003943-1712916000-1712919600@kalenteri.niemikoti.fi
SUMMARY:Aamujooga Villa Borgiksessa
DESCRIPTION:8 ensimmäisenä paikalle tullutta mahtuu mukaan ryhmään.
URL:https://kalenteri.niemikoti.fi/en/tapahtuma/aamujooga-villa-borgiksessa/2024-04-12/
LOCATION:Toimintakeskus Villa Borgis\, Linnavuorentie 13\, Helsinki\, 00950\, Finland
CATEGORIES:Päivätoiminta,Toimintakeskus Villa Borgis
END:VEVENT
BEGIN:VEVENT
DTSTART;TZID=Europe/Helsinki:20240412T110000
DTEND;TZID=Europe/Helsinki:20240412T130000
DTSTAMP:20260421T200649
CREATED:20230427T060640Z
LAST-MODIFIED:20240513T053346Z
UID:10003917-1712919600-1712926800@kalenteri.niemikoti.fi
SUMMARY:Perjantaihyggeily
DESCRIPTION:Villasukat jalkaan\, maailman murheet hetkeksi syrjään ja olo mukavaksi teekupposen äärellä.\nTule rupattelemaan muiden kanssa\, lukemaan lehtiä tai vaikkapa tekemään valmiiksi keskeneräisiä projektejasi.\nTarjolla kahvit /teet ja keksit 1 €/pvä.
URL:https://kalenteri.niemikoti.fi/en/tapahtuma/perjantaihyggeily/2024-04-12/
LOCATION:Toimintakeskus Villa Borgis\, Linnavuorentie 13\, Helsinki\, 00950\, Finland
CATEGORIES:Päivätoiminta,Toimintakeskus Villa Borgis
END:VEVENT
BEGIN:VEVENT
DTSTART;TZID=Europe/Helsinki:20240412T123000
DTEND;TZID=Europe/Helsinki:20240412T140000
DTSTAMP:20260421T200649
CREATED:20240129T123333Z
LAST-MODIFIED:20240528T092459Z
UID:10005559-1712925000-1712930400@kalenteri.niemikoti.fi
SUMMARY:Sirkuspaja Malmilla
DESCRIPTION:Tehdään yhdessä sirkusvälineitä ja harjoitellaan pihalla temppuja. Ilmoittaudu mukaan!
URL:https://kalenteri.niemikoti.fi/en/tapahtuma/perjantaidokkari-malmilla/2024-04-12/
LOCATION:Malmin päivätoimintakeskus\, Vanha Helsingintie 9\, Helsinki\, 00700\, Finland
CATEGORIES:Malmin päivätoimintakeskus
END:VEVENT
BEGIN:VEVENT
DTSTART;TZID=Europe/Helsinki:20240415T090000
DTEND;TZID=Europe/Helsinki:20240415T094500
DTSTAMP:20260421T200649
CREATED:20230531T083840Z
LAST-MODIFIED:20240205T125147Z
UID:10003878-1713171600-1713174300@kalenteri.niemikoti.fi
SUMMARY:Yhteisöpäivän aamiainen
DESCRIPTION:Aamupala yhteisöpäivään osallistuville (maksullinen).
URL:https://kalenteri.niemikoti.fi/en/tapahtuma/yhteisopaivan-aamiainen-2/2024-04-15/
LOCATION:Toimintakeskus Villa Borgis\, Linnavuorentie 13\, Helsinki\, 00950\, Finland
CATEGORIES:Toimintakeskus Villa Borgis
END:VEVENT
BEGIN:VEVENT
DTSTART;TZID=Europe/Helsinki:20240415T090000
DTEND;TZID=Europe/Helsinki:20240415T130000
DTSTAMP:20260421T200649
CREATED:20230815T052225Z
LAST-MODIFIED:20240109T140543Z
UID:10004724-1713171600-1713186000@kalenteri.niemikoti.fi
SUMMARY:Yhteisöpäivä Malmilla klo 9-13
DESCRIPTION:Yhteisöpäivä\, Malmin päivätoimintakeskus auki klo 9-13. Ilmoittaudu mukaan!
URL:https://kalenteri.niemikoti.fi/en/tapahtuma/yhteisopaiva-malmilla-klo-9-13/2024-04-15/
LOCATION:Malmin päivätoimintakeskus\, Vanha Helsingintie 9\, Helsinki\, 00700\, Finland
CATEGORIES:Malmin päivätoimintakeskus
END:VEVENT
BEGIN:VEVENT
DTSTART;TZID=Europe/Helsinki:20240415T100000
DTEND;TZID=Europe/Helsinki:20240415T103000
DTSTAMP:20260421T200649
CREATED:20230531T081915Z
LAST-MODIFIED:20240205T125027Z
UID:10004003-1713175200-1713177000@kalenteri.niemikoti.fi
SUMMARY:Yhteisöpäivän aamukokous
DESCRIPTION:Yhteisöpäivän aamukokouksessa käydään läpi päivän ohjelmaa\, tapahtumia\, yhteisötehtäviä ja muita ajankohtaisia asioita.
URL:https://kalenteri.niemikoti.fi/en/tapahtuma/yhteisopaivan-aamukokous/2024-04-15/
LOCATION:Toimintakeskus Villa Borgis\, Linnavuorentie 13\, Helsinki\, 00950\, Finland
CATEGORIES:Toimintakeskus Villa Borgis
END:VEVENT
BEGIN:VEVENT
DTSTART;TZID=Europe/Helsinki:20240415T100000
DTEND;TZID=Europe/Helsinki:20240415T103000
DTSTAMP:20260421T200649
CREATED:20230815T052928Z
LAST-MODIFIED:20240109T140543Z
UID:10004698-1713175200-1713177000@kalenteri.niemikoti.fi
SUMMARY:Yhteisöpäivän aamukokous Malmilla
DESCRIPTION:Yhteisöpäivän aamukokouksessa käydään läpi päivän ohjelma\, tulevat tapahtumat ja kuulumiskierros.
URL:https://kalenteri.niemikoti.fi/en/tapahtuma/yhteisopaivan-aamukokous-malmilla/2024-04-15/
LOCATION:Malmin päivätoimintakeskus\, Vanha Helsingintie 9\, Helsinki\, 00700\, Finland
CATEGORIES:Malmin päivätoimintakeskus
END:VEVENT
BEGIN:VEVENT
DTSTART;TZID=Europe/Helsinki:20240415T103000
DTEND;TZID=Europe/Helsinki:20240415T120000
DTSTAMP:20260421T200649
CREATED:20230531T084700Z
LAST-MODIFIED:20240205T125100Z
UID:10004042-1713177000-1713182400@kalenteri.niemikoti.fi
SUMMARY:Talon töitä
DESCRIPTION:Yhteisöpäivän tehtäviä\, esim. piha-/puutarhatyöt\, sisustus\, siivous\, yhteisökokous.
URL:https://kalenteri.niemikoti.fi/en/tapahtuma/talon-toita/2024-04-15/
LOCATION:Toimintakeskus Villa Borgis\, Linnavuorentie 13\, Helsinki\, 00950\, Finland
CATEGORIES:Toimintakeskus Villa Borgis
END:VEVENT
BEGIN:VEVENT
DTSTART;TZID=Europe/Helsinki:20240415T110000
DTEND;TZID=Europe/Helsinki:20240415T130000
DTSTAMP:20260421T200649
CREATED:20240408T074818Z
LAST-MODIFIED:20240408T074818Z
UID:10010243-1713178800-1713186000@kalenteri.niemikoti.fi
SUMMARY:Viikon aloitusryhmä
DESCRIPTION:Valtti Valmennuksen viikon aloitus. Tällä viikolla poikkeusaika\, klo 11.00 yhteislähtö Valtti Valmennuksesta. \nTyövalmentaja Sonyan matkassa katsomaan työvalmentaja Satun näyttely Galleria Mielentilaan osoitteessa Hämeentie 13A. Tervetuloa mukaan! \n(huom! tarvitset oman bussilipun)
URL:https://kalenteri.niemikoti.fi/en/tapahtuma/viikon-aloitusryhma/
LOCATION:Galleria Mielentila\, Hämeentie 13\, Helsinki
CATEGORIES:Valtti Valmennus
ATTACH;FMTTYPE=image/png:https://kalenteri.niemikoti.fi/wp-content/uploads/2024/04/Screenshot_20240408-1046452.png
END:VEVENT
BEGIN:VEVENT
DTSTART;TZID=Europe/Helsinki:20240415T120000
DTEND;TZID=Europe/Helsinki:20240415T123000
DTSTAMP:20260421T200649
CREATED:20230531T112750Z
LAST-MODIFIED:20250321T104552Z
UID:10004067-1713182400-1713184200@kalenteri.niemikoti.fi
SUMMARY:Yhteisöpäivän lounas
DESCRIPTION:Lounas yhteisöpäivään osallistuville\, maksullinen.
URL:https://kalenteri.niemikoti.fi/en/tapahtuma/yhteisopaivan-lounas/2024-04-15/
LOCATION:Toimintakeskus Villa Borgis\, Linnavuorentie 13\, Helsinki\, 00950\, Finland
CATEGORIES:Toimintakeskus Villa Borgis
END:VEVENT
BEGIN:VEVENT
DTSTART;TZID=Europe/Helsinki:20240415T120000
DTEND;TZID=Europe/Helsinki:20240415T150000
DTSTAMP:20260421T200649
CREATED:20240404T121828Z
LAST-MODIFIED:20240409T042343Z
UID:10010250-1713182400-1713193200@kalenteri.niemikoti.fi
SUMMARY:Kässäkerho
DESCRIPTION:Löytyykö kaapistasi keskeneräinen kudin\, ompelus\, kirjontatyö tai mikä tahansa muu käsityö? Maanantaisin ompelimoon kokoontuu kässäkerho\, missä esimerkiksi näitä keskeneräisiä töitä voi tehdä valmiiksi. Ohjaajat ovat apuna tarpeen tullen. Ei ennakkoilmoittautumista!
URL:https://kalenteri.niemikoti.fi/en/tapahtuma/kassakerho/2024-04-15/
LOCATION:Ompelimo & Olohuone\, Kalevankatu 30\, Helsinki\, 00100\, Finland
CATEGORIES:Ompelimo & Olohuone
ATTACH;FMTTYPE=image/jpeg:https://kalenteri.niemikoti.fi/wp-content/uploads/2024/04/DSCN8419-scaled.jpg
END:VEVENT
BEGIN:VEVENT
DTSTART;TZID=Europe/Helsinki:20240415T123000
DTEND;TZID=Europe/Helsinki:20240415T160000
DTSTAMP:20260421T200649
CREATED:20240129T121752Z
LAST-MODIFIED:20240403T070846Z
UID:10006089-1713184200-1713196800@kalenteri.niemikoti.fi
SUMMARY:Iloa ulkoilusta -liikuntaryhmä
DESCRIPTION:Iloa ulkoilusta -liikuntaryhmä klo 12.30-16.00. Lähtö Malmin päivätoimintakeskukselta klo 12.30. \n8.4. Geokätköily \n15.4. Kävely Seurasaaressa \n22.4. Malmin ulkokuntosali (paluu klo 15 mennessä) \n29.4. Kivinokan esteetön luontopolku ja lintulava \nIlmoittaudu mukaan!
URL:https://kalenteri.niemikoti.fi/en/tapahtuma/liiku-ja-innostu-liikuntaryhma/2024-04-15/
LOCATION:Malmin päivätoimintakeskus\, Vanha Helsingintie 9\, Helsinki\, 00700\, Finland
CATEGORIES:Malmin päivätoimintakeskus
ATTACH;FMTTYPE=image/jpeg:https://kalenteri.niemikoti.fi/wp-content/uploads/2024/01/Iloa_liikunnasta.jpg
END:VEVENT
BEGIN:VEVENT
DTSTART;TZID=Europe/Helsinki:20240415T130000
DTEND;TZID=Europe/Helsinki:20240415T140000
DTSTAMP:20260421T200649
CREATED:20230822T084516Z
LAST-MODIFIED:20250520T082214Z
UID:10001993-1713186000-1713189600@kalenteri.niemikoti.fi
SUMMARY:Mahdollisuuksien maanantai
DESCRIPTION:Yhteisön ohjelmaa (toiveryhmiä ja vaihtuvia teemoja)
URL:https://kalenteri.niemikoti.fi/en/tapahtuma/mahdollisuuksien-maanantai-2/2024-04-15/
LOCATION:Toimintakeskus Villa Borgis\, Linnavuorentie 13\, Helsinki\, 00950\, Finland
CATEGORIES:Toimintakeskus Villa Borgis
END:VEVENT
BEGIN:VEVENT
DTSTART;TZID=Europe/Helsinki:20240415T140000
DTEND;TZID=Europe/Helsinki:20240415T143000
DTSTAMP:20260421T200649
CREATED:20230607T051246Z
LAST-MODIFIED:20250107T131756Z
UID:10013961-1713189600-1713191400@kalenteri.niemikoti.fi
SUMMARY:Yhteisöpäivän päiväkahvit
DESCRIPTION:Päiväkahvit kuuluvat aamiaisen ja/tai lounaan hintaan\, muuten 1 €.
URL:https://kalenteri.niemikoti.fi/en/tapahtuma/yhteisopaivan-paivakahvit/2024-04-15/
LOCATION:Toimintakeskus Villa Borgis\, Linnavuorentie 13\, Helsinki\, 00950\, Finland
CATEGORIES:Toimintakeskus Villa Borgis
END:VEVENT
BEGIN:VEVENT
DTSTART;TZID=Europe/Helsinki:20240416T090000
DTEND;TZID=Europe/Helsinki:20240416T094500
DTSTAMP:20260421T200649
CREATED:20230531T083840Z
LAST-MODIFIED:20240205T125147Z
UID:10003879-1713258000-1713260700@kalenteri.niemikoti.fi
SUMMARY:Yhteisöpäivän aamiainen
DESCRIPTION:Aamupala yhteisöpäivään osallistuville (maksullinen).
URL:https://kalenteri.niemikoti.fi/en/tapahtuma/yhteisopaivan-aamiainen-2/2024-04-16/
LOCATION:Toimintakeskus Villa Borgis\, Linnavuorentie 13\, Helsinki\, 00950\, Finland
CATEGORIES:Toimintakeskus Villa Borgis
END:VEVENT
BEGIN:VEVENT
DTSTART;TZID=Europe/Helsinki:20240416T090000
DTEND;TZID=Europe/Helsinki:20240416T130000
DTSTAMP:20260421T200649
CREATED:20230821T054354Z
LAST-MODIFIED:20240528T091101Z
UID:10004646-1713258000-1713272400@kalenteri.niemikoti.fi
SUMMARY:Yhteisöpäivä Malmilla klo 9-13
DESCRIPTION:Yhteisöpäivä\, Malmin päivätoimintakeskus auki klo 9-13. Ilmoittaudu mukaan!
URL:https://kalenteri.niemikoti.fi/en/tapahtuma/yhteisopaiva-malmilla-klo-9-13-3/2024-04-16/
LOCATION:Malmin päivätoimintakeskus\, Vanha Helsingintie 9\, Helsinki\, 00700\, Finland
CATEGORIES:Malmin päivätoimintakeskus
END:VEVENT
BEGIN:VEVENT
DTSTART;TZID=Europe/Helsinki:20240416T100000
DTEND;TZID=Europe/Helsinki:20240416T103000
DTSTAMP:20260421T200649
CREATED:20230531T081915Z
LAST-MODIFIED:20240205T125027Z
UID:10004004-1713261600-1713263400@kalenteri.niemikoti.fi
SUMMARY:Yhteisöpäivän aamukokous
DESCRIPTION:Yhteisöpäivän aamukokouksessa käydään läpi päivän ohjelmaa\, tapahtumia\, yhteisötehtäviä ja muita ajankohtaisia asioita.
URL:https://kalenteri.niemikoti.fi/en/tapahtuma/yhteisopaivan-aamukokous/2024-04-16/
LOCATION:Toimintakeskus Villa Borgis\, Linnavuorentie 13\, Helsinki\, 00950\, Finland
CATEGORIES:Toimintakeskus Villa Borgis
END:VEVENT
BEGIN:VEVENT
DTSTART;TZID=Europe/Helsinki:20240416T100000
DTEND;TZID=Europe/Helsinki:20240416T103000
DTSTAMP:20260421T200649
CREATED:20230821T054731Z
LAST-MODIFIED:20240528T091332Z
UID:10004620-1713261600-1713263400@kalenteri.niemikoti.fi
SUMMARY:Yhteisöpäivän aamukokous Malmilla
DESCRIPTION:Yhteisöpäivän aamukokouksessa käydään läpi päivän ohjelma\, tulevat tapahtumat ja kuulumiskierros.
URL:https://kalenteri.niemikoti.fi/en/tapahtuma/yhteisopaivan-aamukokous-malmilla-2/2024-04-16/
LOCATION:Malmin päivätoimintakeskus\, Vanha Helsingintie 9\, Helsinki\, 00700\, Finland
CATEGORIES:Malmin päivätoimintakeskus
END:VEVENT
BEGIN:VEVENT
DTSTART;TZID=Europe/Helsinki:20240416T103000
DTEND;TZID=Europe/Helsinki:20240416T111500
DTSTAMP:20260421T200649
CREATED:20230821T055336Z
LAST-MODIFIED:20240528T091429Z
UID:10004594-1713263400-1713266100@kalenteri.niemikoti.fi
SUMMARY:Luonto & liikunta -kävelyryhmä Malmilla
DESCRIPTION:Päätetään yhdessä päivän kävelyreitti ja kävelläänkö reippaasti vai rauhallisesti. Uusille on tilaa\, ilmoittaudu mukaan!
URL:https://kalenteri.niemikoti.fi/en/tapahtuma/luonto-liikunta-kavelyryhma-malmilla/2024-04-16/
LOCATION:Malmin päivätoimintakeskus\, Vanha Helsingintie 9\, Helsinki\, 00700\, Finland
CATEGORIES:Malmin päivätoimintakeskus
END:VEVENT
END:VCALENDAR