BEGIN:VCALENDAR
VERSION:2.0
PRODID:-//Tapahtumakalenteri - ECPv6.15.18//NONSGML v1.0//EN
CALSCALE:GREGORIAN
METHOD:PUBLISH
X-WR-CALNAME:Tapahtumakalenteri
X-ORIGINAL-URL:https://kalenteri.niemikoti.fi/en/
X-WR-CALDESC:Events for Tapahtumakalenteri
REFRESH-INTERVAL;VALUE=DURATION:PT1H
X-Robots-Tag:noindex
X-PUBLISHED-TTL:PT1H
BEGIN:VTIMEZONE
TZID:Europe/Helsinki
BEGIN:DAYLIGHT
TZOFFSETFROM:+0200
TZOFFSETTO:+0300
TZNAME:EEST
DTSTART:20220327T010000
END:DAYLIGHT
BEGIN:STANDARD
TZOFFSETFROM:+0300
TZOFFSETTO:+0200
TZNAME:EET
DTSTART:20221030T010000
END:STANDARD
BEGIN:DAYLIGHT
TZOFFSETFROM:+0200
TZOFFSETTO:+0300
TZNAME:EEST
DTSTART:20230326T010000
END:DAYLIGHT
BEGIN:STANDARD
TZOFFSETFROM:+0300
TZOFFSETTO:+0200
TZNAME:EET
DTSTART:20231029T010000
END:STANDARD
BEGIN:DAYLIGHT
TZOFFSETFROM:+0200
TZOFFSETTO:+0300
TZNAME:EEST
DTSTART:20240331T010000
END:DAYLIGHT
BEGIN:STANDARD
TZOFFSETFROM:+0300
TZOFFSETTO:+0200
TZNAME:EET
DTSTART:20241027T010000
END:STANDARD
END:VTIMEZONE
BEGIN:VEVENT
DTSTART;TZID=Europe/Helsinki:20231101T103000
DTEND;TZID=Europe/Helsinki:20231101T120000
DTSTAMP:20260426T041031
CREATED:20230809T083657Z
LAST-MODIFIED:20230822T123744Z
UID:10003309-1698834600-1698840000@kalenteri.niemikoti.fi
SUMMARY:Soppakokit
DESCRIPTION:Valmistetaan yhdessä helppo lounas. Ruoan hinta 2 €. Ilmoittaudu.
URL:https://kalenteri.niemikoti.fi/en/tapahtuma/soppakokit-2/2023-11-01/
LOCATION:Toimintakeskus Villa Borgis\, Linnavuorentie 13\, Helsinki\, 00950\, Finland
CATEGORIES:Toimintakeskus Villa Borgis
END:VEVENT
BEGIN:VEVENT
DTSTART;TZID=Europe/Helsinki:20231101T100000
DTEND;TZID=Europe/Helsinki:20231101T103000
DTSTAMP:20260426T041031
CREATED:20230822T114233Z
LAST-MODIFIED:20240528T091641Z
UID:10003645-1698832800-1698834600@kalenteri.niemikoti.fi
SUMMARY:Yhteisöpäivän aamukokous Malmilla
DESCRIPTION:Yhteisöpäivän aamukokouksessa käydään läpi päivän ohjelma\, tulevat tapahtumat ja kuulumiskierros.
URL:https://kalenteri.niemikoti.fi/en/tapahtuma/yhteisopaivan-aamukokous-malmilla-3/2023-11-01/
LOCATION:Malmin päivätoimintakeskus\, Vanha Helsingintie 9\, Helsinki\, 00700\, Finland
CATEGORIES:Malmin päivätoimintakeskus
END:VEVENT
BEGIN:VEVENT
DTSTART;TZID=Europe/Helsinki:20231101T100000
DTEND;TZID=Europe/Helsinki:20231101T103000
DTSTAMP:20260426T041031
CREATED:20230531T081915Z
LAST-MODIFIED:20240205T125027Z
UID:10001646-1698832800-1698834600@kalenteri.niemikoti.fi
SUMMARY:Yhteisöpäivän aamukokous
DESCRIPTION:Yhteisöpäivän aamukokouksessa käydään läpi päivän ohjelmaa\, tapahtumia\, yhteisötehtäviä ja muita ajankohtaisia asioita.
URL:https://kalenteri.niemikoti.fi/en/tapahtuma/yhteisopaivan-aamukokous/2023-11-01/
LOCATION:Toimintakeskus Villa Borgis\, Linnavuorentie 13\, Helsinki\, 00950\, Finland
CATEGORIES:Toimintakeskus Villa Borgis
END:VEVENT
BEGIN:VEVENT
DTSTART;TZID=Europe/Helsinki:20231101T090000
DTEND;TZID=Europe/Helsinki:20231101T130000
DTSTAMP:20260426T041031
CREATED:20230822T114010Z
LAST-MODIFIED:20240528T090051Z
UID:10001934-1698829200-1698843600@kalenteri.niemikoti.fi
SUMMARY:Yhteisöpäivä Malmilla klo 9-13
DESCRIPTION:Yhteisöpäivä\, Malmin päivätoimintakeskus auki klo 9-13. Ilmoittaudu mukaan!
URL:https://kalenteri.niemikoti.fi/en/tapahtuma/yhteisopaiva-malmilla-klo-9-13-4/2023-11-01/
LOCATION:Malmin päivätoimintakeskus\, Vanha Helsingintie 9\, Helsinki\, 00700\, Finland
CATEGORIES:Malmin päivätoimintakeskus
END:VEVENT
BEGIN:VEVENT
DTSTART;TZID=Europe/Helsinki:20231101T090000
DTEND;TZID=Europe/Helsinki:20231101T094500
DTSTAMP:20260426T041031
CREATED:20230531T083840Z
LAST-MODIFIED:20240205T125147Z
UID:10001607-1698829200-1698831900@kalenteri.niemikoti.fi
SUMMARY:Yhteisöpäivän aamiainen
DESCRIPTION:Aamupala yhteisöpäivään osallistuville (maksullinen).
URL:https://kalenteri.niemikoti.fi/en/tapahtuma/yhteisopaivan-aamiainen-2/2023-11-01/
LOCATION:Toimintakeskus Villa Borgis\, Linnavuorentie 13\, Helsinki\, 00950\, Finland
CATEGORIES:Toimintakeskus Villa Borgis
END:VEVENT
BEGIN:VEVENT
DTSTART;TZID=Europe/Helsinki:20231031T153000
DTEND;TZID=Europe/Helsinki:20231031T170000
DTSTAMP:20260426T041031
CREATED:20231016T065925Z
LAST-MODIFIED:20240912T102346Z
UID:10005927-1698766200-1698771600@kalenteri.niemikoti.fi
SUMMARY:Malmin bändi
DESCRIPTION:Bändissä on vakiintunut kokoonpano. Lisätietoja Malmin bändistä voi kysyä ohjaaja Tapio Kojolta.
URL:https://kalenteri.niemikoti.fi/en/tapahtuma/malmin-bandi/2023-10-31/
LOCATION:Malmin päivätoimintakeskus\, Vanha Helsingintie 9\, Helsinki\, 00700\, Finland
CATEGORIES:Malmin päivätoimintakeskus
END:VEVENT
BEGIN:VEVENT
DTSTART;TZID=Europe/Helsinki:20231031T140000
DTEND;TZID=Europe/Helsinki:20231031T143000
DTSTAMP:20260426T041031
CREATED:20230607T051246Z
LAST-MODIFIED:20250107T131756Z
UID:10001304-1698760800-1698762600@kalenteri.niemikoti.fi
SUMMARY:Yhteisöpäivän päiväkahvit
DESCRIPTION:Päiväkahvit kuuluvat aamiaisen ja/tai lounaan hintaan\, muuten 1 €.
URL:https://kalenteri.niemikoti.fi/en/tapahtuma/yhteisopaivan-paivakahvit/2023-10-31/
LOCATION:Toimintakeskus Villa Borgis\, Linnavuorentie 13\, Helsinki\, 00950\, Finland
CATEGORIES:Toimintakeskus Villa Borgis
END:VEVENT
BEGIN:VEVENT
DTSTART;TZID=Europe/Helsinki:20231031T130000
DTEND;TZID=Europe/Helsinki:20231031T150000
DTSTAMP:20260426T041031
CREATED:20231016T065556Z
LAST-MODIFIED:20240912T102328Z
UID:10005891-1698757200-1698764400@kalenteri.niemikoti.fi
SUMMARY:Jälleenvuokrauksen bändi Malmilla
DESCRIPTION:Bändissä on vakiintunut kokoonpano. Lisätietoja bändistä voi kysyä ohjaajilta.
URL:https://kalenteri.niemikoti.fi/en/tapahtuma/jalleenvuokrauksen-bandi/2023-10-31/
LOCATION:Malmin päivätoimintakeskus\, Vanha Helsingintie 9\, Helsinki\, 00700\, Finland
CATEGORIES:Malmin päivätoimintakeskus
END:VEVENT
BEGIN:VEVENT
DTSTART;TZID=Europe/Helsinki:20231031T130000
DTEND;TZID=Europe/Helsinki:20231031T143000
DTSTAMP:20260426T041031
CREATED:20230822T114949Z
LAST-MODIFIED:20230822T123131Z
UID:10002517-1698757200-1698762600@kalenteri.niemikoti.fi
SUMMARY:TTAP
DESCRIPTION:Ryhmäkokonaisuus\, jossa hyvdynnetään erilaisia taiteen ja toiminnan keinoja yhdessä valittuun teemaan liittyen.
URL:https://kalenteri.niemikoti.fi/en/tapahtuma/ttap-2/2023-10-31/
LOCATION:Toimintakeskus Villa Borgis\, Linnavuorentie 13\, Helsinki\, 00950\, Finland
CATEGORIES:Toimintakeskus Villa Borgis
END:VEVENT
BEGIN:VEVENT
DTSTART;TZID=Europe/Helsinki:20231031T123000
DTEND;TZID=Europe/Helsinki:20231031T131500
DTSTAMP:20260426T041031
CREATED:20231114T115507Z
LAST-MODIFIED:20240109T140442Z
UID:10004266-1698755400-1698758100@kalenteri.niemikoti.fi
SUMMARY:Ukulelen alkeet Malmilla
DESCRIPTION:Harjoittelemme yhdessä Ukulelen soiton alkeita. Täydentyvä ryhmä\, ilmoittaudu mukaan!
URL:https://kalenteri.niemikoti.fi/en/tapahtuma/ukulele-ryhma-malmilla/2023-10-31/
LOCATION:Malmin päivätoimintakeskus\, Vanha Helsingintie 9\, Helsinki\, 00700\, Finland
CATEGORIES:Malmin päivätoimintakeskus
END:VEVENT
BEGIN:VEVENT
DTSTART;TZID=Europe/Helsinki:20231031T123000
DTEND;TZID=Europe/Helsinki:20231031T131500
DTSTAMP:20260426T041031
CREATED:20230901T103623Z
LAST-MODIFIED:20240109T140401Z
UID:10003737-1698755400-1698758100@kalenteri.niemikoti.fi
SUMMARY:Ukulelen alkeisjatko -ryhmä Malmilla
DESCRIPTION:Harjoitellaan yhdessä ukulelen alkeita. Neljä tapaamista: 10.10\, 17.10\, 24.10 ja 31.10. Ilmoittaudu mukaan!
URL:https://kalenteri.niemikoti.fi/en/tapahtuma/ukulelen-alkeet-ryhma-malmilla/2023-10-31/
LOCATION:Malmin päivätoimintakeskus\, Vanha Helsingintie 9\, Helsinki\, 00700\, Finland
CATEGORIES:Malmin päivätoimintakeskus
END:VEVENT
BEGIN:VEVENT
DTSTART;TZID=Europe/Helsinki:20231031T103000
DTEND;TZID=Europe/Helsinki:20231031T120000
DTSTAMP:20260426T041031
CREATED:20230531T124423Z
LAST-MODIFIED:20240123T084001Z
UID:10005048-1698748200-1698753600@kalenteri.niemikoti.fi
SUMMARY:Borgiksen Picassot
DESCRIPTION:Kuvataideryhmä\, ilmoittaudu.
URL:https://kalenteri.niemikoti.fi/en/tapahtuma/borgiksen-picassot/2023-10-31/
LOCATION:Toimintakeskus Villa Borgis\, Linnavuorentie 13\, Helsinki\, 00950\, Finland
CATEGORIES:Toimintakeskus Villa Borgis
END:VEVENT
BEGIN:VEVENT
DTSTART;TZID=Europe/Helsinki:20231031T103000
DTEND;TZID=Europe/Helsinki:20231031T111500
DTSTAMP:20260426T041031
CREATED:20230821T055336Z
LAST-MODIFIED:20240528T091429Z
UID:10001898-1698748200-1698750900@kalenteri.niemikoti.fi
SUMMARY:Luonto & liikunta -kävelyryhmä Malmilla
DESCRIPTION:Päätetään yhdessä päivän kävelyreitti ja kävelläänkö reippaasti vai rauhallisesti. Uusille on tilaa\, ilmoittaudu mukaan!
URL:https://kalenteri.niemikoti.fi/en/tapahtuma/luonto-liikunta-kavelyryhma-malmilla/2023-10-31/
LOCATION:Malmin päivätoimintakeskus\, Vanha Helsingintie 9\, Helsinki\, 00700\, Finland
CATEGORIES:Malmin päivätoimintakeskus
END:VEVENT
BEGIN:VEVENT
DTSTART;TZID=Europe/Helsinki:20231031T100000
DTEND;TZID=Europe/Helsinki:20231031T103000
DTSTAMP:20260426T041031
CREATED:20230821T054731Z
LAST-MODIFIED:20240528T091332Z
UID:10003628-1698746400-1698748200@kalenteri.niemikoti.fi
SUMMARY:Yhteisöpäivän aamukokous Malmilla
DESCRIPTION:Yhteisöpäivän aamukokouksessa käydään läpi päivän ohjelma\, tulevat tapahtumat ja kuulumiskierros.
URL:https://kalenteri.niemikoti.fi/en/tapahtuma/yhteisopaivan-aamukokous-malmilla-2/2023-10-31/
LOCATION:Malmin päivätoimintakeskus\, Vanha Helsingintie 9\, Helsinki\, 00700\, Finland
CATEGORIES:Malmin päivätoimintakeskus
END:VEVENT
BEGIN:VEVENT
DTSTART;TZID=Europe/Helsinki:20231031T100000
DTEND;TZID=Europe/Helsinki:20231031T103000
DTSTAMP:20260426T041031
CREATED:20230531T081915Z
LAST-MODIFIED:20240205T125027Z
UID:10001645-1698746400-1698748200@kalenteri.niemikoti.fi
SUMMARY:Yhteisöpäivän aamukokous
DESCRIPTION:Yhteisöpäivän aamukokouksessa käydään läpi päivän ohjelmaa\, tapahtumia\, yhteisötehtäviä ja muita ajankohtaisia asioita.
URL:https://kalenteri.niemikoti.fi/en/tapahtuma/yhteisopaivan-aamukokous/2023-10-31/
LOCATION:Toimintakeskus Villa Borgis\, Linnavuorentie 13\, Helsinki\, 00950\, Finland
CATEGORIES:Toimintakeskus Villa Borgis
END:VEVENT
BEGIN:VEVENT
DTSTART;TZID=Europe/Helsinki:20231031T090000
DTEND;TZID=Europe/Helsinki:20231031T130000
DTSTAMP:20260426T041031
CREATED:20230821T054354Z
LAST-MODIFIED:20240528T091101Z
UID:10001864-1698742800-1698757200@kalenteri.niemikoti.fi
SUMMARY:Yhteisöpäivä Malmilla klo 9-13
DESCRIPTION:Yhteisöpäivä\, Malmin päivätoimintakeskus auki klo 9-13. Ilmoittaudu mukaan!
URL:https://kalenteri.niemikoti.fi/en/tapahtuma/yhteisopaiva-malmilla-klo-9-13-3/2023-10-31/
LOCATION:Malmin päivätoimintakeskus\, Vanha Helsingintie 9\, Helsinki\, 00700\, Finland
CATEGORIES:Malmin päivätoimintakeskus
END:VEVENT
BEGIN:VEVENT
DTSTART;TZID=Europe/Helsinki:20231031T090000
DTEND;TZID=Europe/Helsinki:20231031T130000
DTSTAMP:20260426T041031
CREATED:20230815T054713Z
LAST-MODIFIED:20240109T140543Z
UID:10001846-1698742800-1698757200@kalenteri.niemikoti.fi
SUMMARY:Yhteisöpäivä Malmilla klo 9-13
DESCRIPTION:Yhteisöpäivä\, Malmin päivätoimintakeskus auki klo 9-13. Ilmoittaudu mukaan!
URL:https://kalenteri.niemikoti.fi/en/tapahtuma/yhteisopaiva-malmilla-klo-9-13-2/2023-10-31/
LOCATION:Malmin päivätoimintakeskus\, Vanha Helsingintie 9\, Helsinki\, 00700\, Finland
CATEGORIES:Malmin päivätoimintakeskus
END:VEVENT
BEGIN:VEVENT
DTSTART;TZID=Europe/Helsinki:20231031T090000
DTEND;TZID=Europe/Helsinki:20231031T094500
DTSTAMP:20260426T041032
CREATED:20230531T083840Z
LAST-MODIFIED:20240205T125147Z
UID:10001606-1698742800-1698745500@kalenteri.niemikoti.fi
SUMMARY:Yhteisöpäivän aamiainen
DESCRIPTION:Aamupala yhteisöpäivään osallistuville (maksullinen).
URL:https://kalenteri.niemikoti.fi/en/tapahtuma/yhteisopaivan-aamiainen-2/2023-10-31/
LOCATION:Toimintakeskus Villa Borgis\, Linnavuorentie 13\, Helsinki\, 00950\, Finland
CATEGORIES:Toimintakeskus Villa Borgis
END:VEVENT
BEGIN:VEVENT
DTSTART;TZID=Europe/Helsinki:20231030T140000
DTEND;TZID=Europe/Helsinki:20231030T143000
DTSTAMP:20260426T041032
CREATED:20230607T051246Z
LAST-MODIFIED:20250107T131756Z
UID:10001303-1698674400-1698676200@kalenteri.niemikoti.fi
SUMMARY:Yhteisöpäivän päiväkahvit
DESCRIPTION:Päiväkahvit kuuluvat aamiaisen ja/tai lounaan hintaan\, muuten 1 €.
URL:https://kalenteri.niemikoti.fi/en/tapahtuma/yhteisopaivan-paivakahvit/2023-10-30/
LOCATION:Toimintakeskus Villa Borgis\, Linnavuorentie 13\, Helsinki\, 00950\, Finland
CATEGORIES:Toimintakeskus Villa Borgis
END:VEVENT
BEGIN:VEVENT
DTSTART;TZID=Europe/Helsinki:20231030T130000
DTEND;TZID=Europe/Helsinki:20231030T140000
DTSTAMP:20260426T041032
CREATED:20230809T082730Z
LAST-MODIFIED:20230822T123255Z
UID:10002784-1698670800-1698674400@kalenteri.niemikoti.fi
SUMMARY:Mahdollisuuksien maanantai
DESCRIPTION:Esim. ulkoilua\, musiikinkuuntelua\, rentoutusta.
URL:https://kalenteri.niemikoti.fi/en/tapahtuma/mahdollisuuksien-maanantai/2023-10-30/
LOCATION:Toimintakeskus Villa Borgis\, Linnavuorentie 13\, Helsinki\, 00950\, Finland
CATEGORIES:Toimintakeskus Villa Borgis
END:VEVENT
BEGIN:VEVENT
DTSTART;TZID=Europe/Helsinki:20231030T120000
DTEND;TZID=Europe/Helsinki:20231030T123000
DTSTAMP:20260426T041032
CREATED:20230531T112750Z
LAST-MODIFIED:20250321T104552Z
UID:10001728-1698667200-1698669000@kalenteri.niemikoti.fi
SUMMARY:Yhteisöpäivän lounas
DESCRIPTION:Lounas yhteisöpäivään osallistuville\, maksullinen.
URL:https://kalenteri.niemikoti.fi/en/tapahtuma/yhteisopaivan-lounas/2023-10-30/
LOCATION:Toimintakeskus Villa Borgis\, Linnavuorentie 13\, Helsinki\, 00950\, Finland
CATEGORIES:Toimintakeskus Villa Borgis
END:VEVENT
BEGIN:VEVENT
DTSTART;TZID=Europe/Helsinki:20231030T103000
DTEND;TZID=Europe/Helsinki:20231030T120000
DTSTAMP:20260426T041032
CREATED:20230531T084700Z
LAST-MODIFIED:20240205T125100Z
UID:10001715-1698661800-1698667200@kalenteri.niemikoti.fi
SUMMARY:Talon töitä
DESCRIPTION:Yhteisöpäivän tehtäviä\, esim. piha-/puutarhatyöt\, sisustus\, siivous\, yhteisökokous.
URL:https://kalenteri.niemikoti.fi/en/tapahtuma/talon-toita/2023-10-30/
LOCATION:Toimintakeskus Villa Borgis\, Linnavuorentie 13\, Helsinki\, 00950\, Finland
CATEGORIES:Toimintakeskus Villa Borgis
END:VEVENT
BEGIN:VEVENT
DTSTART;TZID=Europe/Helsinki:20231030T100000
DTEND;TZID=Europe/Helsinki:20231030T103000
DTSTAMP:20260426T041032
CREATED:20230815T052928Z
LAST-MODIFIED:20240109T140543Z
UID:10003611-1698660000-1698661800@kalenteri.niemikoti.fi
SUMMARY:Yhteisöpäivän aamukokous Malmilla
DESCRIPTION:Yhteisöpäivän aamukokouksessa käydään läpi päivän ohjelma\, tulevat tapahtumat ja kuulumiskierros.
URL:https://kalenteri.niemikoti.fi/en/tapahtuma/yhteisopaivan-aamukokous-malmilla/2023-10-30/
LOCATION:Malmin päivätoimintakeskus\, Vanha Helsingintie 9\, Helsinki\, 00700\, Finland
CATEGORIES:Malmin päivätoimintakeskus
END:VEVENT
BEGIN:VEVENT
DTSTART;TZID=Europe/Helsinki:20231030T100000
DTEND;TZID=Europe/Helsinki:20231030T103000
DTSTAMP:20260426T041032
CREATED:20230531T081915Z
LAST-MODIFIED:20240205T125027Z
UID:10001644-1698660000-1698661800@kalenteri.niemikoti.fi
SUMMARY:Yhteisöpäivän aamukokous
DESCRIPTION:Yhteisöpäivän aamukokouksessa käydään läpi päivän ohjelmaa\, tapahtumia\, yhteisötehtäviä ja muita ajankohtaisia asioita.
URL:https://kalenteri.niemikoti.fi/en/tapahtuma/yhteisopaivan-aamukokous/2023-10-30/
LOCATION:Toimintakeskus Villa Borgis\, Linnavuorentie 13\, Helsinki\, 00950\, Finland
CATEGORIES:Toimintakeskus Villa Borgis
END:VEVENT
BEGIN:VEVENT
DTSTART;TZID=Europe/Helsinki:20231030T090000
DTEND;TZID=Europe/Helsinki:20231030T130000
DTSTAMP:20260426T041032
CREATED:20230815T052225Z
LAST-MODIFIED:20240109T140543Z
UID:10001790-1698656400-1698670800@kalenteri.niemikoti.fi
SUMMARY:Yhteisöpäivä Malmilla klo 9-13
DESCRIPTION:Yhteisöpäivä\, Malmin päivätoimintakeskus auki klo 9-13. Ilmoittaudu mukaan!
URL:https://kalenteri.niemikoti.fi/en/tapahtuma/yhteisopaiva-malmilla-klo-9-13/2023-10-30/
LOCATION:Malmin päivätoimintakeskus\, Vanha Helsingintie 9\, Helsinki\, 00700\, Finland
CATEGORIES:Malmin päivätoimintakeskus
END:VEVENT
BEGIN:VEVENT
DTSTART;TZID=Europe/Helsinki:20231030T090000
DTEND;TZID=Europe/Helsinki:20231030T094500
DTSTAMP:20260426T041032
CREATED:20230531T083840Z
LAST-MODIFIED:20240205T125147Z
UID:10001605-1698656400-1698659100@kalenteri.niemikoti.fi
SUMMARY:Yhteisöpäivän aamiainen
DESCRIPTION:Aamupala yhteisöpäivään osallistuville (maksullinen).
URL:https://kalenteri.niemikoti.fi/en/tapahtuma/yhteisopaivan-aamiainen-2/2023-10-30/
LOCATION:Toimintakeskus Villa Borgis\, Linnavuorentie 13\, Helsinki\, 00950\, Finland
CATEGORIES:Toimintakeskus Villa Borgis
END:VEVENT
BEGIN:VEVENT
DTSTART;TZID=Europe/Helsinki:20231027T123000
DTEND;TZID=Europe/Helsinki:20231027T141500
DTSTAMP:20260426T041032
CREATED:20230823T124747Z
LAST-MODIFIED:20240314T105912Z
UID:10003716-1698409800-1698416100@kalenteri.niemikoti.fi
SUMMARY:Uintiryhmä
DESCRIPTION:Omatoiminen liikuntaryhmä Malmin liikuntahallille. Täydentyvä ryhmä\, ilmoittaudu mukaan!
URL:https://kalenteri.niemikoti.fi/en/tapahtuma/uintiryhma-2/2023-10-27/
LOCATION:Malmin päivätoimintakeskus\, Vanha Helsingintie 9\, Helsinki\, 00700\, Finland
CATEGORIES:Malmin päivätoimintakeskus
END:VEVENT
BEGIN:VEVENT
DTSTART;TZID=Europe/Helsinki:20231027T110000
DTEND;TZID=Europe/Helsinki:20231027T130000
DTSTAMP:20260426T041032
CREATED:20230427T060640Z
LAST-MODIFIED:20240513T053346Z
UID:10001702-1698404400-1698411600@kalenteri.niemikoti.fi
SUMMARY:Perjantaihyggeily
DESCRIPTION:Villasukat jalkaan\, maailman murheet hetkeksi syrjään ja olo mukavaksi teekupposen äärellä.\nTule rupattelemaan muiden kanssa\, lukemaan lehtiä tai vaikkapa tekemään valmiiksi keskeneräisiä projektejasi.\nTarjolla kahvit /teet ja keksit 1 €/pvä.
URL:https://kalenteri.niemikoti.fi/en/tapahtuma/perjantaihyggeily/2023-10-27/
LOCATION:Toimintakeskus Villa Borgis\, Linnavuorentie 13\, Helsinki\, 00950\, Finland
CATEGORIES:Päivätoiminta,Toimintakeskus Villa Borgis
END:VEVENT
BEGIN:VEVENT
DTSTART;TZID=Europe/Helsinki:20231027T103000
DTEND;TZID=Europe/Helsinki:20231027T111500
DTSTAMP:20260426T041032
CREATED:20230823T124255Z
LAST-MODIFIED:20240129T124123Z
UID:10003698-1698402600-1698405300@kalenteri.niemikoti.fi
SUMMARY:Perjantain päähänpistot -ryhmä Malmilla
DESCRIPTION:Vaihtuvaa yhteisön ohjelmaa ryhmän toiveiden mukaan\, esimerkiksi pelaamista\, tietovisa tai leipomista. Täydentyvä ryhmä\, ilmoittaudu mukaan!
URL:https://kalenteri.niemikoti.fi/en/tapahtuma/ajan-tasalla-ryhma-malmilla/2023-10-27/
LOCATION:Malmin päivätoimintakeskus\, Vanha Helsingintie 9\, Helsinki\, 00700\, Finland
CATEGORIES:Malmin päivätoimintakeskus
END:VEVENT
BEGIN:VEVENT
DTSTART;TZID=Europe/Helsinki:20231027T100000
DTEND;TZID=Europe/Helsinki:20231027T110000
DTSTAMP:20260426T041032
CREATED:20230427T055304Z
LAST-MODIFIED:20240513T053309Z
UID:10001690-1698400800-1698404400@kalenteri.niemikoti.fi
SUMMARY:Aamujooga Villa Borgiksessa
DESCRIPTION:8 ensimmäisenä paikalle tullutta mahtuu mukaan ryhmään.
URL:https://kalenteri.niemikoti.fi/en/tapahtuma/aamujooga-villa-borgiksessa/2023-10-27/
LOCATION:Toimintakeskus Villa Borgis\, Linnavuorentie 13\, Helsinki\, 00950\, Finland
CATEGORIES:Päivätoiminta,Toimintakeskus Villa Borgis
END:VEVENT
END:VCALENDAR