BEGIN:VCALENDAR
VERSION:2.0
PRODID:-//Tapahtumakalenteri - ECPv6.15.18//NONSGML v1.0//EN
CALSCALE:GREGORIAN
METHOD:PUBLISH
X-WR-CALNAME:Tapahtumakalenteri
X-ORIGINAL-URL:https://kalenteri.niemikoti.fi/en/
X-WR-CALDESC:Events for Tapahtumakalenteri
REFRESH-INTERVAL;VALUE=DURATION:PT1H
X-Robots-Tag:noindex
X-PUBLISHED-TTL:PT1H
BEGIN:VTIMEZONE
TZID:Europe/Helsinki
BEGIN:DAYLIGHT
TZOFFSETFROM:+0200
TZOFFSETTO:+0300
TZNAME:EEST
DTSTART:20230326T010000
END:DAYLIGHT
BEGIN:STANDARD
TZOFFSETFROM:+0300
TZOFFSETTO:+0200
TZNAME:EET
DTSTART:20231029T010000
END:STANDARD
BEGIN:DAYLIGHT
TZOFFSETFROM:+0200
TZOFFSETTO:+0300
TZNAME:EEST
DTSTART:20240331T010000
END:DAYLIGHT
BEGIN:STANDARD
TZOFFSETFROM:+0300
TZOFFSETTO:+0200
TZNAME:EET
DTSTART:20241027T010000
END:STANDARD
BEGIN:DAYLIGHT
TZOFFSETFROM:+0200
TZOFFSETTO:+0300
TZNAME:EEST
DTSTART:20250330T010000
END:DAYLIGHT
BEGIN:STANDARD
TZOFFSETFROM:+0300
TZOFFSETTO:+0200
TZNAME:EET
DTSTART:20251026T010000
END:STANDARD
END:VTIMEZONE
BEGIN:VEVENT
DTSTART;TZID=Europe/Helsinki:20240430T090000
DTEND;TZID=Europe/Helsinki:20240430T094500
DTSTAMP:20260423T010846
CREATED:20230531T083840Z
LAST-MODIFIED:20240205T125147Z
UID:10003885-1714467600-1714470300@kalenteri.niemikoti.fi
SUMMARY:Yhteisöpäivän aamiainen
DESCRIPTION:Aamupala yhteisöpäivään osallistuville (maksullinen).
URL:https://kalenteri.niemikoti.fi/en/tapahtuma/yhteisopaivan-aamiainen-2/2024-04-30/
LOCATION:Toimintakeskus Villa Borgis\, Linnavuorentie 13\, Helsinki\, 00950\, Finland
CATEGORIES:Toimintakeskus Villa Borgis
END:VEVENT
BEGIN:VEVENT
DTSTART;TZID=Europe/Helsinki:20240430T090000
DTEND;TZID=Europe/Helsinki:20240430T130000
DTSTAMP:20260423T010846
CREATED:20230821T054354Z
LAST-MODIFIED:20240528T091101Z
UID:10004648-1714467600-1714482000@kalenteri.niemikoti.fi
SUMMARY:Yhteisöpäivä Malmilla klo 9-13
DESCRIPTION:Yhteisöpäivä\, Malmin päivätoimintakeskus auki klo 9-13. Ilmoittaudu mukaan!
URL:https://kalenteri.niemikoti.fi/en/tapahtuma/yhteisopaiva-malmilla-klo-9-13-3/2024-04-30/
LOCATION:Malmin päivätoimintakeskus\, Vanha Helsingintie 9\, Helsinki\, 00700\, Finland
CATEGORIES:Malmin päivätoimintakeskus
END:VEVENT
BEGIN:VEVENT
DTSTART;TZID=Europe/Helsinki:20240430T100000
DTEND;TZID=Europe/Helsinki:20240430T103000
DTSTAMP:20260423T010846
CREATED:20230531T081915Z
LAST-MODIFIED:20240205T125027Z
UID:10004010-1714471200-1714473000@kalenteri.niemikoti.fi
SUMMARY:Yhteisöpäivän aamukokous
DESCRIPTION:Yhteisöpäivän aamukokouksessa käydään läpi päivän ohjelmaa\, tapahtumia\, yhteisötehtäviä ja muita ajankohtaisia asioita.
URL:https://kalenteri.niemikoti.fi/en/tapahtuma/yhteisopaivan-aamukokous/2024-04-30/
LOCATION:Toimintakeskus Villa Borgis\, Linnavuorentie 13\, Helsinki\, 00950\, Finland
CATEGORIES:Toimintakeskus Villa Borgis
END:VEVENT
BEGIN:VEVENT
DTSTART;TZID=Europe/Helsinki:20240430T100000
DTEND;TZID=Europe/Helsinki:20240430T103000
DTSTAMP:20260423T010846
CREATED:20230821T054731Z
LAST-MODIFIED:20240528T091332Z
UID:10004622-1714471200-1714473000@kalenteri.niemikoti.fi
SUMMARY:Yhteisöpäivän aamukokous Malmilla
DESCRIPTION:Yhteisöpäivän aamukokouksessa käydään läpi päivän ohjelma\, tulevat tapahtumat ja kuulumiskierros.
URL:https://kalenteri.niemikoti.fi/en/tapahtuma/yhteisopaivan-aamukokous-malmilla-2/2024-04-30/
LOCATION:Malmin päivätoimintakeskus\, Vanha Helsingintie 9\, Helsinki\, 00700\, Finland
CATEGORIES:Malmin päivätoimintakeskus
END:VEVENT
BEGIN:VEVENT
DTSTART;TZID=Europe/Helsinki:20240430T103000
DTEND;TZID=Europe/Helsinki:20240430T111500
DTSTAMP:20260423T010846
CREATED:20230821T055336Z
LAST-MODIFIED:20240528T091429Z
UID:10004596-1714473000-1714475700@kalenteri.niemikoti.fi
SUMMARY:Luonto & liikunta -kävelyryhmä Malmilla
DESCRIPTION:Päätetään yhdessä päivän kävelyreitti ja kävelläänkö reippaasti vai rauhallisesti. Uusille on tilaa\, ilmoittaudu mukaan!
URL:https://kalenteri.niemikoti.fi/en/tapahtuma/luonto-liikunta-kavelyryhma-malmilla/2024-04-30/
LOCATION:Malmin päivätoimintakeskus\, Vanha Helsingintie 9\, Helsinki\, 00700\, Finland
CATEGORIES:Malmin päivätoimintakeskus
END:VEVENT
BEGIN:VEVENT
DTSTART;TZID=Europe/Helsinki:20240430T103000
DTEND;TZID=Europe/Helsinki:20240430T120000
DTSTAMP:20260423T010846
CREATED:20230531T124423Z
LAST-MODIFIED:20240123T084001Z
UID:10005073-1714473000-1714478400@kalenteri.niemikoti.fi
SUMMARY:Borgiksen Picassot
DESCRIPTION:Kuvataideryhmä\, ilmoittaudu.
URL:https://kalenteri.niemikoti.fi/en/tapahtuma/borgiksen-picassot/2024-04-30/
LOCATION:Toimintakeskus Villa Borgis\, Linnavuorentie 13\, Helsinki\, 00950\, Finland
CATEGORIES:Toimintakeskus Villa Borgis
END:VEVENT
BEGIN:VEVENT
DTSTART;TZID=Europe/Helsinki:20240430T110000
DTEND;TZID=Europe/Helsinki:20240430T120000
DTSTAMP:20260423T010846
CREATED:20240429T060436Z
LAST-MODIFIED:20240429T060436Z
UID:10010611-1714474800-1714478400@kalenteri.niemikoti.fi
SUMMARY:Kun jännittää -vertaistuellinen ryhmä
DESCRIPTION:Jännittäminen on hyvinkin yleistä\, mutta toisinaan jännittäminen voi alkaa rajoittaa elämää. Pienryhmässä pohditaan yhdessä\, miten jännittämisen voisi hyväksyä ja miten sen kanssa voisi oppia elämään. Jaetaan kokemuksia ja keinoja jännittämisen helpottamiseen. Voiko jännitystä ajatella voimavarana? Ryhmää ohjaa Valtti Valmennuksen työvalmentaja kokemusasiantuntijan kanssa. Ryhmään voi tulla ihan vain kuuntelemaan eikä omia kokemuksia ole pakko jakaa.
URL:https://kalenteri.niemikoti.fi/en/tapahtuma/kun-jannittaa-vertaistuellinen-ryhma-2/
LOCATION:Valtti Valmennus\, Elimäenkatu 26\, Helsinki\, 00510\, Finland
CATEGORIES:Valtti Valmennus
END:VEVENT
BEGIN:VEVENT
DTSTART;TZID=Europe/Helsinki:20240430T123000
DTEND;TZID=Europe/Helsinki:20240430T131500
DTSTAMP:20260423T010846
CREATED:20240129T121244Z
LAST-MODIFIED:20240912T102135Z
UID:10005187-1714480200-1714482900@kalenteri.niemikoti.fi
SUMMARY:Soittoryhmä Malmilla
DESCRIPTION:Tutustutaan yhdessä pianon\, kitaran ja ukulelen soiton alkeisiin ja soitetaan yhdessä helppoja kappaleita. Max. 8 osallistujaa\, ilmoittaudu mukaan!
URL:https://kalenteri.niemikoti.fi/en/tapahtuma/soittoryhma/2024-04-30/
LOCATION:Malmin päivätoimintakeskus\, Vanha Helsingintie 9\, Helsinki\, 00700\, Finland
CATEGORIES:Malmin päivätoimintakeskus
END:VEVENT
BEGIN:VEVENT
DTSTART;TZID=Europe/Helsinki:20240430T130000
DTEND;TZID=Europe/Helsinki:20240430T140000
DTSTAMP:20260423T010846
CREATED:20231108T090753Z
LAST-MODIFIED:20240513T053528Z
UID:10004186-1714482000-1714485600@kalenteri.niemikoti.fi
SUMMARY:Yhteisön ohjelmaa
DESCRIPTION:Yhteisön ohjelmaa\, esim. rentoutusta\, ulkoilua\, musiikin kuuntelua\, kädentaitoja.
URL:https://kalenteri.niemikoti.fi/en/tapahtuma/yhteison-ohjelmaa-2/2024-04-30/
LOCATION:Toimintakeskus Villa Borgis\, Linnavuorentie 13\, Helsinki\, 00950\, Finland
CATEGORIES:Toimintakeskus Villa Borgis
END:VEVENT
BEGIN:VEVENT
DTSTART;TZID=Europe/Helsinki:20240430T130000
DTEND;TZID=Europe/Helsinki:20240430T150000
DTSTAMP:20260423T010846
CREATED:20231016T065556Z
LAST-MODIFIED:20240912T102328Z
UID:10005916-1714482000-1714489200@kalenteri.niemikoti.fi
SUMMARY:Jälleenvuokrauksen bändi Malmilla
DESCRIPTION:Bändissä on vakiintunut kokoonpano. Lisätietoja bändistä voi kysyä ohjaajilta.
URL:https://kalenteri.niemikoti.fi/en/tapahtuma/jalleenvuokrauksen-bandi/2024-04-30/
LOCATION:Malmin päivätoimintakeskus\, Vanha Helsingintie 9\, Helsinki\, 00700\, Finland
CATEGORIES:Malmin päivätoimintakeskus
END:VEVENT
BEGIN:VEVENT
DTSTART;TZID=Europe/Helsinki:20240430T140000
DTEND;TZID=Europe/Helsinki:20240430T143000
DTSTAMP:20260423T010846
CREATED:20230607T051246Z
LAST-MODIFIED:20250107T131756Z
UID:10013968-1714485600-1714487400@kalenteri.niemikoti.fi
SUMMARY:Yhteisöpäivän päiväkahvit
DESCRIPTION:Päiväkahvit kuuluvat aamiaisen ja/tai lounaan hintaan\, muuten 1 €.
URL:https://kalenteri.niemikoti.fi/en/tapahtuma/yhteisopaivan-paivakahvit/2024-04-30/
LOCATION:Toimintakeskus Villa Borgis\, Linnavuorentie 13\, Helsinki\, 00950\, Finland
CATEGORIES:Toimintakeskus Villa Borgis
END:VEVENT
BEGIN:VEVENT
DTSTART;TZID=Europe/Helsinki:20240430T153000
DTEND;TZID=Europe/Helsinki:20240430T170000
DTSTAMP:20260423T010846
CREATED:20231016T065925Z
LAST-MODIFIED:20240912T102346Z
UID:10005953-1714491000-1714496400@kalenteri.niemikoti.fi
SUMMARY:Malmin bändi
DESCRIPTION:Bändissä on vakiintunut kokoonpano. Lisätietoja Malmin bändistä voi kysyä ohjaaja Tapio Kojolta.
URL:https://kalenteri.niemikoti.fi/en/tapahtuma/malmin-bandi/2024-04-30/
LOCATION:Malmin päivätoimintakeskus\, Vanha Helsingintie 9\, Helsinki\, 00700\, Finland
CATEGORIES:Malmin päivätoimintakeskus
END:VEVENT
BEGIN:VEVENT
DTSTART;TZID=Europe/Helsinki:20240501T140000
DTEND;TZID=Europe/Helsinki:20240501T143000
DTSTAMP:20260423T010846
CREATED:20230607T051246Z
LAST-MODIFIED:20250107T131756Z
UID:10013969-1714572000-1714573800@kalenteri.niemikoti.fi
SUMMARY:Yhteisöpäivän päiväkahvit
DESCRIPTION:Päiväkahvit kuuluvat aamiaisen ja/tai lounaan hintaan\, muuten 1 €.
URL:https://kalenteri.niemikoti.fi/en/tapahtuma/yhteisopaivan-paivakahvit/2024-05-01/
LOCATION:Toimintakeskus Villa Borgis\, Linnavuorentie 13\, Helsinki\, 00950\, Finland
CATEGORIES:Toimintakeskus Villa Borgis
END:VEVENT
BEGIN:VEVENT
DTSTART;TZID=Europe/Helsinki:20240502T103000
DTEND;TZID=Europe/Helsinki:20240502T120000
DTSTAMP:20260423T010846
CREATED:20240416T122216Z
LAST-MODIFIED:20240515T110114Z
UID:10010520-1714645800-1714651200@kalenteri.niemikoti.fi
SUMMARY:Kokeileva maalaus
DESCRIPTION:Rentoa taiteilua luovalla otteella ja vähän yllättävilläkin välineillä.
URL:https://kalenteri.niemikoti.fi/en/tapahtuma/kokeileva-maalaus/2024-05-02/
LOCATION:Toimintakeskus Villa Borgis\, Linnavuorentie 13\, Helsinki\, 00950\, Finland
CATEGORIES:Toimintakeskus Villa Borgis
END:VEVENT
BEGIN:VEVENT
DTSTART;TZID=Europe/Helsinki:20240502T103000
DTEND;TZID=Europe/Helsinki:20240502T120000
DTSTAMP:20260423T010846
CREATED:20240423T074048Z
LAST-MODIFIED:20240423T074048Z
UID:10010599-1714645800-1714651200@kalenteri.niemikoti.fi
SUMMARY:Kokeileva maalaus
DESCRIPTION:Rentoa taiteilua erilaisilla ja vähän yllättävilläkin välineillä.
URL:https://kalenteri.niemikoti.fi/en/tapahtuma/kokeileva-maalaus-2/2024-05-02/
LOCATION:Toimintakeskus Villa Borgis\, Linnavuorentie 13\, Helsinki\, 00950\, Finland
CATEGORIES:Toimintakeskus Villa Borgis
END:VEVENT
BEGIN:VEVENT
DTSTART;TZID=Europe/Helsinki:20240502T110000
DTEND;TZID=Europe/Helsinki:20240502T120000
DTSTAMP:20260423T010846
CREATED:20231110T103101Z
LAST-MODIFIED:20240911T111654Z
UID:10010640-1714647600-1714651200@kalenteri.niemikoti.fi
SUMMARY:Rento jooga Malmilla
DESCRIPTION:Lempeää ja helppoa venyttelyä sekä rentoutusta. Täydentyvä ryhmä\, ilmoittaudu mukaan!
URL:https://kalenteri.niemikoti.fi/en/tapahtuma/jooga-malmilla/2024-05-02/
LOCATION:Malmin päivätoimintakeskus\, Vanha Helsingintie 9\, Helsinki\, 00700\, Finland
CATEGORIES:Malmin päivätoimintakeskus
END:VEVENT
BEGIN:VEVENT
DTSTART;TZID=Europe/Helsinki:20240502T120000
DTEND;TZID=Europe/Helsinki:20240502T133000
DTSTAMP:20260423T010846
CREATED:20240429T050444Z
LAST-MODIFIED:20240429T050444Z
UID:10010607-1714651200-1714656600@kalenteri.niemikoti.fi
SUMMARY:Pohdi-Kehity-Innostu
DESCRIPTION:Tänään aiheena harrastukset ja vapaa-aika. Tule kuulemaan ilmaisista/edullisista tavoista harrastaa\, juttelemaan omista kiinnostuksen kohteista\, sekä kertomaan harrastuksistasi.
URL:https://kalenteri.niemikoti.fi/en/tapahtuma/pohdi-kehity-innostu-2/
LOCATION:Valtti Valmennus\, Elimäenkatu 26\, Helsinki\, 00510\, Finland
CATEGORIES:Valtti Valmennus
END:VEVENT
BEGIN:VEVENT
DTSTART;TZID=Europe/Helsinki:20240502T123000
DTEND;TZID=Europe/Helsinki:20240502T140000
DTSTAMP:20260423T010846
CREATED:20240430T113701Z
LAST-MODIFIED:20241108T084027Z
UID:10011172-1714653000-1714658400@kalenteri.niemikoti.fi
SUMMARY:Hygge
DESCRIPTION:Villasukat jalkaan\, maailman murheet hetkeksi syrjään ja olo mukavaksi teekupposen äärellä. Rentoa yhdessäoloa ja mahdollisuus tehdä esim. käsitöitä tai kuvataidetta.
URL:https://kalenteri.niemikoti.fi/en/tapahtuma/hygge-malmilla-2/2024-05-02/
LOCATION:Malmin päivätoimintakeskus\, Vanha Helsingintie 9\, Helsinki\, 00700\, Finland
CATEGORIES:Malmin päivätoimintakeskus
END:VEVENT
BEGIN:VEVENT
DTSTART;TZID=Europe/Helsinki:20240502T140000
DTEND;TZID=Europe/Helsinki:20240502T160000
DTSTAMP:20260423T010846
CREATED:20240430T114336Z
LAST-MODIFIED:20240911T125414Z
UID:10011433-1714658400-1714665600@kalenteri.niemikoti.fi
SUMMARY:Kaupunkiviljely Malmilla
DESCRIPTION:Ryhmä toimii toukokuusta lokakuuhun (heinäkuu taukoa). Kokoontuminen ryhmän alussa Malmin päivätoimintaan.
URL:https://kalenteri.niemikoti.fi/en/tapahtuma/kaupunkiviljely-malmilla-4/2024-05-02/
LOCATION:Malmin päivätoimintakeskus\, Vanha Helsingintie 9\, Helsinki\, 00700\, Finland
CATEGORIES:Malmin päivätoimintakeskus
ATTACH;FMTTYPE=image/png:https://kalenteri.niemikoti.fi/wp-content/uploads/2024/04/kaupunkiviljely.png
END:VEVENT
BEGIN:VEVENT
DTSTART;TZID=Europe/Helsinki:20240503T090000
DTEND;TZID=Europe/Helsinki:20240503T130000
DTSTAMP:20260423T010846
CREATED:20230823T123530Z
LAST-MODIFIED:20240528T092233Z
UID:10004492-1714726800-1714741200@kalenteri.niemikoti.fi
SUMMARY:Yhteisöpäivä Malmilla klo 9-14
DESCRIPTION:Yhteisöpäivä\, Malmin päivätoimintakeskus auki klo 9-14. Ilmoittaudu mukaan!
URL:https://kalenteri.niemikoti.fi/en/tapahtuma/yhteisopaiva-malmilla-klo-9-13-5/2024-05-03/
LOCATION:Malmin päivätoimintakeskus\, Vanha Helsingintie 9\, Helsinki\, 00700\, Finland
CATEGORIES:Malmin päivätoimintakeskus
END:VEVENT
BEGIN:VEVENT
DTSTART;TZID=Europe/Helsinki:20240503T100000
DTEND;TZID=Europe/Helsinki:20240503T103000
DTSTAMP:20260423T010846
CREATED:20230823T123714Z
LAST-MODIFIED:20240528T092313Z
UID:10004518-1714730400-1714732200@kalenteri.niemikoti.fi
SUMMARY:Yhteisöpäivän aamukokous Malmilla
DESCRIPTION:Yhteisöpäivän aamukokouksessa käydään läpi päivän ohjelma\, tulevat tapahtumat ja kuulumiskierros.
URL:https://kalenteri.niemikoti.fi/en/tapahtuma/yhteisopaivan-aamukokous-malmilla-4/2024-05-03/
LOCATION:Malmin päivätoimintakeskus\, Vanha Helsingintie 9\, Helsinki\, 00700\, Finland
CATEGORIES:Malmin päivätoimintakeskus
END:VEVENT
BEGIN:VEVENT
DTSTART;TZID=Europe/Helsinki:20240503T100000
DTEND;TZID=Europe/Helsinki:20240503T110000
DTSTAMP:20260423T010846
CREATED:20230427T055304Z
LAST-MODIFIED:20240513T053309Z
UID:10003946-1714730400-1714734000@kalenteri.niemikoti.fi
SUMMARY:Aamujooga Villa Borgiksessa
DESCRIPTION:8 ensimmäisenä paikalle tullutta mahtuu mukaan ryhmään.
URL:https://kalenteri.niemikoti.fi/en/tapahtuma/aamujooga-villa-borgiksessa/2024-05-03/
LOCATION:Toimintakeskus Villa Borgis\, Linnavuorentie 13\, Helsinki\, 00950\, Finland
CATEGORIES:Päivätoiminta,Toimintakeskus Villa Borgis
END:VEVENT
BEGIN:VEVENT
DTSTART;TZID=Europe/Helsinki:20240503T110000
DTEND;TZID=Europe/Helsinki:20240503T130000
DTSTAMP:20260423T010846
CREATED:20230427T060640Z
LAST-MODIFIED:20240513T053346Z
UID:10003920-1714734000-1714741200@kalenteri.niemikoti.fi
SUMMARY:Perjantaihyggeily
DESCRIPTION:Villasukat jalkaan\, maailman murheet hetkeksi syrjään ja olo mukavaksi teekupposen äärellä.\nTule rupattelemaan muiden kanssa\, lukemaan lehtiä tai vaikkapa tekemään valmiiksi keskeneräisiä projektejasi.\nTarjolla kahvit /teet ja keksit 1 €/pvä.
URL:https://kalenteri.niemikoti.fi/en/tapahtuma/perjantaihyggeily/2024-05-03/
LOCATION:Toimintakeskus Villa Borgis\, Linnavuorentie 13\, Helsinki\, 00950\, Finland
CATEGORIES:Päivätoiminta,Toimintakeskus Villa Borgis
END:VEVENT
BEGIN:VEVENT
DTSTART;TZID=Europe/Helsinki:20240503T120000
DTEND;TZID=Europe/Helsinki:20240503T123000
DTSTAMP:20260423T010846
CREATED:20230628T115200Z
LAST-MODIFIED:20250107T132307Z
UID:10004126-1714737600-1714739400@kalenteri.niemikoti.fi
SUMMARY:Avoin info
DESCRIPTION:Tervetuloa tutustumaan taloomme ja toimintaamme! Avoin info on tarkoitettu kaikille toiminnastamme kiinnostuneille (opiskelijat\, ammattilaiset\, toipujat\, omaiset…). Kahvitarjoilu!
URL:https://kalenteri.niemikoti.fi/en/tapahtuma/avoin-info/2024-05-03/
LOCATION:Toimintakeskus Villa Borgis\, Linnavuorentie 13\, Helsinki\, 00950\, Finland
CATEGORIES:Toimintakeskus Villa Borgis
END:VEVENT
BEGIN:VEVENT
DTSTART;TZID=Europe/Helsinki:20240503T123000
DTEND;TZID=Europe/Helsinki:20240503T140000
DTSTAMP:20260423T010846
CREATED:20240129T123333Z
LAST-MODIFIED:20240528T092459Z
UID:10005562-1714739400-1714744800@kalenteri.niemikoti.fi
SUMMARY:Sirkuspaja Malmilla
DESCRIPTION:Tehdään yhdessä sirkusvälineitä ja harjoitellaan pihalla temppuja. Ilmoittaudu mukaan!
URL:https://kalenteri.niemikoti.fi/en/tapahtuma/perjantaidokkari-malmilla/2024-05-03/
LOCATION:Malmin päivätoimintakeskus\, Vanha Helsingintie 9\, Helsinki\, 00700\, Finland
CATEGORIES:Malmin päivätoimintakeskus
END:VEVENT
BEGIN:VEVENT
DTSTART;TZID=Europe/Helsinki:20240506T080000
DTEND;TZID=Europe/Helsinki:20240508T150000
DTSTAMP:20260423T010846
CREATED:20240409T073548Z
LAST-MODIFIED:20240409T073548Z
UID:10010518-1714982400-1715180400@kalenteri.niemikoti.fi
SUMMARY:Kevätleiri Kesäharjussa
DESCRIPTION:Lähde mukaan keväiseen Kesäharjuun! Luvassa mukavaa keväistä ohjelmaa\, mm. piha- ja lautapelejä\, kädentaitoja\, liikkumista ja tietenkin saunomista ja hyvää ruokaa. Leirille voivat ilmoittautua kaikki Niemikotisäätiön palvelunkäyttäjät. Paikat täytetään ilmoittautumisjärjestyksessä.
URL:https://kalenteri.niemikoti.fi/en/tapahtuma/kevatleiri-kesaharjussa/
CATEGORIES:Kesäharjun toimintakeskus,Malmin päivätoimintakeskus,Toimintakeskus Villa Borgis
ATTACH;FMTTYPE=image/jpeg:https://kalenteri.niemikoti.fi/wp-content/uploads/2024/04/Kopio-Villa-Borgiksen-ja-Malmin-paivatoiminnan-kevatleiri-Iitin-Kesaharjussa-ma-ke-6.-8.5.jpg
END:VEVENT
BEGIN:VEVENT
DTSTART;TZID=Europe/Helsinki:20240506T090000
DTEND;TZID=Europe/Helsinki:20240506T094500
DTSTAMP:20260423T010846
CREATED:20230531T083840Z
LAST-MODIFIED:20240205T125147Z
UID:10003887-1714986000-1714988700@kalenteri.niemikoti.fi
SUMMARY:Yhteisöpäivän aamiainen
DESCRIPTION:Aamupala yhteisöpäivään osallistuville (maksullinen).
URL:https://kalenteri.niemikoti.fi/en/tapahtuma/yhteisopaivan-aamiainen-2/2024-05-06/
LOCATION:Toimintakeskus Villa Borgis\, Linnavuorentie 13\, Helsinki\, 00950\, Finland
CATEGORIES:Toimintakeskus Villa Borgis
END:VEVENT
BEGIN:VEVENT
DTSTART;TZID=Europe/Helsinki:20240506T090000
DTEND;TZID=Europe/Helsinki:20240506T130000
DTSTAMP:20260423T010846
CREATED:20230815T052225Z
LAST-MODIFIED:20240109T140543Z
UID:10004727-1714986000-1715000400@kalenteri.niemikoti.fi
SUMMARY:Yhteisöpäivä Malmilla klo 9-13
DESCRIPTION:Yhteisöpäivä\, Malmin päivätoimintakeskus auki klo 9-13. Ilmoittaudu mukaan!
URL:https://kalenteri.niemikoti.fi/en/tapahtuma/yhteisopaiva-malmilla-klo-9-13/2024-05-06/
LOCATION:Malmin päivätoimintakeskus\, Vanha Helsingintie 9\, Helsinki\, 00700\, Finland
CATEGORIES:Malmin päivätoimintakeskus
END:VEVENT
BEGIN:VEVENT
DTSTART;TZID=Europe/Helsinki:20240506T100000
DTEND;TZID=Europe/Helsinki:20240506T103000
DTSTAMP:20260423T010846
CREATED:20230531T081915Z
LAST-MODIFIED:20240205T125027Z
UID:10004012-1714989600-1714991400@kalenteri.niemikoti.fi
SUMMARY:Yhteisöpäivän aamukokous
DESCRIPTION:Yhteisöpäivän aamukokouksessa käydään läpi päivän ohjelmaa\, tapahtumia\, yhteisötehtäviä ja muita ajankohtaisia asioita.
URL:https://kalenteri.niemikoti.fi/en/tapahtuma/yhteisopaivan-aamukokous/2024-05-06/
LOCATION:Toimintakeskus Villa Borgis\, Linnavuorentie 13\, Helsinki\, 00950\, Finland
CATEGORIES:Toimintakeskus Villa Borgis
END:VEVENT
BEGIN:VEVENT
DTSTART;TZID=Europe/Helsinki:20240506T100000
DTEND;TZID=Europe/Helsinki:20240506T103000
DTSTAMP:20260423T010846
CREATED:20230815T052928Z
LAST-MODIFIED:20240109T140543Z
UID:10004701-1714989600-1714991400@kalenteri.niemikoti.fi
SUMMARY:Yhteisöpäivän aamukokous Malmilla
DESCRIPTION:Yhteisöpäivän aamukokouksessa käydään läpi päivän ohjelma\, tulevat tapahtumat ja kuulumiskierros.
URL:https://kalenteri.niemikoti.fi/en/tapahtuma/yhteisopaivan-aamukokous-malmilla/2024-05-06/
LOCATION:Malmin päivätoimintakeskus\, Vanha Helsingintie 9\, Helsinki\, 00700\, Finland
CATEGORIES:Malmin päivätoimintakeskus
END:VEVENT
END:VCALENDAR