BEGIN:VCALENDAR
VERSION:2.0
PRODID:-//Tapahtumakalenteri - ECPv6.15.18//NONSGML v1.0//EN
CALSCALE:GREGORIAN
METHOD:PUBLISH
X-WR-CALNAME:Tapahtumakalenteri
X-ORIGINAL-URL:https://kalenteri.niemikoti.fi/en/
X-WR-CALDESC:Events for Tapahtumakalenteri
REFRESH-INTERVAL;VALUE=DURATION:PT1H
X-Robots-Tag:noindex
X-PUBLISHED-TTL:PT1H
BEGIN:VTIMEZONE
TZID:Europe/Helsinki
BEGIN:DAYLIGHT
TZOFFSETFROM:+0200
TZOFFSETTO:+0300
TZNAME:EEST
DTSTART:20220327T010000
END:DAYLIGHT
BEGIN:STANDARD
TZOFFSETFROM:+0300
TZOFFSETTO:+0200
TZNAME:EET
DTSTART:20221030T010000
END:STANDARD
BEGIN:DAYLIGHT
TZOFFSETFROM:+0200
TZOFFSETTO:+0300
TZNAME:EEST
DTSTART:20230326T010000
END:DAYLIGHT
BEGIN:STANDARD
TZOFFSETFROM:+0300
TZOFFSETTO:+0200
TZNAME:EET
DTSTART:20231029T010000
END:STANDARD
BEGIN:DAYLIGHT
TZOFFSETFROM:+0200
TZOFFSETTO:+0300
TZNAME:EEST
DTSTART:20240331T010000
END:DAYLIGHT
BEGIN:STANDARD
TZOFFSETFROM:+0300
TZOFFSETTO:+0200
TZNAME:EET
DTSTART:20241027T010000
END:STANDARD
END:VTIMEZONE
BEGIN:VEVENT
DTSTART;TZID=Europe/Helsinki:20230501T000000
DTEND;TZID=Europe/Helsinki:20230531T235900
DTSTAMP:20260421T205342
CREATED:20230505T094853Z
LAST-MODIFIED:20230529T083307Z
UID:10000313-1682899200-1685577540@kalenteri.niemikoti.fi
SUMMARY:Valokuvauskilpailu 2023 “Yhdessä”
DESCRIPTION:Niemikotisäätiö viettää 40-vuotisjuhlaansa tänä vuonna\, teema on “yhdessä”. Se on myös toukokuisen valokuvauskilpailumme aihe. Teemaa voi käsitellä monesta näkökulmasta\, esimerkiksi:\nMitä käsite “yhdessä” merkitsee sinulle? Mikä sen vastakohta on\, yksinkö? Mikä saa ihmiset\, eläimet\, kasvit kerääntymään yhteen ja ehkä jopa pysymään yhdessä? Onko yhdessä hyvä\, saako siitä voimaa?\nKilpailu kestää toukokuun\, osallistu!\nVoittaja julkistetaan Malmin kesäjuhlilla 6.6.2023.
URL:https://kalenteri.niemikoti.fi/en/tapahtuma/valokuvauskilpailu-2023-yhdessa/
ATTACH;FMTTYPE=image/jpeg:https://kalenteri.niemikoti.fi/wp-content/uploads/2023/05/AdobeStock_111380152-scaled-1.jpeg
END:VEVENT
BEGIN:VEVENT
DTSTART;TZID=Europe/Helsinki:20230523T120000
DTEND;TZID=Europe/Helsinki:20230523T160000
DTSTAMP:20260421T205342
CREATED:20230510T052912Z
LAST-MODIFIED:20230517T113929Z
UID:10000314-1684843200-1684857600@kalenteri.niemikoti.fi
SUMMARY:Villa Borgiksen kevättalkoot klo 12-16
DESCRIPTION:Villa Borgiksen kevättalkoot kaikille Niemikotisäätiön palvelunkäyttäjille ja työntekijöille tiistaina 23.5. kello 12-16. Kesäkukkien istutusta ym. mukavia pihatöitä yhdessä! Osallistujille tarjolla makkaraa ja mehua + kahvia \nTERVETULOA MUKAAN!\nOsoite. Linnavuorentie 13\, Itiksestä bussit 97\, 831\, 841\, 842\, 843 > Linnanherrantien pysäkki \nIlmoittautuminen 19.5. mennessä villaborgis@niemikotisäätiö.fi tai 0400-560 176 (Ulla) / 050-414 3138 (Virve)\n 
URL:https://kalenteri.niemikoti.fi/en/tapahtuma/villa-borgiksen-kevattalkoot/
LOCATION:Toimintakeskus Villa Borgis\, Linnavuorentie 13\, Helsinki\, 00950\, Finland
CATEGORIES:Päivätoiminta,Toimintakeskus Villa Borgis
ATTACH;FMTTYPE=image/jpeg:https://kalenteri.niemikoti.fi/wp-content/uploads/2023/05/Picture1.jpg
END:VEVENT
BEGIN:VEVENT
DTSTART;TZID=Europe/Helsinki:20230526T090000
DTEND;TZID=Europe/Helsinki:20230526T130000
DTSTAMP:20260421T205342
CREATED:20230517T045247Z
LAST-MODIFIED:20230522T122756Z
UID:10000320-1685091600-1685106000@kalenteri.niemikoti.fi
SUMMARY:Mieli Töihin -valmennusyksikön avoimet ovet 26.5. klo 9–13
DESCRIPTION:Tervetuloa tutustumaan Mieli Töihin -valmennusyksikköön Länsi-Pasilan vanhalle paloasemalle\, Maistraatinkatu 6. \nMeillä voit tutustua mm. \n\n\n3D-grafiikan tekemiseen\n3D-tulostamiseen\nVirtuaalilasien pelikäyttöön\nMuihin tietotekniikkapalveluihin
URL:https://kalenteri.niemikoti.fi/en/tapahtuma/mieli-toihin-valmennusyksikon-avoimet-ovet-26-5-klo-9-13/
LOCATION:Mieli Töihin -valmennus\, Maistraatinkatu 6\, Helsinki\, 00240\, Finland
CATEGORIES:Mieli Töihin -valmennus
ATTACH;FMTTYPE=image/png:https://kalenteri.niemikoti.fi/wp-content/uploads/2023/05/image001.png
END:VEVENT
BEGIN:VEVENT
DTSTART;TZID=Europe/Helsinki:20230526T100000
DTEND;TZID=Europe/Helsinki:20230526T110000
DTSTAMP:20260421T205342
CREATED:20230427T055304Z
LAST-MODIFIED:20240513T053309Z
UID:10000284-1685095200-1685098800@kalenteri.niemikoti.fi
SUMMARY:Aamujooga Villa Borgiksessa
DESCRIPTION:8 ensimmäisenä paikalle tullutta mahtuu mukaan ryhmään.
URL:https://kalenteri.niemikoti.fi/en/tapahtuma/aamujooga-villa-borgiksessa/2023-05-26/
LOCATION:Toimintakeskus Villa Borgis\, Linnavuorentie 13\, Helsinki\, 00950\, Finland
CATEGORIES:Päivätoiminta,Toimintakeskus Villa Borgis
END:VEVENT
BEGIN:VEVENT
DTSTART;TZID=Europe/Helsinki:20230526T100000
DTEND;TZID=Europe/Helsinki:20230526T120000
DTSTAMP:20260421T205342
CREATED:20230427T052306Z
LAST-MODIFIED:20230608T031053Z
UID:10000292-1685095200-1685102400@kalenteri.niemikoti.fi
SUMMARY:Perjantaipuuro & pingistä
DESCRIPTION:Viikonloppu käyntiin puuron & pingiksen voimalla! Elviksestä löytyy pingispöytä mailoineen ja se on käytössä aina perjantaiaamuisin.
URL:https://kalenteri.niemikoti.fi/en/tapahtuma/perjantaipuuro-pingista/2023-05-26/
LOCATION:Kulttuuripaja ELVIS\, Lautatarhankatu 4\, Helsinki\, 00580\, Finland
CATEGORIES:Kulttuuripaja ELVIS,Päivätoiminta
END:VEVENT
BEGIN:VEVENT
DTSTART;TZID=Europe/Helsinki:20230526T103000
DTEND;TZID=Europe/Helsinki:20230526T111500
DTSTAMP:20260421T205342
CREATED:20230427T053444Z
LAST-MODIFIED:20230606T044728Z
UID:10000014-1685097000-1685099700@kalenteri.niemikoti.fi
SUMMARY:Ajan tasalla -ryhmä
DESCRIPTION:Ajankohtaista keskustelua\, tietovisailua\, musiikin kuuntelua ym. perjantaikävijöiden toiveiden mukaan Malmin päivätoimintakeskuksessa.
URL:https://kalenteri.niemikoti.fi/en/tapahtuma/ajan-tasalla-ryhma/2023-05-26/
LOCATION:Malmin päivätoimintakeskus\, Vanha Helsingintie 9\, Helsinki\, 00700\, Finland
CATEGORIES:Malmin päivätoimintakeskus,Päivätoiminta
END:VEVENT
BEGIN:VEVENT
DTSTART;TZID=Europe/Helsinki:20230526T110000
DTEND;TZID=Europe/Helsinki:20230526T130000
DTSTAMP:20260421T205342
CREATED:20230427T060640Z
LAST-MODIFIED:20240513T053346Z
UID:10000301-1685098800-1685106000@kalenteri.niemikoti.fi
SUMMARY:Perjantaihyggeily
DESCRIPTION:Villasukat jalkaan\, maailman murheet hetkeksi syrjään ja olo mukavaksi teekupposen äärellä.\nTule rupattelemaan muiden kanssa\, lukemaan lehtiä tai vaikkapa tekemään valmiiksi keskeneräisiä projektejasi.\nTarjolla kahvit /teet ja keksit 1 €/pvä.
URL:https://kalenteri.niemikoti.fi/en/tapahtuma/perjantaihyggeily/2023-05-26/
LOCATION:Toimintakeskus Villa Borgis\, Linnavuorentie 13\, Helsinki\, 00950\, Finland
CATEGORIES:Päivätoiminta,Toimintakeskus Villa Borgis
END:VEVENT
BEGIN:VEVENT
DTSTART;TZID=Europe/Helsinki:20230526T123000
DTEND;TZID=Europe/Helsinki:20230526T141500
DTSTAMP:20260421T205342
CREATED:20230427T054406Z
LAST-MODIFIED:20230606T044918Z
UID:10000275-1685104200-1685110500@kalenteri.niemikoti.fi
SUMMARY:Uintiryhmä
DESCRIPTION:Omatoiminen liikuntaryhmä Malmin uimahallille. Kysy lisää ohjaajilta.
URL:https://kalenteri.niemikoti.fi/en/tapahtuma/uintiryhma/2023-05-26/
LOCATION:Malmin päivätoimintakeskus\, Vanha Helsingintie 9\, Helsinki\, 00700\, Finland
CATEGORIES:Malmin päivätoimintakeskus,Päivätoiminta
END:VEVENT
BEGIN:VEVENT
DTSTART;TZID=Europe/Helsinki:20230531T090000
DTEND;TZID=Europe/Helsinki:20230531T094500
DTSTAMP:20260421T205342
CREATED:20230531T083840Z
LAST-MODIFIED:20240205T125147Z
UID:10000518-1685523600-1685526300@kalenteri.niemikoti.fi
SUMMARY:Yhteisöpäivän aamiainen
DESCRIPTION:Aamupala yhteisöpäivään osallistuville (maksullinen).
URL:https://kalenteri.niemikoti.fi/en/tapahtuma/yhteisopaivan-aamiainen-2/2023-05-31/
LOCATION:Toimintakeskus Villa Borgis\, Linnavuorentie 13\, Helsinki\, 00950\, Finland
CATEGORIES:Toimintakeskus Villa Borgis
END:VEVENT
BEGIN:VEVENT
DTSTART;TZID=Europe/Helsinki:20230531T103000
DTEND;TZID=Europe/Helsinki:20230531T113000
DTSTAMP:20260421T205342
CREATED:20230531T134609Z
LAST-MODIFIED:20230629T091353Z
UID:10001177-1685529000-1685532600@kalenteri.niemikoti.fi
SUMMARY:Sulkakynät -kirjoittajaryhmä
DESCRIPTION:Luovaa kirjoittamista eri tekniikoin\, ilmoittaudu.
URL:https://kalenteri.niemikoti.fi/en/tapahtuma/sulkakynat-kirjoittajaryhma/2023-05-31/
LOCATION:Toimintakeskus Villa Borgis\, Linnavuorentie 13\, Helsinki\, 00950\, Finland
CATEGORIES:Toimintakeskus Villa Borgis
END:VEVENT
BEGIN:VEVENT
DTSTART;TZID=Europe/Helsinki:20230531T130000
DTEND;TZID=Europe/Helsinki:20230531T150000
DTSTAMP:20260421T205342
CREATED:20230531T135008Z
LAST-MODIFIED:20230822T123457Z
UID:10001098-1685538000-1685545200@kalenteri.niemikoti.fi
SUMMARY:Viherpeukalot
DESCRIPTION:Luontolähtöistä toimintaa sisällä ja ulkona. Mm. kasvien kasvatusta\, pihatöitä ja puutarhavierailuja.
URL:https://kalenteri.niemikoti.fi/en/tapahtuma/viherpeukalot/2023-05-31/
LOCATION:Toimintakeskus Villa Borgis\, Linnavuorentie 13\, Helsinki\, 00950\, Finland
CATEGORIES:Toimintakeskus Villa Borgis
END:VEVENT
BEGIN:VEVENT
DTSTART;TZID=Europe/Helsinki:20230601T093000
DTEND;TZID=Europe/Helsinki:20230601T103000
DTSTAMP:20260421T205342
CREATED:20230531T140008Z
LAST-MODIFIED:20230731T073750Z
UID:10001116-1685611800-1685615400@kalenteri.niemikoti.fi
SUMMARY:Kädentaitoja
DESCRIPTION:Kädentaitoryhmä. Vanhojen puutarhakalusteiden kunnostusta 1.6.-22.6.2023. Ilmoittaudu.
URL:https://kalenteri.niemikoti.fi/en/tapahtuma/kadentaitoja/2023-06-01/
LOCATION:Toimintakeskus Villa Borgis\, Linnavuorentie 13\, Helsinki\, 00950\, Finland
CATEGORIES:Toimintakeskus Villa Borgis
END:VEVENT
BEGIN:VEVENT
DTSTART;TZID=Europe/Helsinki:20230601T110000
DTEND;TZID=Europe/Helsinki:20230601T113000
DTSTAMP:20260421T205342
CREATED:20230531T131125Z
LAST-MODIFIED:20230607T094850Z
UID:10001026-1685617200-1685619000@kalenteri.niemikoti.fi
SUMMARY:Ukulelet ELVIKSESSÄ
DESCRIPTION:Tervetuloa opettelemaan ukulelen sointuja ja helppojen biisien säestämistä! Ota oma ukulele mukaan\, jos omistat sellaisen. ELVIKSESSÄ on muutama kappale soittimia.
URL:https://kalenteri.niemikoti.fi/en/tapahtuma/ukulelet-elviksessa/2023-06-01/
LOCATION:Kulttuuripaja ELVIS\, Lautatarhankatu 4\, Helsinki\, 00580\, Finland
CATEGORIES:Kulttuuripaja ELVIS
ATTACH;FMTTYPE=image/jpeg:https://kalenteri.niemikoti.fi/wp-content/uploads/2023/05/ukulele.jpg
END:VEVENT
BEGIN:VEVENT
DTSTART;TZID=Europe/Helsinki:20230601T111500
DTEND;TZID=Europe/Helsinki:20230601T140000
DTSTAMP:20260421T205342
CREATED:20230531T135552Z
LAST-MODIFIED:20230808T115834Z
UID:10001112-1685618100-1685628000@kalenteri.niemikoti.fi
SUMMARY:Kaupunkiviljely Malmilla
DESCRIPTION:Green City Farmin pellolla Malmilla. Lähtö Villa Borgiksesta klo 11.15\, ryhmä klo 12-14.
URL:https://kalenteri.niemikoti.fi/en/tapahtuma/kaupunkiviljely-malmilla/2023-06-01/
LOCATION:Toimintakeskus Villa Borgis\, Linnavuorentie 13\, Helsinki\, 00950\, Finland
CATEGORIES:Toimintakeskus Villa Borgis
END:VEVENT
BEGIN:VEVENT
DTSTART;TZID=Europe/Helsinki:20230601T120000
DTEND;TZID=Europe/Helsinki:20230601T130000
DTSTAMP:20260421T205342
CREATED:20230531T140401Z
LAST-MODIFIED:20230912T084405Z
UID:10001121-1685620800-1685624400@kalenteri.niemikoti.fi
SUMMARY:Kävelyryhmä
DESCRIPTION:Ulkoilua\, sauvakävelyä ja roskakävelyä Villa Borgiksen lähiympäristössä\, ilmoittaudu.
URL:https://kalenteri.niemikoti.fi/en/tapahtuma/kavelyryhma/2023-06-01/
LOCATION:Toimintakeskus Villa Borgis\, Linnavuorentie 13\, Helsinki\, 00950\, Finland
CATEGORIES:Toimintakeskus Villa Borgis
END:VEVENT
BEGIN:VEVENT
DTSTART;TZID=Europe/Helsinki:20230601T120000
DTEND;TZID=Europe/Helsinki:20230601T140000
DTSTAMP:20260421T205342
CREATED:20230531T134447Z
LAST-MODIFIED:20230607T094934Z
UID:10001085-1685620800-1685628000@kalenteri.niemikoti.fi
SUMMARY:Pingistä&piknikkiä Teurastamolla (sateella ELVIKSESSÄ)
DESCRIPTION:Omat eväät mukaan\, Elvis tarjoaa kaffet/teet\, grillausmahdollisuus.
URL:https://kalenteri.niemikoti.fi/en/tapahtuma/pingistapiknikkia-teurastamolla-sateella-elviksessa/2023-06-01/
LOCATION:Teurastamo\, Työpajankatu 2\, Helsinki\, 00580\, Finland
CATEGORIES:Kulttuuripaja ELVIS
END:VEVENT
BEGIN:VEVENT
DTSTART;TZID=Europe/Helsinki:20230601T173000
DTEND;TZID=Europe/Helsinki:20230601T183000
DTSTAMP:20260421T205342
CREATED:20230531T080034Z
LAST-MODIFIED:20230531T080034Z
UID:10000352-1685640600-1685644200@kalenteri.niemikoti.fi
SUMMARY:Kuvien ääni kohti toipumista -näyttelyn avajaiset
DESCRIPTION:Kulttuuripaja Elviksen kuuden nuoren valokuvanäyttelyn avajaiset Lapinlahden Lähteellä. Ohjelmassa mm. puheenvuoro toipumisorientaatiosta kokemusasiantuntija Heikki Krook\, musiikkia Kare Poutanen. Kahvitarjoilu.
URL:https://kalenteri.niemikoti.fi/en/tapahtuma/kuvien-aani-kohti-toipumista-nayttelyn-avajaiset/
LOCATION:Lapinlahden lähde\, Lapinlahdenpolku 8\, Helsinki\, 00180\, Finland
CATEGORIES:Kulttuuripaja ELVIS
ATTACH;FMTTYPE=image/jpeg:https://kalenteri.niemikoti.fi/wp-content/uploads/2023/05/Tervetuloanayttelyyn.jpg
END:VEVENT
BEGIN:VEVENT
DTSTART;TZID=Europe/Helsinki:20230602T100000
DTEND;TZID=Europe/Helsinki:20230602T110000
DTSTAMP:20260421T205342
CREATED:20230427T055304Z
LAST-MODIFIED:20240513T053309Z
UID:10000285-1685700000-1685703600@kalenteri.niemikoti.fi
SUMMARY:Aamujooga Villa Borgiksessa
DESCRIPTION:8 ensimmäisenä paikalle tullutta mahtuu mukaan ryhmään.
URL:https://kalenteri.niemikoti.fi/en/tapahtuma/aamujooga-villa-borgiksessa/2023-06-02/
LOCATION:Toimintakeskus Villa Borgis\, Linnavuorentie 13\, Helsinki\, 00950\, Finland
CATEGORIES:Päivätoiminta,Toimintakeskus Villa Borgis
END:VEVENT
BEGIN:VEVENT
DTSTART;TZID=Europe/Helsinki:20230602T100000
DTEND;TZID=Europe/Helsinki:20230602T120000
DTSTAMP:20260421T205342
CREATED:20230427T052306Z
LAST-MODIFIED:20230608T031053Z
UID:10000293-1685700000-1685707200@kalenteri.niemikoti.fi
SUMMARY:Perjantaipuuro & pingistä
DESCRIPTION:Viikonloppu käyntiin puuron & pingiksen voimalla! Elviksestä löytyy pingispöytä mailoineen ja se on käytössä aina perjantaiaamuisin.
URL:https://kalenteri.niemikoti.fi/en/tapahtuma/perjantaipuuro-pingista/2023-06-02/
LOCATION:Kulttuuripaja ELVIS\, Lautatarhankatu 4\, Helsinki\, 00580\, Finland
CATEGORIES:Kulttuuripaja ELVIS,Päivätoiminta
END:VEVENT
BEGIN:VEVENT
DTSTART;TZID=Europe/Helsinki:20230602T103000
DTEND;TZID=Europe/Helsinki:20230602T111500
DTSTAMP:20260421T205342
CREATED:20230427T053444Z
LAST-MODIFIED:20230606T044728Z
UID:10000015-1685701800-1685704500@kalenteri.niemikoti.fi
SUMMARY:Ajan tasalla -ryhmä
DESCRIPTION:Ajankohtaista keskustelua\, tietovisailua\, musiikin kuuntelua ym. perjantaikävijöiden toiveiden mukaan Malmin päivätoimintakeskuksessa.
URL:https://kalenteri.niemikoti.fi/en/tapahtuma/ajan-tasalla-ryhma/2023-06-02/
LOCATION:Malmin päivätoimintakeskus\, Vanha Helsingintie 9\, Helsinki\, 00700\, Finland
CATEGORIES:Malmin päivätoimintakeskus,Päivätoiminta
END:VEVENT
BEGIN:VEVENT
DTSTART;TZID=Europe/Helsinki:20230602T110000
DTEND;TZID=Europe/Helsinki:20230602T130000
DTSTAMP:20260421T205342
CREATED:20230427T060640Z
LAST-MODIFIED:20240513T053346Z
UID:10000302-1685703600-1685710800@kalenteri.niemikoti.fi
SUMMARY:Perjantaihyggeily
DESCRIPTION:Villasukat jalkaan\, maailman murheet hetkeksi syrjään ja olo mukavaksi teekupposen äärellä.\nTule rupattelemaan muiden kanssa\, lukemaan lehtiä tai vaikkapa tekemään valmiiksi keskeneräisiä projektejasi.\nTarjolla kahvit /teet ja keksit 1 €/pvä.
URL:https://kalenteri.niemikoti.fi/en/tapahtuma/perjantaihyggeily/2023-06-02/
LOCATION:Toimintakeskus Villa Borgis\, Linnavuorentie 13\, Helsinki\, 00950\, Finland
CATEGORIES:Päivätoiminta,Toimintakeskus Villa Borgis
END:VEVENT
BEGIN:VEVENT
DTSTART;TZID=Europe/Helsinki:20230602T110000
DTEND;TZID=Europe/Helsinki:20230602T140000
DTSTAMP:20260421T205342
CREATED:20230601T111611Z
LAST-MODIFIED:20230601T111611Z
UID:10001139-1685703600-1685714400@kalenteri.niemikoti.fi
SUMMARY:Retki Alppiruusupuistoon Haagaan
DESCRIPTION:Kulttuuripaja ELVIS tekee retken Haagan Alppiruusupuistoon\, jossa pääsee näkemään monien alppiruusujen ja atsaleojen kauniit kukinnat. Lähtö ELVIKSESTÄ klo 11. Sään mukainen pukeutuminen.
URL:https://kalenteri.niemikoti.fi/en/tapahtuma/retki-alppiruusupuistoon-haagaan/
LOCATION:Kulttuuripaja ELVIS\, Lautatarhankatu 4\, Helsinki\, 00580\, Finland
CATEGORIES:Kulttuuripaja ELVIS
ATTACH;FMTTYPE=image/jpeg:https://kalenteri.niemikoti.fi/wp-content/uploads/2023/06/Alppiruusupuisto-1.jpg
END:VEVENT
BEGIN:VEVENT
DTSTART;TZID=Europe/Helsinki:20230602T123000
DTEND;TZID=Europe/Helsinki:20230602T141500
DTSTAMP:20260421T205342
CREATED:20230427T054406Z
LAST-MODIFIED:20230606T044918Z
UID:10000276-1685709000-1685715300@kalenteri.niemikoti.fi
SUMMARY:Uintiryhmä
DESCRIPTION:Omatoiminen liikuntaryhmä Malmin uimahallille. Kysy lisää ohjaajilta.
URL:https://kalenteri.niemikoti.fi/en/tapahtuma/uintiryhma/2023-06-02/
LOCATION:Malmin päivätoimintakeskus\, Vanha Helsingintie 9\, Helsinki\, 00700\, Finland
CATEGORIES:Malmin päivätoimintakeskus,Päivätoiminta
END:VEVENT
BEGIN:VEVENT
DTSTART;TZID=Europe/Helsinki:20230605T090000
DTEND;TZID=Europe/Helsinki:20230605T094500
DTSTAMP:20260421T205342
CREATED:20230531T083840Z
LAST-MODIFIED:20240205T125147Z
UID:10000519-1685955600-1685958300@kalenteri.niemikoti.fi
SUMMARY:Yhteisöpäivän aamiainen
DESCRIPTION:Aamupala yhteisöpäivään osallistuville (maksullinen).
URL:https://kalenteri.niemikoti.fi/en/tapahtuma/yhteisopaivan-aamiainen-2/2023-06-05/
LOCATION:Toimintakeskus Villa Borgis\, Linnavuorentie 13\, Helsinki\, 00950\, Finland
CATEGORIES:Toimintakeskus Villa Borgis
END:VEVENT
BEGIN:VEVENT
DTSTART;TZID=Europe/Helsinki:20230605T090000
DTEND;TZID=Europe/Helsinki:20230605T150000
DTSTAMP:20260421T205342
CREATED:20230531T125715Z
LAST-MODIFIED:20230811T074137Z
UID:10000861-1685955600-1685977200@kalenteri.niemikoti.fi
SUMMARY:Yhteisöpäivä klo 9-15
DESCRIPTION:Yhteisöpäivä\, Villa Borgis auki klo 9-15\, täydentyvä ryhmä\, ilmoittaudu.
URL:https://kalenteri.niemikoti.fi/en/tapahtuma/yhteisopaiva-klo-9-15/2023-06-05/
LOCATION:Toimintakeskus Villa Borgis\, Linnavuorentie 13\, Helsinki\, 00950\, Finland
CATEGORIES:Toimintakeskus Villa Borgis
END:VEVENT
BEGIN:VEVENT
DTSTART;TZID=Europe/Helsinki:20230605T100000
DTEND;TZID=Europe/Helsinki:20230605T103000
DTSTAMP:20260421T205342
CREATED:20230531T081915Z
LAST-MODIFIED:20240205T125027Z
UID:10000353-1685959200-1685961000@kalenteri.niemikoti.fi
SUMMARY:Yhteisöpäivän aamukokous
DESCRIPTION:Yhteisöpäivän aamukokouksessa käydään läpi päivän ohjelmaa\, tapahtumia\, yhteisötehtäviä ja muita ajankohtaisia asioita.
URL:https://kalenteri.niemikoti.fi/en/tapahtuma/yhteisopaivan-aamukokous/2023-06-05/
LOCATION:Toimintakeskus Villa Borgis\, Linnavuorentie 13\, Helsinki\, 00950\, Finland
CATEGORIES:Toimintakeskus Villa Borgis
END:VEVENT
BEGIN:VEVENT
DTSTART;TZID=Europe/Helsinki:20230605T103000
DTEND;TZID=Europe/Helsinki:20230605T120000
DTSTAMP:20260421T205342
CREATED:20230531T084700Z
LAST-MODIFIED:20240205T125100Z
UID:10000684-1685961000-1685966400@kalenteri.niemikoti.fi
SUMMARY:Talon töitä
DESCRIPTION:Yhteisöpäivän tehtäviä\, esim. piha-/puutarhatyöt\, sisustus\, siivous\, yhteisökokous.
URL:https://kalenteri.niemikoti.fi/en/tapahtuma/talon-toita/2023-06-05/
LOCATION:Toimintakeskus Villa Borgis\, Linnavuorentie 13\, Helsinki\, 00950\, Finland
CATEGORIES:Toimintakeskus Villa Borgis
END:VEVENT
BEGIN:VEVENT
DTSTART;TZID=Europe/Helsinki:20230605T110000
DTEND;TZID=Europe/Helsinki:20230605T150000
DTSTAMP:20260421T205342
CREATED:20230601T113930Z
LAST-MODIFIED:20230601T113930Z
UID:10001140-1685962800-1685977200@kalenteri.niemikoti.fi
SUMMARY:Retki Ilonpilke-kesätapahtumaan Lapinlahden lähteelle
DESCRIPTION:Kulttuuripaja ELVIS tekee retken Ilonpilke kesätapahtumaan Lapinlahden lähteelle. Lähtö ELVIKSESTÄ klo 11. Tapahtumassa liikunnallista ja rentoa yhteistä tekemistä\, esityksiä sekä mahdollisuus tutustua eri mielenterveysjärjestöjen toimintaan. Tarjolla kahvia\, teetä\, mehua ja pullaa. Tervetuloa mukaan!
URL:https://kalenteri.niemikoti.fi/en/tapahtuma/retki-ilonpilke-kesatapahtumaan-lapinlahden-lahteelle/
LOCATION:Kulttuuripaja ELVIS\, Lautatarhankatu 4\, Helsinki\, 00580\, Finland
CATEGORIES:Kulttuuripaja ELVIS
ATTACH;FMTTYPE=image/png:https://kalenteri.niemikoti.fi/wp-content/uploads/2023/06/Ilonpilke-FB.png
END:VEVENT
BEGIN:VEVENT
DTSTART;TZID=Europe/Helsinki:20230605T120000
DTEND;TZID=Europe/Helsinki:20230605T123000
DTSTAMP:20260421T205342
CREATED:20230531T112750Z
LAST-MODIFIED:20250321T104552Z
UID:10000740-1685966400-1685968200@kalenteri.niemikoti.fi
SUMMARY:Yhteisöpäivän lounas
DESCRIPTION:Lounas yhteisöpäivään osallistuville\, maksullinen.
URL:https://kalenteri.niemikoti.fi/en/tapahtuma/yhteisopaivan-lounas/2023-06-05/
LOCATION:Toimintakeskus Villa Borgis\, Linnavuorentie 13\, Helsinki\, 00950\, Finland
CATEGORIES:Toimintakeskus Villa Borgis
END:VEVENT
BEGIN:VEVENT
DTSTART;TZID=Europe/Helsinki:20230605T120000
DTEND;TZID=Europe/Helsinki:20230605T150000
DTSTAMP:20260421T205342
CREATED:20230529T080133Z
LAST-MODIFIED:20230529T080504Z
UID:10000341-1685966400-1685977200@kalenteri.niemikoti.fi
SUMMARY:Ilonpilke-kesätapahtuma 2023
DESCRIPTION:Mitä luvassa?\n\nToista kertaa järjestettävä rento ja iloinen tapahtuma\nMaksutonta ja hauskaa tekemistä ja yhdessä oloa\nKaikille sopivia erilaisia toimintapisteitä\nMielenterveysjärjestöihin tutustumista\nKahvia\, teetä\, mehua ja pullaa (70:lle ensimmäiselle)\nPorttiteatterin esitys\n\nTapahtumassa mukana\n\nMajakka\nKarvinen\nKlubitalot\nPro Lapinlahti\nLilinkotisäätiö\nNieikotisäätiö\nTaiteen Sulattamo\nKulttuuripaja K-35\nKulttuuripaja Kupla\nKaupungin liikuntapalvelut\n\nLisätiedot kokemusasiantuntija Laura Nuutinen\, puh. 040 768 3328\, laura92nuutinen@gmail.com \nLämpimästi tervetuloa yksin tai yhdessä! Ei tarvitse ilmoittautua!
URL:https://kalenteri.niemikoti.fi/en/tapahtuma/ilonpilke-kesatapahtuma-2023/
LOCATION:Lapinlahden lähde\, Lapinlahdenpolku 8\, Helsinki\, 00180\, Finland
CATEGORIES:Asumispalvelut,Haagan toimintatalo,Jälleenvuokraus,Kesäharjun toimintakeskus,Kokemusasiantuntija- ja vertaistoiminta,Kulttuuripaja ELVIS,Malmin päivätoimintakeskus,Mieli Töihin -valmennus,Omaisille ja läheisille,Ompelimo & Olohuone,Päivätoiminta,Toimintakeskus Villa Borgis,Työ- ja valmennustoiminta,Valtti Valmennus
ATTACH;FMTTYPE=image/png:https://kalenteri.niemikoti.fi/wp-content/uploads/2023/05/Screenshot-2023-05-29-at-10.56.25.png
END:VEVENT
END:VCALENDAR