BEGIN:VCALENDAR
VERSION:2.0
PRODID:-//Tapahtumakalenteri - ECPv6.15.18//NONSGML v1.0//EN
CALSCALE:GREGORIAN
METHOD:PUBLISH
X-WR-CALNAME:Tapahtumakalenteri
X-ORIGINAL-URL:https://kalenteri.niemikoti.fi/en/
X-WR-CALDESC:Events for Tapahtumakalenteri
REFRESH-INTERVAL;VALUE=DURATION:PT1H
X-Robots-Tag:noindex
X-PUBLISHED-TTL:PT1H
BEGIN:VTIMEZONE
TZID:Europe/Helsinki
BEGIN:DAYLIGHT
TZOFFSETFROM:+0200
TZOFFSETTO:+0300
TZNAME:EEST
DTSTART:20250330T010000
END:DAYLIGHT
BEGIN:STANDARD
TZOFFSETFROM:+0300
TZOFFSETTO:+0200
TZNAME:EET
DTSTART:20251026T010000
END:STANDARD
BEGIN:DAYLIGHT
TZOFFSETFROM:+0200
TZOFFSETTO:+0300
TZNAME:EEST
DTSTART:20260329T010000
END:DAYLIGHT
BEGIN:STANDARD
TZOFFSETFROM:+0300
TZOFFSETTO:+0200
TZNAME:EET
DTSTART:20261025T010000
END:STANDARD
BEGIN:DAYLIGHT
TZOFFSETFROM:+0200
TZOFFSETTO:+0300
TZNAME:EEST
DTSTART:20270328T010000
END:DAYLIGHT
BEGIN:STANDARD
TZOFFSETFROM:+0300
TZOFFSETTO:+0200
TZNAME:EET
DTSTART:20271031T010000
END:STANDARD
END:VTIMEZONE
BEGIN:VEVENT
DTSTART;TZID=Europe/Helsinki:20261001T140000
DTEND;TZID=Europe/Helsinki:20261119T150000
DTSTAMP:20260423T190117
CREATED:20260421T101538Z
LAST-MODIFIED:20260422T174148Z
UID:10037550-1790863200-1795100400@kalenteri.niemikoti.fi
SUMMARY:Kaupunkiviljely Malmilla
DESCRIPTION:Kaupunkiviljelyryhmä Malmilla. Ilmoittaudu.
URL:https://kalenteri.niemikoti.fi/en/tapahtuma/kaupunkiviljely-malmilla-8/2026-10-01/
LOCATION:Green City Farm c/o Perho Liiketalousopisto\, Vanha Helsingintie 13\, Helsinki\, 00700
CATEGORIES:Toimintakeskus Villa Borgis
END:VEVENT
BEGIN:VEVENT
DTSTART;TZID=Europe/Helsinki:20261008T140000
DTEND;TZID=Europe/Helsinki:20261126T150000
DTSTAMP:20260423T190117
CREATED:20260421T101538Z
LAST-MODIFIED:20260422T174148Z
UID:10037551-1791468000-1795705200@kalenteri.niemikoti.fi
SUMMARY:Kaupunkiviljely Malmilla
DESCRIPTION:Kaupunkiviljelyryhmä Malmilla. Ilmoittaudu.
URL:https://kalenteri.niemikoti.fi/en/tapahtuma/kaupunkiviljely-malmilla-8/2026-10-08/
LOCATION:Green City Farm c/o Perho Liiketalousopisto\, Vanha Helsingintie 13\, Helsinki\, 00700
CATEGORIES:Toimintakeskus Villa Borgis
END:VEVENT
BEGIN:VEVENT
DTSTART;TZID=Europe/Helsinki:20261015T140000
DTEND;TZID=Europe/Helsinki:20261203T150000
DTSTAMP:20260423T190117
CREATED:20260421T101538Z
LAST-MODIFIED:20260422T174148Z
UID:10037552-1792072800-1796310000@kalenteri.niemikoti.fi
SUMMARY:Kaupunkiviljely Malmilla
DESCRIPTION:Kaupunkiviljelyryhmä Malmilla. Ilmoittaudu.
URL:https://kalenteri.niemikoti.fi/en/tapahtuma/kaupunkiviljely-malmilla-8/2026-10-15/
LOCATION:Green City Farm c/o Perho Liiketalousopisto\, Vanha Helsingintie 13\, Helsinki\, 00700
CATEGORIES:Toimintakeskus Villa Borgis
END:VEVENT
BEGIN:VEVENT
DTSTART;TZID=Europe/Helsinki:20261022T140000
DTEND;TZID=Europe/Helsinki:20261210T150000
DTSTAMP:20260423T190117
CREATED:20260421T101538Z
LAST-MODIFIED:20260422T174148Z
UID:10037553-1792677600-1796914800@kalenteri.niemikoti.fi
SUMMARY:Kaupunkiviljely Malmilla
DESCRIPTION:Kaupunkiviljelyryhmä Malmilla. Ilmoittaudu.
URL:https://kalenteri.niemikoti.fi/en/tapahtuma/kaupunkiviljely-malmilla-8/2026-10-22/
LOCATION:Green City Farm c/o Perho Liiketalousopisto\, Vanha Helsingintie 13\, Helsinki\, 00700
CATEGORIES:Toimintakeskus Villa Borgis
END:VEVENT
BEGIN:VEVENT
DTSTART;TZID=Europe/Helsinki:20261029T140000
DTEND;TZID=Europe/Helsinki:20261217T160000
DTSTAMP:20260423T190117
CREATED:20260421T101538Z
LAST-MODIFIED:20260422T174148Z
UID:10037554-1793282400-1797523200@kalenteri.niemikoti.fi
SUMMARY:Kaupunkiviljely Malmilla
DESCRIPTION:Kaupunkiviljelyryhmä Malmilla. Ilmoittaudu.
URL:https://kalenteri.niemikoti.fi/en/tapahtuma/kaupunkiviljely-malmilla-8/2026-10-29/
LOCATION:Green City Farm c/o Perho Liiketalousopisto\, Vanha Helsingintie 13\, Helsinki\, 00700
CATEGORIES:Toimintakeskus Villa Borgis
END:VEVENT
BEGIN:VEVENT
DTSTART;TZID=Europe/Helsinki:20261102T130000
DTEND;TZID=Europe/Helsinki:20261116T140000
DTSTAMP:20260423T190117
CREATED:20260421T065648Z
LAST-MODIFIED:20260422T174426Z
UID:10037379-1793624400-1794837600@kalenteri.niemikoti.fi
SUMMARY:Akvarelli-unelmia
DESCRIPTION:Maalataan vesiväreillä.
URL:https://kalenteri.niemikoti.fi/en/tapahtuma/akvarelli-unelmia/2026-11-02/
LOCATION:Toimintakeskus Villa Borgis\, Linnavuorentie 13\, Helsinki\, 00950\, Finland
CATEGORIES:Toimintakeskus Villa Borgis
END:VEVENT
BEGIN:VEVENT
DTSTART;TZID=Europe/Helsinki:20261105T140000
DTEND;TZID=Europe/Helsinki:20261224T160000
DTSTAMP:20260423T190117
CREATED:20260421T101538Z
LAST-MODIFIED:20260422T174148Z
UID:10037555-1793887200-1798128000@kalenteri.niemikoti.fi
SUMMARY:Kaupunkiviljely Malmilla
DESCRIPTION:Kaupunkiviljelyryhmä Malmilla. Ilmoittaudu.
URL:https://kalenteri.niemikoti.fi/en/tapahtuma/kaupunkiviljely-malmilla-8/2026-11-05/
LOCATION:Green City Farm c/o Perho Liiketalousopisto\, Vanha Helsingintie 13\, Helsinki\, 00700
CATEGORIES:Toimintakeskus Villa Borgis
END:VEVENT
BEGIN:VEVENT
DTSTART;TZID=Europe/Helsinki:20261109T130000
DTEND;TZID=Europe/Helsinki:20261123T140000
DTSTAMP:20260423T190117
CREATED:20260421T065648Z
LAST-MODIFIED:20260422T174426Z
UID:10037380-1794229200-1795442400@kalenteri.niemikoti.fi
SUMMARY:Akvarelli-unelmia
DESCRIPTION:Maalataan vesiväreillä.
URL:https://kalenteri.niemikoti.fi/en/tapahtuma/akvarelli-unelmia/2026-11-09/
LOCATION:Toimintakeskus Villa Borgis\, Linnavuorentie 13\, Helsinki\, 00950\, Finland
CATEGORIES:Toimintakeskus Villa Borgis
END:VEVENT
BEGIN:VEVENT
DTSTART;TZID=Europe/Helsinki:20261112T140000
DTEND;TZID=Europe/Helsinki:20261231T160000
DTSTAMP:20260423T190117
CREATED:20260421T101538Z
LAST-MODIFIED:20260422T174148Z
UID:10037556-1794492000-1798732800@kalenteri.niemikoti.fi
SUMMARY:Kaupunkiviljely Malmilla
DESCRIPTION:Kaupunkiviljelyryhmä Malmilla. Ilmoittaudu.
URL:https://kalenteri.niemikoti.fi/en/tapahtuma/kaupunkiviljely-malmilla-8/2026-11-12/
LOCATION:Green City Farm c/o Perho Liiketalousopisto\, Vanha Helsingintie 13\, Helsinki\, 00700
CATEGORIES:Toimintakeskus Villa Borgis
END:VEVENT
BEGIN:VEVENT
DTSTART;TZID=Europe/Helsinki:20261113T090000
DTEND;TZID=Europe/Helsinki:20261113T100000
DTSTAMP:20260423T190117
CREATED:20260302T134800Z
LAST-MODIFIED:20260302T134800Z
UID:10034113-1794560400-1794564000@kalenteri.niemikoti.fi
SUMMARY:Yhteisön aamiainen Malmilla
DESCRIPTION:Aamiaisella puuroa\, muroja tai jogurttia vaihtelevasti sekä leipää päällisineen. Juomaksi tuoremehua sekä kahvia tai teetä. Hinta 1\,5 e.
URL:https://kalenteri.niemikoti.fi/en/tapahtuma/yhteison-aamiainen-malmilla/2026-11-13/
LOCATION:Malmin päivätoimintakeskus\, Vanha Helsingintie 9\, Helsinki\, 00700\, Finland
CATEGORIES:Malmin päivätoimintakeskus
END:VEVENT
BEGIN:VEVENT
DTSTART;TZID=Europe/Helsinki:20261113T110000
DTEND;TZID=Europe/Helsinki:20261113T120000
DTSTAMP:20260423T190117
CREATED:20260303T072331Z
LAST-MODIFIED:20260303T072331Z
UID:10036651-1794567600-1794571200@kalenteri.niemikoti.fi
SUMMARY:Yhteisön lounas Malmilla
DESCRIPTION:Lounas ja lounaskahvit. Ruokalista vaihtelee kuukausittain ja on nähtävillä Malmin päivätoimintakeskuksessa. Hinta 3\,5 euroa.
URL:https://kalenteri.niemikoti.fi/en/tapahtuma/yhteison-lounas-malmilla-2/2026-11-13/
LOCATION:Malmin päivätoimintakeskus\, Vanha Helsingintie 9\, Helsinki\, 00700\, Finland
CATEGORIES:Malmin päivätoimintakeskus
END:VEVENT
BEGIN:VEVENT
DTSTART;TZID=Europe/Helsinki:20261113T120000
DTEND;TZID=Europe/Helsinki:20261113T130000
DTSTAMP:20260423T190117
CREATED:20260112T134429Z
LAST-MODIFIED:20260303T073209Z
UID:10036389-1794571200-1794574800@kalenteri.niemikoti.fi
SUMMARY:Soittoryhmä Malmilla
DESCRIPTION:Tutustaan yhdessä pianon\, ukulelen ja kitaran soiton alkeisiin. Ryhmään mahtuu enintään 6 osallistujaa kerralla. Täydentyvä ryhmä\, ilmoittaudu mukaan!
URL:https://kalenteri.niemikoti.fi/en/tapahtuma/soittoryhma-malmilla/2026-11-13/
LOCATION:Malmin päivätoimintakeskus\, Vanha Helsingintie 9\, Helsinki\, 00700\, Finland
CATEGORIES:Malmin päivätoimintakeskus
END:VEVENT
BEGIN:VEVENT
DTSTART;TZID=Europe/Helsinki:20261116T090000
DTEND;TZID=Europe/Helsinki:20261116T100000
DTSTAMP:20260423T190117
CREATED:20260302T134800Z
LAST-MODIFIED:20260302T134800Z
UID:10034114-1794819600-1794823200@kalenteri.niemikoti.fi
SUMMARY:Yhteisön aamiainen Malmilla
DESCRIPTION:Aamiaisella puuroa\, muroja tai jogurttia vaihtelevasti sekä leipää päällisineen. Juomaksi tuoremehua sekä kahvia tai teetä. Hinta 1\,5 e.
URL:https://kalenteri.niemikoti.fi/en/tapahtuma/yhteison-aamiainen-malmilla/2026-11-16/
LOCATION:Malmin päivätoimintakeskus\, Vanha Helsingintie 9\, Helsinki\, 00700\, Finland
CATEGORIES:Malmin päivätoimintakeskus
END:VEVENT
BEGIN:VEVENT
DTSTART;TZID=Europe/Helsinki:20261116T100000
DTEND;TZID=Europe/Helsinki:20261116T103000
DTSTAMP:20260423T190117
CREATED:20260112T105633Z
LAST-MODIFIED:20260303T072458Z
UID:10028791-1794823200-1794825000@kalenteri.niemikoti.fi
SUMMARY:Aamukokous Malmilla
DESCRIPTION:Kokoonnutaan yhteen vaihtamaan kuulumisia ja keskustellaan päivän ohjelmasta.
URL:https://kalenteri.niemikoti.fi/en/tapahtuma/aamukokous-malmilla/2026-11-16/
LOCATION:Malmin päivätoimintakeskus\, Vanha Helsingintie 9\, Helsinki\, 00700\, Finland
CATEGORIES:Malmin päivätoimintakeskus
END:VEVENT
BEGIN:VEVENT
DTSTART;TZID=Europe/Helsinki:20261116T103000
DTEND;TZID=Europe/Helsinki:20261116T110000
DTSTAMP:20260423T190117
CREATED:20260112T111935Z
LAST-MODIFIED:20260410T061604Z
UID:10031101-1794825000-1794826800@kalenteri.niemikoti.fi
SUMMARY:Talon töitä Malmilla
DESCRIPTION:Pidetään yhdessä huolta yhteisistä tiloista ja tiluksista. Osallistua voi omien voimavarojen mukaan.
URL:https://kalenteri.niemikoti.fi/en/tapahtuma/talon-toita-7/2026-11-16/
LOCATION:Malmin päivätoimintakeskus\, Vanha Helsingintie 9\, Helsinki\, 00700\, Finland
CATEGORIES:Malmin päivätoimintakeskus
END:VEVENT
BEGIN:VEVENT
DTSTART;TZID=Europe/Helsinki:20261116T120000
DTEND;TZID=Europe/Helsinki:20261116T130000
DTSTAMP:20260423T190117
CREATED:20260302T135525Z
LAST-MODIFIED:20260303T072113Z
UID:10035158-1794830400-1794834000@kalenteri.niemikoti.fi
SUMMARY:Yhteisön lounas Malmilla
DESCRIPTION:Lounas ja lounaskahvit. Ruokalista vaihtelee kuukausittain ja on nähtävillä Malmin päivätoimintakeskuksessa. Hinta 3\,5 euroa.
URL:https://kalenteri.niemikoti.fi/en/tapahtuma/yhteison-lounas-malmilla/2026-11-16/
LOCATION:Malmin päivätoimintakeskus\, Vanha Helsingintie 9\, Helsinki\, 00700\, Finland
CATEGORIES:Malmin päivätoimintakeskus
END:VEVENT
BEGIN:VEVENT
DTSTART;TZID=Europe/Helsinki:20261116T130000
DTEND;TZID=Europe/Helsinki:20261130T140000
DTSTAMP:20260423T190117
CREATED:20260421T065648Z
LAST-MODIFIED:20260422T174426Z
UID:10037381-1794834000-1796047200@kalenteri.niemikoti.fi
SUMMARY:Akvarelli-unelmia
DESCRIPTION:Maalataan vesiväreillä.
URL:https://kalenteri.niemikoti.fi/en/tapahtuma/akvarelli-unelmia/2026-11-16/
LOCATION:Toimintakeskus Villa Borgis\, Linnavuorentie 13\, Helsinki\, 00950\, Finland
CATEGORIES:Toimintakeskus Villa Borgis
END:VEVENT
BEGIN:VEVENT
DTSTART;TZID=Europe/Helsinki:20261117T090000
DTEND;TZID=Europe/Helsinki:20261117T100000
DTSTAMP:20260423T190117
CREATED:20260302T134800Z
LAST-MODIFIED:20260302T134800Z
UID:10034115-1794906000-1794909600@kalenteri.niemikoti.fi
SUMMARY:Yhteisön aamiainen Malmilla
DESCRIPTION:Aamiaisella puuroa\, muroja tai jogurttia vaihtelevasti sekä leipää päällisineen. Juomaksi tuoremehua sekä kahvia tai teetä. Hinta 1\,5 e.
URL:https://kalenteri.niemikoti.fi/en/tapahtuma/yhteison-aamiainen-malmilla/2026-11-17/
LOCATION:Malmin päivätoimintakeskus\, Vanha Helsingintie 9\, Helsinki\, 00700\, Finland
CATEGORIES:Malmin päivätoimintakeskus
END:VEVENT
BEGIN:VEVENT
DTSTART;TZID=Europe/Helsinki:20261117T100000
DTEND;TZID=Europe/Helsinki:20261117T103000
DTSTAMP:20260423T190117
CREATED:20260112T105633Z
LAST-MODIFIED:20260303T072458Z
UID:10028792-1794909600-1794911400@kalenteri.niemikoti.fi
SUMMARY:Aamukokous Malmilla
DESCRIPTION:Kokoonnutaan yhteen vaihtamaan kuulumisia ja keskustellaan päivän ohjelmasta.
URL:https://kalenteri.niemikoti.fi/en/tapahtuma/aamukokous-malmilla/2026-11-17/
LOCATION:Malmin päivätoimintakeskus\, Vanha Helsingintie 9\, Helsinki\, 00700\, Finland
CATEGORIES:Malmin päivätoimintakeskus
END:VEVENT
BEGIN:VEVENT
DTSTART;TZID=Europe/Helsinki:20261117T103000
DTEND;TZID=Europe/Helsinki:20261117T110000
DTSTAMP:20260423T190117
CREATED:20260112T111935Z
LAST-MODIFIED:20260410T061604Z
UID:10031102-1794911400-1794913200@kalenteri.niemikoti.fi
SUMMARY:Talon töitä Malmilla
DESCRIPTION:Pidetään yhdessä huolta yhteisistä tiloista ja tiluksista. Osallistua voi omien voimavarojen mukaan.
URL:https://kalenteri.niemikoti.fi/en/tapahtuma/talon-toita-7/2026-11-17/
LOCATION:Malmin päivätoimintakeskus\, Vanha Helsingintie 9\, Helsinki\, 00700\, Finland
CATEGORIES:Malmin päivätoimintakeskus
END:VEVENT
BEGIN:VEVENT
DTSTART;TZID=Europe/Helsinki:20261117T110000
DTEND;TZID=Europe/Helsinki:20261117T120000
DTSTAMP:20260423T190117
CREATED:20260126T114459Z
LAST-MODIFIED:20260126T114459Z
UID:10032168-1794913200-1794916800@kalenteri.niemikoti.fi
SUMMARY:Luonto & liikunta -kävelyryhmä Malmilla
DESCRIPTION:Uusille tilaa\, ilmoittaudu mukaan! Kaksi ryhmää tarpeen mukaan\, tehdään sekä pidempi että lyhyempi kävelylenkki.
URL:https://kalenteri.niemikoti.fi/en/tapahtuma/luonto-liikunta-kavelyryhma-malmilla-3/2026-11-17/
LOCATION:Malmin päivätoimintakeskus\, Vanha Helsingintie 9\, Helsinki\, 00700\, Finland
CATEGORIES:Malmin päivätoimintakeskus
END:VEVENT
BEGIN:VEVENT
DTSTART;TZID=Europe/Helsinki:20261117T120000
DTEND;TZID=Europe/Helsinki:20261117T130000
DTSTAMP:20260423T190117
CREATED:20260302T135525Z
LAST-MODIFIED:20260303T072113Z
UID:10035159-1794916800-1794920400@kalenteri.niemikoti.fi
SUMMARY:Yhteisön lounas Malmilla
DESCRIPTION:Lounas ja lounaskahvit. Ruokalista vaihtelee kuukausittain ja on nähtävillä Malmin päivätoimintakeskuksessa. Hinta 3\,5 euroa.
URL:https://kalenteri.niemikoti.fi/en/tapahtuma/yhteison-lounas-malmilla/2026-11-17/
LOCATION:Malmin päivätoimintakeskus\, Vanha Helsingintie 9\, Helsinki\, 00700\, Finland
CATEGORIES:Malmin päivätoimintakeskus
END:VEVENT
BEGIN:VEVENT
DTSTART;TZID=Europe/Helsinki:20261117T130000
DTEND;TZID=Europe/Helsinki:20261117T140000
DTSTAMP:20260423T190117
CREATED:20260421T092211Z
LAST-MODIFIED:20260421T092445Z
UID:10037436-1794920400-1794924000@kalenteri.niemikoti.fi
SUMMARY:Yhteisön ohjelmaa
DESCRIPTION:Yhteisön ohjelmaa; musiikkia\, lautapelejä\, ulkoilua yms.
URL:https://kalenteri.niemikoti.fi/en/tapahtuma/yhteislaulut-2/2026-11-17/
LOCATION:Toimintakeskus Villa Borgis\, Linnavuorentie 13\, Helsinki\, 00950\, Finland
CATEGORIES:Toimintakeskus Villa Borgis
END:VEVENT
BEGIN:VEVENT
DTSTART;TZID=Europe/Helsinki:20261117T130000
DTEND;TZID=Europe/Helsinki:20261117T143000
DTSTAMP:20260423T190117
CREATED:20260112T114328Z
LAST-MODIFIED:20260303T072740Z
UID:10027076-1794920400-1794925800@kalenteri.niemikoti.fi
SUMMARY:DJ-paja Malmilla
DESCRIPTION:Niemikotisäätiöläisille avoin yhteisoppimiseen perustuva DJ-paja. Omaa musiikkia saa tuoda mukaan muistitikuilla. Enintään 6 osallistujaa/kerta. Ilmoittaudu mukaan! \nHuom! Ei ryhmää 3.2.
URL:https://kalenteri.niemikoti.fi/en/tapahtuma/dj-paja-malmilla/2026-11-17/
LOCATION:Malmin päivätoimintakeskus\, Vanha Helsingintie 9\, Helsinki\, 00700\, Finland
CATEGORIES:Malmin päivätoimintakeskus
END:VEVENT
BEGIN:VEVENT
DTSTART;TZID=Europe/Helsinki:20261117T130000
DTEND;TZID=Europe/Helsinki:20261117T153000
DTSTAMP:20260423T190117
CREATED:20260112T134809Z
LAST-MODIFIED:20260410T070218Z
UID:10037121-1794920400-1794929400@kalenteri.niemikoti.fi
SUMMARY:JV:n bändi Malmilla
DESCRIPTION:Bändi harjoittelee oman ohjaajan kanssa.
URL:https://kalenteri.niemikoti.fi/en/tapahtuma/jvn-bandi-malmilla/2026-11-17/
LOCATION:Malmin päivätoimintakeskus\, Vanha Helsingintie 9\, Helsinki\, 00700\, Finland
CATEGORIES:Malmin päivätoimintakeskus
END:VEVENT
BEGIN:VEVENT
DTSTART;TZID=Europe/Helsinki:20261118T090000
DTEND;TZID=Europe/Helsinki:20261118T100000
DTSTAMP:20260423T190117
CREATED:20260302T134800Z
LAST-MODIFIED:20260302T134800Z
UID:10034116-1794992400-1794996000@kalenteri.niemikoti.fi
SUMMARY:Yhteisön aamiainen Malmilla
DESCRIPTION:Aamiaisella puuroa\, muroja tai jogurttia vaihtelevasti sekä leipää päällisineen. Juomaksi tuoremehua sekä kahvia tai teetä. Hinta 1\,5 e.
URL:https://kalenteri.niemikoti.fi/en/tapahtuma/yhteison-aamiainen-malmilla/2026-11-18/
LOCATION:Malmin päivätoimintakeskus\, Vanha Helsingintie 9\, Helsinki\, 00700\, Finland
CATEGORIES:Malmin päivätoimintakeskus
END:VEVENT
BEGIN:VEVENT
DTSTART;TZID=Europe/Helsinki:20261118T100000
DTEND;TZID=Europe/Helsinki:20261118T103000
DTSTAMP:20260423T190117
CREATED:20260112T105633Z
LAST-MODIFIED:20260303T072458Z
UID:10028793-1794996000-1794997800@kalenteri.niemikoti.fi
SUMMARY:Aamukokous Malmilla
DESCRIPTION:Kokoonnutaan yhteen vaihtamaan kuulumisia ja keskustellaan päivän ohjelmasta.
URL:https://kalenteri.niemikoti.fi/en/tapahtuma/aamukokous-malmilla/2026-11-18/
LOCATION:Malmin päivätoimintakeskus\, Vanha Helsingintie 9\, Helsinki\, 00700\, Finland
CATEGORIES:Malmin päivätoimintakeskus
END:VEVENT
BEGIN:VEVENT
DTSTART;TZID=Europe/Helsinki:20261118T103000
DTEND;TZID=Europe/Helsinki:20261118T110000
DTSTAMP:20260423T190117
CREATED:20260112T111935Z
LAST-MODIFIED:20260410T061604Z
UID:10031103-1794997800-1794999600@kalenteri.niemikoti.fi
SUMMARY:Talon töitä Malmilla
DESCRIPTION:Pidetään yhdessä huolta yhteisistä tiloista ja tiluksista. Osallistua voi omien voimavarojen mukaan.
URL:https://kalenteri.niemikoti.fi/en/tapahtuma/talon-toita-7/2026-11-18/
LOCATION:Malmin päivätoimintakeskus\, Vanha Helsingintie 9\, Helsinki\, 00700\, Finland
CATEGORIES:Malmin päivätoimintakeskus
END:VEVENT
BEGIN:VEVENT
DTSTART;TZID=Europe/Helsinki:20261118T103000
DTEND;TZID=Europe/Helsinki:20261118T120000
DTSTAMP:20260423T190117
CREATED:20260421T093010Z
LAST-MODIFIED:20260421T134255Z
UID:10037618-1794997800-1795003200@kalenteri.niemikoti.fi
SUMMARY:Soppakokit
DESCRIPTION:Tehdään yhdessä ruokaa. Ruoan hinta osallistujille 2 €.
URL:https://kalenteri.niemikoti.fi/en/tapahtuma/soppakokit-13/2026-11-18/
LOCATION:Toimintakeskus Villa Borgis\, Linnavuorentie 13\, Helsinki\, 00950\, Finland
CATEGORIES:Toimintakeskus Villa Borgis
END:VEVENT
BEGIN:VEVENT
DTSTART;TZID=Europe/Helsinki:20261118T120000
DTEND;TZID=Europe/Helsinki:20261118T130000
DTSTAMP:20260423T190117
CREATED:20260302T135525Z
LAST-MODIFIED:20260303T072113Z
UID:10035160-1795003200-1795006800@kalenteri.niemikoti.fi
SUMMARY:Yhteisön lounas Malmilla
DESCRIPTION:Lounas ja lounaskahvit. Ruokalista vaihtelee kuukausittain ja on nähtävillä Malmin päivätoimintakeskuksessa. Hinta 3\,5 euroa.
URL:https://kalenteri.niemikoti.fi/en/tapahtuma/yhteison-lounas-malmilla/2026-11-18/
LOCATION:Malmin päivätoimintakeskus\, Vanha Helsingintie 9\, Helsinki\, 00700\, Finland
CATEGORIES:Malmin päivätoimintakeskus
END:VEVENT
END:VCALENDAR