BEGIN:VCALENDAR
VERSION:2.0
PRODID:-//Tapahtumakalenteri - ECPv6.15.18//NONSGML v1.0//EN
CALSCALE:GREGORIAN
METHOD:PUBLISH
X-WR-CALNAME:Tapahtumakalenteri
X-ORIGINAL-URL:https://kalenteri.niemikoti.fi/en/
X-WR-CALDESC:Events for Tapahtumakalenteri
REFRESH-INTERVAL;VALUE=DURATION:PT1H
X-Robots-Tag:noindex
X-PUBLISHED-TTL:PT1H
BEGIN:VTIMEZONE
TZID:Europe/Helsinki
BEGIN:DAYLIGHT
TZOFFSETFROM:+0200
TZOFFSETTO:+0300
TZNAME:EEST
DTSTART:20220327T010000
END:DAYLIGHT
BEGIN:STANDARD
TZOFFSETFROM:+0300
TZOFFSETTO:+0200
TZNAME:EET
DTSTART:20221030T010000
END:STANDARD
BEGIN:DAYLIGHT
TZOFFSETFROM:+0200
TZOFFSETTO:+0300
TZNAME:EEST
DTSTART:20230326T010000
END:DAYLIGHT
BEGIN:STANDARD
TZOFFSETFROM:+0300
TZOFFSETTO:+0200
TZNAME:EET
DTSTART:20231029T010000
END:STANDARD
BEGIN:DAYLIGHT
TZOFFSETFROM:+0200
TZOFFSETTO:+0300
TZNAME:EEST
DTSTART:20240331T010000
END:DAYLIGHT
BEGIN:STANDARD
TZOFFSETFROM:+0300
TZOFFSETTO:+0200
TZNAME:EET
DTSTART:20241027T010000
END:STANDARD
END:VTIMEZONE
BEGIN:VEVENT
DTSTART;TZID=Europe/Helsinki:20230621T110000
DTEND;TZID=Europe/Helsinki:20230621T140000
DTSTAMP:20260421T022619
CREATED:20230601T065018Z
LAST-MODIFIED:20230601T065018Z
UID:10001133-1687345200-1687356000@kalenteri.niemikoti.fi
SUMMARY:Juhannusjuhla
DESCRIPTION:Yrttijalkakylpyjä\, makkaran grillausta ja sauna kuumana. Ilmoittaudu!
URL:https://kalenteri.niemikoti.fi/en/tapahtuma/juhannusjuhla/
LOCATION:Toimintakeskus Villa Borgis\, Linnavuorentie 13\, Helsinki\, 00950\, Finland
CATEGORIES:Toimintakeskus Villa Borgis
END:VEVENT
BEGIN:VEVENT
DTSTART;TZID=Europe/Helsinki:20230621T110000
DTEND;TZID=Europe/Helsinki:20230621T130000
DTSTAMP:20260421T022619
CREATED:20230606T125016Z
LAST-MODIFIED:20230607T095222Z
UID:10001156-1687345200-1687352400@kalenteri.niemikoti.fi
SUMMARY:Pleikkapelien pelaamista Kulttuuripaja ELVIKSESSÄ
DESCRIPTION:Tervetuloa pelaamaan Pleikkapelejä ELVIKSEEN!
URL:https://kalenteri.niemikoti.fi/en/tapahtuma/pleikkapelien-pelaamista-kulttuuripaja-elviksessa/2023-06-21/
LOCATION:Kulttuuripaja ELVIS\, Lautatarhankatu 4\, Helsinki\, 00580\, Finland
CATEGORIES:Kulttuuripaja ELVIS
END:VEVENT
BEGIN:VEVENT
DTSTART;TZID=Europe/Helsinki:20230621T103000
DTEND;TZID=Europe/Helsinki:20230621T113000
DTSTAMP:20260421T022619
CREATED:20230531T134609Z
LAST-MODIFIED:20230629T091353Z
UID:10001180-1687343400-1687347000@kalenteri.niemikoti.fi
SUMMARY:Sulkakynät -kirjoittajaryhmä
DESCRIPTION:Luovaa kirjoittamista eri tekniikoin\, ilmoittaudu.
URL:https://kalenteri.niemikoti.fi/en/tapahtuma/sulkakynat-kirjoittajaryhma/2023-06-21/
LOCATION:Toimintakeskus Villa Borgis\, Linnavuorentie 13\, Helsinki\, 00950\, Finland
CATEGORIES:Toimintakeskus Villa Borgis
END:VEVENT
BEGIN:VEVENT
DTSTART;TZID=Europe/Helsinki:20230621T100000
DTEND;TZID=Europe/Helsinki:20230621T130000
DTSTAMP:20260421T022619
CREATED:20230602T083719Z
LAST-MODIFIED:20230602T083719Z
UID:10001147-1687341600-1687352400@kalenteri.niemikoti.fi
SUMMARY:Valtti Valmennuksen kierrätystori
DESCRIPTION:Kesäkuun ympäristöteemaan sopivasti (Kierrätetään koko kesä) Valtti Valmennus järjestää kierrätystorin. Voit tuoda itselle tarpeettomia ehjiä ja siistejä tavaroita Valtti Valmennukseen\, ja katsoa josko muiden tuomista tavaroista löytyisi jotain sinulle tarpeellista. Ylijääneet tavarat viemme juhannuksen jälkeen Ukrainalaisten avustuskeskukseen.
URL:https://kalenteri.niemikoti.fi/en/tapahtuma/valtti-valmennuksen-kierratystori/2023-06-21/
LOCATION:Valtti Valmennus\, Elimäenkatu 26\, Helsinki\, 00510\, Finland
CATEGORIES:Valtti Valmennus
ATTACH;FMTTYPE=image/jpeg:https://kalenteri.niemikoti.fi/wp-content/uploads/2023/06/kierratystori-1-scaled.jpg
END:VEVENT
BEGIN:VEVENT
DTSTART;TZID=Europe/Helsinki:20230621T100000
DTEND;TZID=Europe/Helsinki:20230621T103000
DTSTAMP:20260421T022619
CREATED:20230531T081915Z
LAST-MODIFIED:20240205T125027Z
UID:10000361-1687341600-1687343400@kalenteri.niemikoti.fi
SUMMARY:Yhteisöpäivän aamukokous
DESCRIPTION:Yhteisöpäivän aamukokouksessa käydään läpi päivän ohjelmaa\, tapahtumia\, yhteisötehtäviä ja muita ajankohtaisia asioita.
URL:https://kalenteri.niemikoti.fi/en/tapahtuma/yhteisopaivan-aamukokous/2023-06-21/
LOCATION:Toimintakeskus Villa Borgis\, Linnavuorentie 13\, Helsinki\, 00950\, Finland
CATEGORIES:Toimintakeskus Villa Borgis
END:VEVENT
BEGIN:VEVENT
DTSTART;TZID=Europe/Helsinki:20230621T090000
DTEND;TZID=Europe/Helsinki:20230621T150000
DTSTAMP:20260421T022619
CREATED:20230531T125715Z
LAST-MODIFIED:20230811T074137Z
UID:10000869-1687338000-1687359600@kalenteri.niemikoti.fi
SUMMARY:Yhteisöpäivä klo 9-15
DESCRIPTION:Yhteisöpäivä\, Villa Borgis auki klo 9-15\, täydentyvä ryhmä\, ilmoittaudu.
URL:https://kalenteri.niemikoti.fi/en/tapahtuma/yhteisopaiva-klo-9-15/2023-06-21/
LOCATION:Toimintakeskus Villa Borgis\, Linnavuorentie 13\, Helsinki\, 00950\, Finland
CATEGORIES:Toimintakeskus Villa Borgis
END:VEVENT
BEGIN:VEVENT
DTSTART;TZID=Europe/Helsinki:20230621T090000
DTEND;TZID=Europe/Helsinki:20230621T094500
DTSTAMP:20260421T022619
CREATED:20230531T083840Z
LAST-MODIFIED:20240205T125147Z
UID:10000527-1687338000-1687340700@kalenteri.niemikoti.fi
SUMMARY:Yhteisöpäivän aamiainen
DESCRIPTION:Aamupala yhteisöpäivään osallistuville (maksullinen).
URL:https://kalenteri.niemikoti.fi/en/tapahtuma/yhteisopaivan-aamiainen-2/2023-06-21/
LOCATION:Toimintakeskus Villa Borgis\, Linnavuorentie 13\, Helsinki\, 00950\, Finland
CATEGORIES:Toimintakeskus Villa Borgis
END:VEVENT
BEGIN:VEVENT
DTSTART;TZID=Europe/Helsinki:20230620T140000
DTEND;TZID=Europe/Helsinki:20230620T143000
DTSTAMP:20260421T022619
CREATED:20230607T051246Z
LAST-MODIFIED:20250107T131756Z
UID:10001190-1687269600-1687271400@kalenteri.niemikoti.fi
SUMMARY:Yhteisöpäivän päiväkahvit
DESCRIPTION:Päiväkahvit kuuluvat aamiaisen ja/tai lounaan hintaan\, muuten 1 €.
URL:https://kalenteri.niemikoti.fi/en/tapahtuma/yhteisopaivan-paivakahvit/2023-06-20/
LOCATION:Toimintakeskus Villa Borgis\, Linnavuorentie 13\, Helsinki\, 00950\, Finland
CATEGORIES:Toimintakeskus Villa Borgis
END:VEVENT
BEGIN:VEVENT
DTSTART;TZID=Europe/Helsinki:20230620T130000
DTEND;TZID=Europe/Helsinki:20230620T140000
DTSTAMP:20260421T022619
CREATED:20230607T073855Z
LAST-MODIFIED:20230607T073855Z
UID:10001231-1687266000-1687269600@kalenteri.niemikoti.fi
SUMMARY:Yhteisökokous
DESCRIPTION:Kuukausittainen yhteisökokous. Käydään läpi tulevia tapahtumia\, retkiä\, ruokakassan tilanne ja muita ajankohtaisia asioita. Käsiteltäväksi toivottavia asioita voi esittää etukäteen Villa Borgiksen ohjaajille. Kokousmuistio tulee esille olohuoneen yhteisökokouskansioon.
URL:https://kalenteri.niemikoti.fi/en/tapahtuma/yhteisokokous/
LOCATION:Toimintakeskus Villa Borgis\, Linnavuorentie 13\, Helsinki\, 00950\, Finland
CATEGORIES:Toimintakeskus Villa Borgis
END:VEVENT
BEGIN:VEVENT
DTSTART;TZID=Europe/Helsinki:20230620T120000
DTEND;TZID=Europe/Helsinki:20230620T150000
DTSTAMP:20260421T022619
CREATED:20230606T131910Z
LAST-MODIFIED:20230607T095402Z
UID:10001165-1687262400-1687273200@kalenteri.niemikoti.fi
SUMMARY:Lautapelit
DESCRIPTION:Tervetuloa pelaamaan lautapelejä ELVIKSEEN!
URL:https://kalenteri.niemikoti.fi/en/tapahtuma/lautapelit/2023-06-20/
LOCATION:Kulttuuripaja ELVIS\, Lautatarhankatu 4\, Helsinki\, 00580\, Finland
CATEGORIES:Kulttuuripaja ELVIS
END:VEVENT
BEGIN:VEVENT
DTSTART;TZID=Europe/Helsinki:20230620T110000
DTEND;TZID=Europe/Helsinki:20230620T114500
DTSTAMP:20260421T022619
CREATED:20230606T131038Z
LAST-MODIFIED:20230607T095328Z
UID:10001163-1687258800-1687261500@kalenteri.niemikoti.fi
SUMMARY:Asahi
DESCRIPTION:Asahi  on suomalainen terveysliikunta\, joka on saanut vaikutteita itämaisista lajeista kuten taijiquan\, qigong\, yiquan sekä jooga. Asahia pystyy harjoittamaan kuka tahansa\, riippumatta iästä tai fyysisestä kunnosta.
URL:https://kalenteri.niemikoti.fi/en/tapahtuma/asahi/2023-06-20/
LOCATION:Kulttuuripaja ELVIS\, Lautatarhankatu 4\, Helsinki\, 00580\, Finland
CATEGORIES:Kulttuuripaja ELVIS
END:VEVENT
BEGIN:VEVENT
DTSTART;TZID=Europe/Helsinki:20230620T103000
DTEND;TZID=Europe/Helsinki:20230620T120000
DTSTAMP:20260421T022619
CREATED:20230531T124423Z
LAST-MODIFIED:20240123T084001Z
UID:10005032-1687257000-1687262400@kalenteri.niemikoti.fi
SUMMARY:Borgiksen Picassot
DESCRIPTION:Kuvataideryhmä\, ilmoittaudu.
URL:https://kalenteri.niemikoti.fi/en/tapahtuma/borgiksen-picassot/2023-06-20/
LOCATION:Toimintakeskus Villa Borgis\, Linnavuorentie 13\, Helsinki\, 00950\, Finland
CATEGORIES:Toimintakeskus Villa Borgis
END:VEVENT
BEGIN:VEVENT
DTSTART;TZID=Europe/Helsinki:20230620T100000
DTEND;TZID=Europe/Helsinki:20230620T130000
DTSTAMP:20260421T022619
CREATED:20230602T083719Z
LAST-MODIFIED:20230602T083719Z
UID:10001146-1687255200-1687266000@kalenteri.niemikoti.fi
SUMMARY:Valtti Valmennuksen kierrätystori
DESCRIPTION:Kesäkuun ympäristöteemaan sopivasti (Kierrätetään koko kesä) Valtti Valmennus järjestää kierrätystorin. Voit tuoda itselle tarpeettomia ehjiä ja siistejä tavaroita Valtti Valmennukseen\, ja katsoa josko muiden tuomista tavaroista löytyisi jotain sinulle tarpeellista. Ylijääneet tavarat viemme juhannuksen jälkeen Ukrainalaisten avustuskeskukseen.
URL:https://kalenteri.niemikoti.fi/en/tapahtuma/valtti-valmennuksen-kierratystori/2023-06-20/
LOCATION:Valtti Valmennus\, Elimäenkatu 26\, Helsinki\, 00510\, Finland
CATEGORIES:Valtti Valmennus
ATTACH;FMTTYPE=image/jpeg:https://kalenteri.niemikoti.fi/wp-content/uploads/2023/06/kierratystori-1-scaled.jpg
END:VEVENT
BEGIN:VEVENT
DTSTART;TZID=Europe/Helsinki:20230620T100000
DTEND;TZID=Europe/Helsinki:20230620T103000
DTSTAMP:20260421T022619
CREATED:20230531T081915Z
LAST-MODIFIED:20240205T125027Z
UID:10000360-1687255200-1687257000@kalenteri.niemikoti.fi
SUMMARY:Yhteisöpäivän aamukokous
DESCRIPTION:Yhteisöpäivän aamukokouksessa käydään läpi päivän ohjelmaa\, tapahtumia\, yhteisötehtäviä ja muita ajankohtaisia asioita.
URL:https://kalenteri.niemikoti.fi/en/tapahtuma/yhteisopaivan-aamukokous/2023-06-20/
LOCATION:Toimintakeskus Villa Borgis\, Linnavuorentie 13\, Helsinki\, 00950\, Finland
CATEGORIES:Toimintakeskus Villa Borgis
END:VEVENT
BEGIN:VEVENT
DTSTART;TZID=Europe/Helsinki:20230620T090000
DTEND;TZID=Europe/Helsinki:20230620T150000
DTSTAMP:20260421T022619
CREATED:20230531T125715Z
LAST-MODIFIED:20230811T074137Z
UID:10000868-1687251600-1687273200@kalenteri.niemikoti.fi
SUMMARY:Yhteisöpäivä klo 9-15
DESCRIPTION:Yhteisöpäivä\, Villa Borgis auki klo 9-15\, täydentyvä ryhmä\, ilmoittaudu.
URL:https://kalenteri.niemikoti.fi/en/tapahtuma/yhteisopaiva-klo-9-15/2023-06-20/
LOCATION:Toimintakeskus Villa Borgis\, Linnavuorentie 13\, Helsinki\, 00950\, Finland
CATEGORIES:Toimintakeskus Villa Borgis
END:VEVENT
BEGIN:VEVENT
DTSTART;TZID=Europe/Helsinki:20230620T090000
DTEND;TZID=Europe/Helsinki:20230620T094500
DTSTAMP:20260421T022619
CREATED:20230531T083840Z
LAST-MODIFIED:20240205T125147Z
UID:10000526-1687251600-1687254300@kalenteri.niemikoti.fi
SUMMARY:Yhteisöpäivän aamiainen
DESCRIPTION:Aamupala yhteisöpäivään osallistuville (maksullinen).
URL:https://kalenteri.niemikoti.fi/en/tapahtuma/yhteisopaivan-aamiainen-2/2023-06-20/
LOCATION:Toimintakeskus Villa Borgis\, Linnavuorentie 13\, Helsinki\, 00950\, Finland
CATEGORIES:Toimintakeskus Villa Borgis
END:VEVENT
BEGIN:VEVENT
DTSTART;TZID=Europe/Helsinki:20230619T163000
DTEND;TZID=Europe/Helsinki:20230619T180000
DTSTAMP:20260421T022619
CREATED:20230601T111454Z
LAST-MODIFIED:20230607T095108Z
UID:10001137-1687192200-1687197600@kalenteri.niemikoti.fi
SUMMARY:Jamibändi ELVIKSESSÄ
DESCRIPTION:Tervetuloa soittamaan\, laulamaan tai kuuntelemaan musiikkia!
URL:https://kalenteri.niemikoti.fi/en/tapahtuma/jamibandi-elviksessa/2023-06-19/
LOCATION:Kulttuuripaja ELVIS\, Lautatarhankatu 4\, Helsinki\, 00580\, Finland
CATEGORIES:Kulttuuripaja ELVIS
END:VEVENT
BEGIN:VEVENT
DTSTART;TZID=Europe/Helsinki:20230619T140000
DTEND;TZID=Europe/Helsinki:20230619T160000
DTSTAMP:20260421T022619
CREATED:20230601T125859Z
LAST-MODIFIED:20230607T095032Z
UID:10001143-1687183200-1687190400@kalenteri.niemikoti.fi
SUMMARY:Kesähygge Teurastamolla
DESCRIPTION:Rentoa ja vapaata yhdessä hengailua Teurastamolla. Huonolla säällä ollaan Kulttuuripaja ELVIKSESSÄ.
URL:https://kalenteri.niemikoti.fi/en/tapahtuma/kesahygge-teurastamolla/2023-06-19/
LOCATION:Teurastamo\, Työpajankatu 2\, Helsinki\, 00580\, Finland
CATEGORIES:Kulttuuripaja ELVIS
END:VEVENT
BEGIN:VEVENT
DTSTART;TZID=Europe/Helsinki:20230619T140000
DTEND;TZID=Europe/Helsinki:20230619T143000
DTSTAMP:20260421T022619
CREATED:20230607T051246Z
LAST-MODIFIED:20250107T131756Z
UID:10001189-1687183200-1687185000@kalenteri.niemikoti.fi
SUMMARY:Yhteisöpäivän päiväkahvit
DESCRIPTION:Päiväkahvit kuuluvat aamiaisen ja/tai lounaan hintaan\, muuten 1 €.
URL:https://kalenteri.niemikoti.fi/en/tapahtuma/yhteisopaivan-paivakahvit/2023-06-19/
LOCATION:Toimintakeskus Villa Borgis\, Linnavuorentie 13\, Helsinki\, 00950\, Finland
CATEGORIES:Toimintakeskus Villa Borgis
END:VEVENT
BEGIN:VEVENT
DTSTART;TZID=Europe/Helsinki:20230619T120000
DTEND;TZID=Europe/Helsinki:20230619T123000
DTSTAMP:20260421T022619
CREATED:20230531T112750Z
LAST-MODIFIED:20250321T104552Z
UID:10000742-1687176000-1687177800@kalenteri.niemikoti.fi
SUMMARY:Yhteisöpäivän lounas
DESCRIPTION:Lounas yhteisöpäivään osallistuville\, maksullinen.
URL:https://kalenteri.niemikoti.fi/en/tapahtuma/yhteisopaivan-lounas/2023-06-19/
LOCATION:Toimintakeskus Villa Borgis\, Linnavuorentie 13\, Helsinki\, 00950\, Finland
CATEGORIES:Toimintakeskus Villa Borgis
END:VEVENT
BEGIN:VEVENT
DTSTART;TZID=Europe/Helsinki:20230619T103000
DTEND;TZID=Europe/Helsinki:20230619T120000
DTSTAMP:20260421T022619
CREATED:20230531T084700Z
LAST-MODIFIED:20240205T125100Z
UID:10000686-1687170600-1687176000@kalenteri.niemikoti.fi
SUMMARY:Talon töitä
DESCRIPTION:Yhteisöpäivän tehtäviä\, esim. piha-/puutarhatyöt\, sisustus\, siivous\, yhteisökokous.
URL:https://kalenteri.niemikoti.fi/en/tapahtuma/talon-toita/2023-06-19/
LOCATION:Toimintakeskus Villa Borgis\, Linnavuorentie 13\, Helsinki\, 00950\, Finland
CATEGORIES:Toimintakeskus Villa Borgis
END:VEVENT
BEGIN:VEVENT
DTSTART;TZID=Europe/Helsinki:20230619T100000
DTEND;TZID=Europe/Helsinki:20230619T130000
DTSTAMP:20260421T022619
CREATED:20230602T083719Z
LAST-MODIFIED:20230602T083719Z
UID:10001145-1687168800-1687179600@kalenteri.niemikoti.fi
SUMMARY:Valtti Valmennuksen kierrätystori
DESCRIPTION:Kesäkuun ympäristöteemaan sopivasti (Kierrätetään koko kesä) Valtti Valmennus järjestää kierrätystorin. Voit tuoda itselle tarpeettomia ehjiä ja siistejä tavaroita Valtti Valmennukseen\, ja katsoa josko muiden tuomista tavaroista löytyisi jotain sinulle tarpeellista. Ylijääneet tavarat viemme juhannuksen jälkeen Ukrainalaisten avustuskeskukseen.
URL:https://kalenteri.niemikoti.fi/en/tapahtuma/valtti-valmennuksen-kierratystori/2023-06-19/
LOCATION:Valtti Valmennus\, Elimäenkatu 26\, Helsinki\, 00510\, Finland
CATEGORIES:Valtti Valmennus
ATTACH;FMTTYPE=image/jpeg:https://kalenteri.niemikoti.fi/wp-content/uploads/2023/06/kierratystori-1-scaled.jpg
END:VEVENT
BEGIN:VEVENT
DTSTART;TZID=Europe/Helsinki:20230619T100000
DTEND;TZID=Europe/Helsinki:20230619T103000
DTSTAMP:20260421T022619
CREATED:20230531T081915Z
LAST-MODIFIED:20240205T125027Z
UID:10000359-1687168800-1687170600@kalenteri.niemikoti.fi
SUMMARY:Yhteisöpäivän aamukokous
DESCRIPTION:Yhteisöpäivän aamukokouksessa käydään läpi päivän ohjelmaa\, tapahtumia\, yhteisötehtäviä ja muita ajankohtaisia asioita.
URL:https://kalenteri.niemikoti.fi/en/tapahtuma/yhteisopaivan-aamukokous/2023-06-19/
LOCATION:Toimintakeskus Villa Borgis\, Linnavuorentie 13\, Helsinki\, 00950\, Finland
CATEGORIES:Toimintakeskus Villa Borgis
END:VEVENT
BEGIN:VEVENT
DTSTART;TZID=Europe/Helsinki:20230619T090000
DTEND;TZID=Europe/Helsinki:20230619T150000
DTSTAMP:20260421T022619
CREATED:20230531T125715Z
LAST-MODIFIED:20230811T074137Z
UID:10000867-1687165200-1687186800@kalenteri.niemikoti.fi
SUMMARY:Yhteisöpäivä klo 9-15
DESCRIPTION:Yhteisöpäivä\, Villa Borgis auki klo 9-15\, täydentyvä ryhmä\, ilmoittaudu.
URL:https://kalenteri.niemikoti.fi/en/tapahtuma/yhteisopaiva-klo-9-15/2023-06-19/
LOCATION:Toimintakeskus Villa Borgis\, Linnavuorentie 13\, Helsinki\, 00950\, Finland
CATEGORIES:Toimintakeskus Villa Borgis
END:VEVENT
BEGIN:VEVENT
DTSTART;TZID=Europe/Helsinki:20230619T090000
DTEND;TZID=Europe/Helsinki:20230619T094500
DTSTAMP:20260421T022619
CREATED:20230531T083840Z
LAST-MODIFIED:20240205T125147Z
UID:10000525-1687165200-1687167900@kalenteri.niemikoti.fi
SUMMARY:Yhteisöpäivän aamiainen
DESCRIPTION:Aamupala yhteisöpäivään osallistuville (maksullinen).
URL:https://kalenteri.niemikoti.fi/en/tapahtuma/yhteisopaivan-aamiainen-2/2023-06-19/
LOCATION:Toimintakeskus Villa Borgis\, Linnavuorentie 13\, Helsinki\, 00950\, Finland
CATEGORIES:Toimintakeskus Villa Borgis
END:VEVENT
BEGIN:VEVENT
DTSTART;TZID=Europe/Helsinki:20230616T123000
DTEND;TZID=Europe/Helsinki:20230616T141500
DTSTAMP:20260421T022619
CREATED:20230427T054406Z
LAST-MODIFIED:20230606T044918Z
UID:10000278-1686918600-1686924900@kalenteri.niemikoti.fi
SUMMARY:Uintiryhmä
DESCRIPTION:Omatoiminen liikuntaryhmä Malmin uimahallille. Kysy lisää ohjaajilta.
URL:https://kalenteri.niemikoti.fi/en/tapahtuma/uintiryhma/2023-06-16/
LOCATION:Malmin päivätoimintakeskus\, Vanha Helsingintie 9\, Helsinki\, 00700\, Finland
CATEGORIES:Malmin päivätoimintakeskus,Päivätoiminta
END:VEVENT
BEGIN:VEVENT
DTSTART;TZID=Europe/Helsinki:20230616T120000
DTEND;TZID=Europe/Helsinki:20230616T140000
DTSTAMP:20260421T022619
CREATED:20230606T134819Z
LAST-MODIFIED:20230607T095442Z
UID:10001168-1686916800-1686924000@kalenteri.niemikoti.fi
SUMMARY:KulttuuriApaja-retki Design museoon
DESCRIPTION:Kulttuuripaja ELVIS järjestää retken Design museoon Kustaa Saksin Rajamailla – näyttelyyn. Lähtö ELVIKSESTÄ klo 12.
URL:https://kalenteri.niemikoti.fi/en/tapahtuma/kulttuuriapaja-retki-design-museoon/
LOCATION:Kulttuuripaja ELVIS\, Lautatarhankatu 4\, Helsinki\, 00580\, Finland
CATEGORIES:Kulttuuripaja ELVIS
END:VEVENT
BEGIN:VEVENT
DTSTART;TZID=Europe/Helsinki:20230616T110000
DTEND;TZID=Europe/Helsinki:20230616T130000
DTSTAMP:20260421T022619
CREATED:20230601T064647Z
LAST-MODIFIED:20230601T064647Z
UID:10001132-1686913200-1686920400@kalenteri.niemikoti.fi
SUMMARY:Yhdessä-tilkkupaja
DESCRIPTION:Tehdään Yhdessä Niemikotisäätiön 40-vuotisjuhlan kunniaksi koottavan tilkkutyötaideteoksen viimeiset tilkut. Muiden kankaankuviointitekniikoiden lisäksi kokeilemme kasvipainantaa. Ilmoittaudu!
URL:https://kalenteri.niemikoti.fi/en/tapahtuma/yhdessa-tilkkupaja/
LOCATION:Toimintakeskus Villa Borgis\, Linnavuorentie 13\, Helsinki\, 00950\, Finland
CATEGORIES:Toimintakeskus Villa Borgis
ATTACH;FMTTYPE=image/jpeg:https://kalenteri.niemikoti.fi/wp-content/uploads/2023/06/IMG_20230224_125355-scaled.jpg
END:VEVENT
BEGIN:VEVENT
DTSTART;TZID=Europe/Helsinki:20230616T110000
DTEND;TZID=Europe/Helsinki:20230616T130000
DTSTAMP:20260421T022619
CREATED:20230427T060640Z
LAST-MODIFIED:20240513T053346Z
UID:10000304-1686913200-1686920400@kalenteri.niemikoti.fi
SUMMARY:Perjantaihyggeily
DESCRIPTION:Villasukat jalkaan\, maailman murheet hetkeksi syrjään ja olo mukavaksi teekupposen äärellä.\nTule rupattelemaan muiden kanssa\, lukemaan lehtiä tai vaikkapa tekemään valmiiksi keskeneräisiä projektejasi.\nTarjolla kahvit /teet ja keksit 1 €/pvä.
URL:https://kalenteri.niemikoti.fi/en/tapahtuma/perjantaihyggeily/2023-06-16/
LOCATION:Toimintakeskus Villa Borgis\, Linnavuorentie 13\, Helsinki\, 00950\, Finland
CATEGORIES:Päivätoiminta,Toimintakeskus Villa Borgis
END:VEVENT
BEGIN:VEVENT
DTSTART;TZID=Europe/Helsinki:20230616T103000
DTEND;TZID=Europe/Helsinki:20230616T111500
DTSTAMP:20260421T022619
CREATED:20230427T053444Z
LAST-MODIFIED:20230606T044728Z
UID:10000017-1686911400-1686914100@kalenteri.niemikoti.fi
SUMMARY:Ajan tasalla -ryhmä
DESCRIPTION:Ajankohtaista keskustelua\, tietovisailua\, musiikin kuuntelua ym. perjantaikävijöiden toiveiden mukaan Malmin päivätoimintakeskuksessa.
URL:https://kalenteri.niemikoti.fi/en/tapahtuma/ajan-tasalla-ryhma/2023-06-16/
LOCATION:Malmin päivätoimintakeskus\, Vanha Helsingintie 9\, Helsinki\, 00700\, Finland
CATEGORIES:Malmin päivätoimintakeskus,Päivätoiminta
END:VEVENT
END:VCALENDAR