BEGIN:VCALENDAR
VERSION:2.0
PRODID:-//Tapahtumakalenteri - ECPv6.15.18//NONSGML v1.0//EN
CALSCALE:GREGORIAN
METHOD:PUBLISH
X-WR-CALNAME:Tapahtumakalenteri
X-ORIGINAL-URL:https://kalenteri.niemikoti.fi/en/
X-WR-CALDESC:Events for Tapahtumakalenteri
REFRESH-INTERVAL;VALUE=DURATION:PT1H
X-Robots-Tag:noindex
X-PUBLISHED-TTL:PT1H
BEGIN:VTIMEZONE
TZID:Europe/Helsinki
BEGIN:DAYLIGHT
TZOFFSETFROM:+0200
TZOFFSETTO:+0300
TZNAME:EEST
DTSTART:20220327T010000
END:DAYLIGHT
BEGIN:STANDARD
TZOFFSETFROM:+0300
TZOFFSETTO:+0200
TZNAME:EET
DTSTART:20221030T010000
END:STANDARD
BEGIN:DAYLIGHT
TZOFFSETFROM:+0200
TZOFFSETTO:+0300
TZNAME:EEST
DTSTART:20230326T010000
END:DAYLIGHT
BEGIN:STANDARD
TZOFFSETFROM:+0300
TZOFFSETTO:+0200
TZNAME:EET
DTSTART:20231029T010000
END:STANDARD
BEGIN:DAYLIGHT
TZOFFSETFROM:+0200
TZOFFSETTO:+0300
TZNAME:EEST
DTSTART:20240331T010000
END:DAYLIGHT
BEGIN:STANDARD
TZOFFSETFROM:+0300
TZOFFSETTO:+0200
TZNAME:EET
DTSTART:20241027T010000
END:STANDARD
END:VTIMEZONE
BEGIN:VEVENT
DTSTART;TZID=Europe/Helsinki:20231017T140000
DTEND;TZID=Europe/Helsinki:20231017T143000
DTSTAMP:20260421T023142
CREATED:20230607T051246Z
LAST-MODIFIED:20250107T131756Z
UID:10001298-1697551200-1697553000@kalenteri.niemikoti.fi
SUMMARY:Yhteisöpäivän päiväkahvit
DESCRIPTION:Päiväkahvit kuuluvat aamiaisen ja/tai lounaan hintaan\, muuten 1 €.
URL:https://kalenteri.niemikoti.fi/en/tapahtuma/yhteisopaivan-paivakahvit/2023-10-17/
LOCATION:Toimintakeskus Villa Borgis\, Linnavuorentie 13\, Helsinki\, 00950\, Finland
CATEGORIES:Toimintakeskus Villa Borgis
END:VEVENT
BEGIN:VEVENT
DTSTART;TZID=Europe/Helsinki:20231017T130000
DTEND;TZID=Europe/Helsinki:20231017T150000
DTSTAMP:20260421T023142
CREATED:20231016T065556Z
LAST-MODIFIED:20240912T102328Z
UID:10005889-1697547600-1697554800@kalenteri.niemikoti.fi
SUMMARY:Jälleenvuokrauksen bändi Malmilla
DESCRIPTION:Bändissä on vakiintunut kokoonpano. Lisätietoja bändistä voi kysyä ohjaajilta.
URL:https://kalenteri.niemikoti.fi/en/tapahtuma/jalleenvuokrauksen-bandi/2023-10-17/
LOCATION:Malmin päivätoimintakeskus\, Vanha Helsingintie 9\, Helsinki\, 00700\, Finland
CATEGORIES:Malmin päivätoimintakeskus
END:VEVENT
BEGIN:VEVENT
DTSTART;TZID=Europe/Helsinki:20231017T130000
DTEND;TZID=Europe/Helsinki:20231017T143000
DTSTAMP:20260421T023142
CREATED:20230822T114949Z
LAST-MODIFIED:20230822T123131Z
UID:10002515-1697547600-1697553000@kalenteri.niemikoti.fi
SUMMARY:TTAP
DESCRIPTION:Ryhmäkokonaisuus\, jossa hyvdynnetään erilaisia taiteen ja toiminnan keinoja yhdessä valittuun teemaan liittyen.
URL:https://kalenteri.niemikoti.fi/en/tapahtuma/ttap-2/2023-10-17/
LOCATION:Toimintakeskus Villa Borgis\, Linnavuorentie 13\, Helsinki\, 00950\, Finland
CATEGORIES:Toimintakeskus Villa Borgis
END:VEVENT
BEGIN:VEVENT
DTSTART;TZID=Europe/Helsinki:20231017T123000
DTEND;TZID=Europe/Helsinki:20231017T131500
DTSTAMP:20260421T023142
CREATED:20231114T115507Z
LAST-MODIFIED:20240109T140442Z
UID:10004264-1697545800-1697548500@kalenteri.niemikoti.fi
SUMMARY:Ukulelen alkeet Malmilla
DESCRIPTION:Harjoittelemme yhdessä Ukulelen soiton alkeita. Täydentyvä ryhmä\, ilmoittaudu mukaan!
URL:https://kalenteri.niemikoti.fi/en/tapahtuma/ukulele-ryhma-malmilla/2023-10-17/
LOCATION:Malmin päivätoimintakeskus\, Vanha Helsingintie 9\, Helsinki\, 00700\, Finland
CATEGORIES:Malmin päivätoimintakeskus
END:VEVENT
BEGIN:VEVENT
DTSTART;TZID=Europe/Helsinki:20231017T123000
DTEND;TZID=Europe/Helsinki:20231017T131500
DTSTAMP:20260421T023142
CREATED:20230901T103623Z
LAST-MODIFIED:20240109T140401Z
UID:10003735-1697545800-1697548500@kalenteri.niemikoti.fi
SUMMARY:Ukulelen alkeisjatko -ryhmä Malmilla
DESCRIPTION:Harjoitellaan yhdessä ukulelen alkeita. Neljä tapaamista: 10.10\, 17.10\, 24.10 ja 31.10. Ilmoittaudu mukaan!
URL:https://kalenteri.niemikoti.fi/en/tapahtuma/ukulelen-alkeet-ryhma-malmilla/2023-10-17/
LOCATION:Malmin päivätoimintakeskus\, Vanha Helsingintie 9\, Helsinki\, 00700\, Finland
CATEGORIES:Malmin päivätoimintakeskus
END:VEVENT
BEGIN:VEVENT
DTSTART;TZID=Europe/Helsinki:20231017T103000
DTEND;TZID=Europe/Helsinki:20231017T120000
DTSTAMP:20260421T023142
CREATED:20230531T124423Z
LAST-MODIFIED:20240123T084001Z
UID:10005046-1697538600-1697544000@kalenteri.niemikoti.fi
SUMMARY:Borgiksen Picassot
DESCRIPTION:Kuvataideryhmä\, ilmoittaudu.
URL:https://kalenteri.niemikoti.fi/en/tapahtuma/borgiksen-picassot/2023-10-17/
LOCATION:Toimintakeskus Villa Borgis\, Linnavuorentie 13\, Helsinki\, 00950\, Finland
CATEGORIES:Toimintakeskus Villa Borgis
END:VEVENT
BEGIN:VEVENT
DTSTART;TZID=Europe/Helsinki:20231017T103000
DTEND;TZID=Europe/Helsinki:20231017T111500
DTSTAMP:20260421T023142
CREATED:20230821T055336Z
LAST-MODIFIED:20240528T091429Z
UID:10001896-1697538600-1697541300@kalenteri.niemikoti.fi
SUMMARY:Luonto & liikunta -kävelyryhmä Malmilla
DESCRIPTION:Päätetään yhdessä päivän kävelyreitti ja kävelläänkö reippaasti vai rauhallisesti. Uusille on tilaa\, ilmoittaudu mukaan!
URL:https://kalenteri.niemikoti.fi/en/tapahtuma/luonto-liikunta-kavelyryhma-malmilla/2023-10-17/
LOCATION:Malmin päivätoimintakeskus\, Vanha Helsingintie 9\, Helsinki\, 00700\, Finland
CATEGORIES:Malmin päivätoimintakeskus
END:VEVENT
BEGIN:VEVENT
DTSTART;TZID=Europe/Helsinki:20231017T100000
DTEND;TZID=Europe/Helsinki:20231017T110000
DTSTAMP:20260421T023142
CREATED:20230914T111602Z
LAST-MODIFIED:20230914T111602Z
UID:10003788-1697536800-1697540400@kalenteri.niemikoti.fi
SUMMARY:Hyvinvointipaja; Valtti Valmennus
DESCRIPTION:Hyvinvointipajat jatkuvat Valtti Valmennuksen syksyissä tiistaisin klo 11-12. \nSyksyn aikana etsitään ja jaetaan infoa mieltä\, kehoa ja hyvinvointia ajatellen. Pajoihin ei tarvitse ilmoittautua\, riittää että tulet paikalle! \nNyt pajat on suunniteltu ajalle 26.9.-17.10.
URL:https://kalenteri.niemikoti.fi/en/tapahtuma/hyvinvointipaja-valtti-valmennus/2023-10-17/
LOCATION:Valtti Valmennus\, Elimäenkatu 26\, Helsinki\, 00510\, Finland
CATEGORIES:Kokemusasiantuntija- ja vertaistoiminta,Valtti Valmennus
ATTACH;FMTTYPE=image/jpeg:https://kalenteri.niemikoti.fi/wp-content/uploads/2023/09/Mieli-keho-hyvinvointi.jpg
END:VEVENT
BEGIN:VEVENT
DTSTART;TZID=Europe/Helsinki:20231017T100000
DTEND;TZID=Europe/Helsinki:20231017T103000
DTSTAMP:20260421T023142
CREATED:20230821T054731Z
LAST-MODIFIED:20240528T091332Z
UID:10003626-1697536800-1697538600@kalenteri.niemikoti.fi
SUMMARY:Yhteisöpäivän aamukokous Malmilla
DESCRIPTION:Yhteisöpäivän aamukokouksessa käydään läpi päivän ohjelma\, tulevat tapahtumat ja kuulumiskierros.
URL:https://kalenteri.niemikoti.fi/en/tapahtuma/yhteisopaivan-aamukokous-malmilla-2/2023-10-17/
LOCATION:Malmin päivätoimintakeskus\, Vanha Helsingintie 9\, Helsinki\, 00700\, Finland
CATEGORIES:Malmin päivätoimintakeskus
END:VEVENT
BEGIN:VEVENT
DTSTART;TZID=Europe/Helsinki:20231017T100000
DTEND;TZID=Europe/Helsinki:20231017T103000
DTSTAMP:20260421T023142
CREATED:20230531T081915Z
LAST-MODIFIED:20240205T125027Z
UID:10001639-1697536800-1697538600@kalenteri.niemikoti.fi
SUMMARY:Yhteisöpäivän aamukokous
DESCRIPTION:Yhteisöpäivän aamukokouksessa käydään läpi päivän ohjelmaa\, tapahtumia\, yhteisötehtäviä ja muita ajankohtaisia asioita.
URL:https://kalenteri.niemikoti.fi/en/tapahtuma/yhteisopaivan-aamukokous/2023-10-17/
LOCATION:Toimintakeskus Villa Borgis\, Linnavuorentie 13\, Helsinki\, 00950\, Finland
CATEGORIES:Toimintakeskus Villa Borgis
END:VEVENT
BEGIN:VEVENT
DTSTART;TZID=Europe/Helsinki:20231017T090000
DTEND;TZID=Europe/Helsinki:20231017T150000
DTSTAMP:20260421T023142
CREATED:20230531T125715Z
LAST-MODIFIED:20230811T074137Z
UID:10001527-1697533200-1697554800@kalenteri.niemikoti.fi
SUMMARY:Yhteisöpäivä klo 9-15
DESCRIPTION:Yhteisöpäivä\, Villa Borgis auki klo 9-15\, täydentyvä ryhmä\, ilmoittaudu.
URL:https://kalenteri.niemikoti.fi/en/tapahtuma/yhteisopaiva-klo-9-15/2023-10-17/
LOCATION:Toimintakeskus Villa Borgis\, Linnavuorentie 13\, Helsinki\, 00950\, Finland
CATEGORIES:Toimintakeskus Villa Borgis
END:VEVENT
BEGIN:VEVENT
DTSTART;TZID=Europe/Helsinki:20231017T090000
DTEND;TZID=Europe/Helsinki:20231017T130000
DTSTAMP:20260421T023142
CREATED:20230821T054354Z
LAST-MODIFIED:20240528T091101Z
UID:10001862-1697533200-1697547600@kalenteri.niemikoti.fi
SUMMARY:Yhteisöpäivä Malmilla klo 9-13
DESCRIPTION:Yhteisöpäivä\, Malmin päivätoimintakeskus auki klo 9-13. Ilmoittaudu mukaan!
URL:https://kalenteri.niemikoti.fi/en/tapahtuma/yhteisopaiva-malmilla-klo-9-13-3/2023-10-17/
LOCATION:Malmin päivätoimintakeskus\, Vanha Helsingintie 9\, Helsinki\, 00700\, Finland
CATEGORIES:Malmin päivätoimintakeskus
END:VEVENT
BEGIN:VEVENT
DTSTART;TZID=Europe/Helsinki:20231017T090000
DTEND;TZID=Europe/Helsinki:20231017T130000
DTSTAMP:20260421T023142
CREATED:20230815T054713Z
LAST-MODIFIED:20240109T140543Z
UID:10001844-1697533200-1697547600@kalenteri.niemikoti.fi
SUMMARY:Yhteisöpäivä Malmilla klo 9-13
DESCRIPTION:Yhteisöpäivä\, Malmin päivätoimintakeskus auki klo 9-13. Ilmoittaudu mukaan!
URL:https://kalenteri.niemikoti.fi/en/tapahtuma/yhteisopaiva-malmilla-klo-9-13-2/2023-10-17/
LOCATION:Malmin päivätoimintakeskus\, Vanha Helsingintie 9\, Helsinki\, 00700\, Finland
CATEGORIES:Malmin päivätoimintakeskus
END:VEVENT
BEGIN:VEVENT
DTSTART;TZID=Europe/Helsinki:20231017T090000
DTEND;TZID=Europe/Helsinki:20231017T094500
DTSTAMP:20260421T023142
CREATED:20230531T083840Z
LAST-MODIFIED:20240205T125147Z
UID:10001600-1697533200-1697535900@kalenteri.niemikoti.fi
SUMMARY:Yhteisöpäivän aamiainen
DESCRIPTION:Aamupala yhteisöpäivään osallistuville (maksullinen).
URL:https://kalenteri.niemikoti.fi/en/tapahtuma/yhteisopaivan-aamiainen-2/2023-10-17/
LOCATION:Toimintakeskus Villa Borgis\, Linnavuorentie 13\, Helsinki\, 00950\, Finland
CATEGORIES:Toimintakeskus Villa Borgis
END:VEVENT
BEGIN:VEVENT
DTSTART;TZID=Europe/Helsinki:20231016T140000
DTEND;TZID=Europe/Helsinki:20231016T143000
DTSTAMP:20260421T023142
CREATED:20230607T051246Z
LAST-MODIFIED:20250107T131756Z
UID:10001297-1697464800-1697466600@kalenteri.niemikoti.fi
SUMMARY:Yhteisöpäivän päiväkahvit
DESCRIPTION:Päiväkahvit kuuluvat aamiaisen ja/tai lounaan hintaan\, muuten 1 €.
URL:https://kalenteri.niemikoti.fi/en/tapahtuma/yhteisopaivan-paivakahvit/2023-10-16/
LOCATION:Toimintakeskus Villa Borgis\, Linnavuorentie 13\, Helsinki\, 00950\, Finland
CATEGORIES:Toimintakeskus Villa Borgis
END:VEVENT
BEGIN:VEVENT
DTSTART;TZID=Europe/Helsinki:20231016T130000
DTEND;TZID=Europe/Helsinki:20231016T140000
DTSTAMP:20260421T023142
CREATED:20230809T082730Z
LAST-MODIFIED:20230822T123255Z
UID:10002782-1697461200-1697464800@kalenteri.niemikoti.fi
SUMMARY:Mahdollisuuksien maanantai
DESCRIPTION:Esim. ulkoilua\, musiikinkuuntelua\, rentoutusta.
URL:https://kalenteri.niemikoti.fi/en/tapahtuma/mahdollisuuksien-maanantai/2023-10-16/
LOCATION:Toimintakeskus Villa Borgis\, Linnavuorentie 13\, Helsinki\, 00950\, Finland
CATEGORIES:Toimintakeskus Villa Borgis
END:VEVENT
BEGIN:VEVENT
DTSTART;TZID=Europe/Helsinki:20231016T120000
DTEND;TZID=Europe/Helsinki:20231016T123000
DTSTAMP:20260421T023142
CREATED:20230531T112750Z
LAST-MODIFIED:20250321T104552Z
UID:10001726-1697457600-1697459400@kalenteri.niemikoti.fi
SUMMARY:Yhteisöpäivän lounas
DESCRIPTION:Lounas yhteisöpäivään osallistuville\, maksullinen.
URL:https://kalenteri.niemikoti.fi/en/tapahtuma/yhteisopaivan-lounas/2023-10-16/
LOCATION:Toimintakeskus Villa Borgis\, Linnavuorentie 13\, Helsinki\, 00950\, Finland
CATEGORIES:Toimintakeskus Villa Borgis
END:VEVENT
BEGIN:VEVENT
DTSTART;TZID=Europe/Helsinki:20231016T103000
DTEND;TZID=Europe/Helsinki:20231016T120000
DTSTAMP:20260421T023142
CREATED:20230531T084700Z
LAST-MODIFIED:20240205T125100Z
UID:10001713-1697452200-1697457600@kalenteri.niemikoti.fi
SUMMARY:Talon töitä
DESCRIPTION:Yhteisöpäivän tehtäviä\, esim. piha-/puutarhatyöt\, sisustus\, siivous\, yhteisökokous.
URL:https://kalenteri.niemikoti.fi/en/tapahtuma/talon-toita/2023-10-16/
LOCATION:Toimintakeskus Villa Borgis\, Linnavuorentie 13\, Helsinki\, 00950\, Finland
CATEGORIES:Toimintakeskus Villa Borgis
END:VEVENT
BEGIN:VEVENT
DTSTART;TZID=Europe/Helsinki:20231016T100000
DTEND;TZID=Europe/Helsinki:20231016T103000
DTSTAMP:20260421T023142
CREATED:20230815T052928Z
LAST-MODIFIED:20240109T140543Z
UID:10003609-1697450400-1697452200@kalenteri.niemikoti.fi
SUMMARY:Yhteisöpäivän aamukokous Malmilla
DESCRIPTION:Yhteisöpäivän aamukokouksessa käydään läpi päivän ohjelma\, tulevat tapahtumat ja kuulumiskierros.
URL:https://kalenteri.niemikoti.fi/en/tapahtuma/yhteisopaivan-aamukokous-malmilla/2023-10-16/
LOCATION:Malmin päivätoimintakeskus\, Vanha Helsingintie 9\, Helsinki\, 00700\, Finland
CATEGORIES:Malmin päivätoimintakeskus
END:VEVENT
BEGIN:VEVENT
DTSTART;TZID=Europe/Helsinki:20231016T100000
DTEND;TZID=Europe/Helsinki:20231016T103000
DTSTAMP:20260421T023142
CREATED:20230531T081915Z
LAST-MODIFIED:20240205T125027Z
UID:10001638-1697450400-1697452200@kalenteri.niemikoti.fi
SUMMARY:Yhteisöpäivän aamukokous
DESCRIPTION:Yhteisöpäivän aamukokouksessa käydään läpi päivän ohjelmaa\, tapahtumia\, yhteisötehtäviä ja muita ajankohtaisia asioita.
URL:https://kalenteri.niemikoti.fi/en/tapahtuma/yhteisopaivan-aamukokous/2023-10-16/
LOCATION:Toimintakeskus Villa Borgis\, Linnavuorentie 13\, Helsinki\, 00950\, Finland
CATEGORIES:Toimintakeskus Villa Borgis
END:VEVENT
BEGIN:VEVENT
DTSTART;TZID=Europe/Helsinki:20231016T090000
DTEND;TZID=Europe/Helsinki:20231016T150000
DTSTAMP:20260421T023142
CREATED:20230531T125715Z
LAST-MODIFIED:20230811T074137Z
UID:10001526-1697446800-1697468400@kalenteri.niemikoti.fi
SUMMARY:Yhteisöpäivä klo 9-15
DESCRIPTION:Yhteisöpäivä\, Villa Borgis auki klo 9-15\, täydentyvä ryhmä\, ilmoittaudu.
URL:https://kalenteri.niemikoti.fi/en/tapahtuma/yhteisopaiva-klo-9-15/2023-10-16/
LOCATION:Toimintakeskus Villa Borgis\, Linnavuorentie 13\, Helsinki\, 00950\, Finland
CATEGORIES:Toimintakeskus Villa Borgis
END:VEVENT
BEGIN:VEVENT
DTSTART;TZID=Europe/Helsinki:20231016T090000
DTEND;TZID=Europe/Helsinki:20231016T130000
DTSTAMP:20260421T023142
CREATED:20230815T052225Z
LAST-MODIFIED:20240109T140543Z
UID:10001788-1697446800-1697461200@kalenteri.niemikoti.fi
SUMMARY:Yhteisöpäivä Malmilla klo 9-13
DESCRIPTION:Yhteisöpäivä\, Malmin päivätoimintakeskus auki klo 9-13. Ilmoittaudu mukaan!
URL:https://kalenteri.niemikoti.fi/en/tapahtuma/yhteisopaiva-malmilla-klo-9-13/2023-10-16/
LOCATION:Malmin päivätoimintakeskus\, Vanha Helsingintie 9\, Helsinki\, 00700\, Finland
CATEGORIES:Malmin päivätoimintakeskus
END:VEVENT
BEGIN:VEVENT
DTSTART;TZID=Europe/Helsinki:20231016T090000
DTEND;TZID=Europe/Helsinki:20231016T094500
DTSTAMP:20260421T023142
CREATED:20230531T083840Z
LAST-MODIFIED:20240205T125147Z
UID:10001599-1697446800-1697449500@kalenteri.niemikoti.fi
SUMMARY:Yhteisöpäivän aamiainen
DESCRIPTION:Aamupala yhteisöpäivään osallistuville (maksullinen).
URL:https://kalenteri.niemikoti.fi/en/tapahtuma/yhteisopaivan-aamiainen-2/2023-10-16/
LOCATION:Toimintakeskus Villa Borgis\, Linnavuorentie 13\, Helsinki\, 00950\, Finland
CATEGORIES:Toimintakeskus Villa Borgis
END:VEVENT
BEGIN:VEVENT
DTSTART;TZID=Europe/Helsinki:20231013T123000
DTEND;TZID=Europe/Helsinki:20231013T141500
DTSTAMP:20260421T023142
CREATED:20230823T124747Z
LAST-MODIFIED:20240314T105912Z
UID:10003714-1697200200-1697206500@kalenteri.niemikoti.fi
SUMMARY:Uintiryhmä
DESCRIPTION:Omatoiminen liikuntaryhmä Malmin liikuntahallille. Täydentyvä ryhmä\, ilmoittaudu mukaan!
URL:https://kalenteri.niemikoti.fi/en/tapahtuma/uintiryhma-2/2023-10-13/
LOCATION:Malmin päivätoimintakeskus\, Vanha Helsingintie 9\, Helsinki\, 00700\, Finland
CATEGORIES:Malmin päivätoimintakeskus
END:VEVENT
BEGIN:VEVENT
DTSTART;TZID=Europe/Helsinki:20231013T120000
DTEND;TZID=Europe/Helsinki:20231013T123000
DTSTAMP:20260421T023142
CREATED:20230628T115200Z
LAST-MODIFIED:20250107T132307Z
UID:10001465-1697198400-1697200200@kalenteri.niemikoti.fi
SUMMARY:Avoin info
DESCRIPTION:Tervetuloa tutustumaan taloomme ja toimintaamme! Avoin info on tarkoitettu kaikille toiminnastamme kiinnostuneille (opiskelijat\, ammattilaiset\, toipujat\, omaiset…). Kahvitarjoilu!
URL:https://kalenteri.niemikoti.fi/en/tapahtuma/avoin-info/2023-10-13/
LOCATION:Toimintakeskus Villa Borgis\, Linnavuorentie 13\, Helsinki\, 00950\, Finland
CATEGORIES:Toimintakeskus Villa Borgis
END:VEVENT
BEGIN:VEVENT
DTSTART;TZID=Europe/Helsinki:20231013T110000
DTEND;TZID=Europe/Helsinki:20231013T130000
DTSTAMP:20260421T023142
CREATED:20230427T060640Z
LAST-MODIFIED:20240513T053346Z
UID:10001700-1697194800-1697202000@kalenteri.niemikoti.fi
SUMMARY:Perjantaihyggeily
DESCRIPTION:Villasukat jalkaan\, maailman murheet hetkeksi syrjään ja olo mukavaksi teekupposen äärellä.\nTule rupattelemaan muiden kanssa\, lukemaan lehtiä tai vaikkapa tekemään valmiiksi keskeneräisiä projektejasi.\nTarjolla kahvit /teet ja keksit 1 €/pvä.
URL:https://kalenteri.niemikoti.fi/en/tapahtuma/perjantaihyggeily/2023-10-13/
LOCATION:Toimintakeskus Villa Borgis\, Linnavuorentie 13\, Helsinki\, 00950\, Finland
CATEGORIES:Päivätoiminta,Toimintakeskus Villa Borgis
END:VEVENT
BEGIN:VEVENT
DTSTART;TZID=Europe/Helsinki:20231013T103000
DTEND;TZID=Europe/Helsinki:20231013T111500
DTSTAMP:20260421T023142
CREATED:20230823T124255Z
LAST-MODIFIED:20240129T124123Z
UID:10003696-1697193000-1697195700@kalenteri.niemikoti.fi
SUMMARY:Perjantain päähänpistot -ryhmä Malmilla
DESCRIPTION:Vaihtuvaa yhteisön ohjelmaa ryhmän toiveiden mukaan\, esimerkiksi pelaamista\, tietovisa tai leipomista. Täydentyvä ryhmä\, ilmoittaudu mukaan!
URL:https://kalenteri.niemikoti.fi/en/tapahtuma/ajan-tasalla-ryhma-malmilla/2023-10-13/
LOCATION:Malmin päivätoimintakeskus\, Vanha Helsingintie 9\, Helsinki\, 00700\, Finland
CATEGORIES:Malmin päivätoimintakeskus
END:VEVENT
BEGIN:VEVENT
DTSTART;TZID=Europe/Helsinki:20231013T100000
DTEND;TZID=Europe/Helsinki:20231013T110000
DTSTAMP:20260421T023142
CREATED:20230427T055304Z
LAST-MODIFIED:20240513T053309Z
UID:10001688-1697191200-1697194800@kalenteri.niemikoti.fi
SUMMARY:Aamujooga Villa Borgiksessa
DESCRIPTION:8 ensimmäisenä paikalle tullutta mahtuu mukaan ryhmään.
URL:https://kalenteri.niemikoti.fi/en/tapahtuma/aamujooga-villa-borgiksessa/2023-10-13/
LOCATION:Toimintakeskus Villa Borgis\, Linnavuorentie 13\, Helsinki\, 00950\, Finland
CATEGORIES:Päivätoiminta,Toimintakeskus Villa Borgis
END:VEVENT
BEGIN:VEVENT
DTSTART;TZID=Europe/Helsinki:20231013T100000
DTEND;TZID=Europe/Helsinki:20231013T103000
DTSTAMP:20260421T023142
CREATED:20230823T123714Z
LAST-MODIFIED:20240528T092313Z
UID:10003678-1697191200-1697193000@kalenteri.niemikoti.fi
SUMMARY:Yhteisöpäivän aamukokous Malmilla
DESCRIPTION:Yhteisöpäivän aamukokouksessa käydään läpi päivän ohjelma\, tulevat tapahtumat ja kuulumiskierros.
URL:https://kalenteri.niemikoti.fi/en/tapahtuma/yhteisopaivan-aamukokous-malmilla-4/2023-10-13/
LOCATION:Malmin päivätoimintakeskus\, Vanha Helsingintie 9\, Helsinki\, 00700\, Finland
CATEGORIES:Malmin päivätoimintakeskus
END:VEVENT
BEGIN:VEVENT
DTSTART;TZID=Europe/Helsinki:20231013T090000
DTEND;TZID=Europe/Helsinki:20231013T140000
DTSTAMP:20260421T023142
CREATED:20230607T052142Z
LAST-MODIFIED:20230808T114512Z
UID:10001574-1697187600-1697205600@kalenteri.niemikoti.fi
SUMMARY:Ryhmäpäivä klo 9-13
DESCRIPTION:Ryhmäpäivä\, talo auki klo 9-13. Ilmoittaudu mukaan yhteen tai useampaan ryhmään. Kahvia tarjolla hintaan 1 €/päivä. Omat eväät mukaan!
URL:https://kalenteri.niemikoti.fi/en/tapahtuma/ryhmapaiva-klo-9-13/2023-10-13/
LOCATION:Toimintakeskus Villa Borgis\, Linnavuorentie 13\, Helsinki\, 00950\, Finland
CATEGORIES:Toimintakeskus Villa Borgis
END:VEVENT
END:VCALENDAR