BEGIN:VCALENDAR
VERSION:2.0
PRODID:-//Tapahtumakalenteri - ECPv6.15.18//NONSGML v1.0//EN
CALSCALE:GREGORIAN
METHOD:PUBLISH
X-WR-CALNAME:Tapahtumakalenteri
X-ORIGINAL-URL:https://kalenteri.niemikoti.fi/en/
X-WR-CALDESC:Events for Tapahtumakalenteri
REFRESH-INTERVAL;VALUE=DURATION:PT1H
X-Robots-Tag:noindex
X-PUBLISHED-TTL:PT1H
BEGIN:VTIMEZONE
TZID:Europe/Helsinki
BEGIN:DAYLIGHT
TZOFFSETFROM:+0200
TZOFFSETTO:+0300
TZNAME:EEST
DTSTART:20270328T010000
END:DAYLIGHT
BEGIN:STANDARD
TZOFFSETFROM:+0300
TZOFFSETTO:+0200
TZNAME:EET
DTSTART:20271031T010000
END:STANDARD
BEGIN:DAYLIGHT
TZOFFSETFROM:+0200
TZOFFSETTO:+0300
TZNAME:EEST
DTSTART:20280326T010000
END:DAYLIGHT
BEGIN:STANDARD
TZOFFSETFROM:+0300
TZOFFSETTO:+0200
TZNAME:EET
DTSTART:20281029T010000
END:STANDARD
BEGIN:DAYLIGHT
TZOFFSETFROM:+0200
TZOFFSETTO:+0300
TZNAME:EEST
DTSTART:20290325T010000
END:DAYLIGHT
BEGIN:STANDARD
TZOFFSETFROM:+0300
TZOFFSETTO:+0200
TZNAME:EET
DTSTART:20291028T010000
END:STANDARD
END:VTIMEZONE
BEGIN:VEVENT
DTSTART;TZID=Europe/Helsinki:20280323T120000
DTEND;TZID=Europe/Helsinki:20280323T133000
DTSTAMP:20260421T182851
CREATED:20260126T125733Z
LAST-MODIFIED:20260126T125733Z
UID:10032556-1837425600-1837431000@kalenteri.niemikoti.fi
SUMMARY:Malmin bändi
DESCRIPTION:Vakiintunut kokoonpano\, voit kysyä lisää tietoa ohjaajilta. Ei ryhmää 26.2.
URL:https://kalenteri.niemikoti.fi/en/tapahtuma/malmin-bandi-2/2028-03-23/
LOCATION:Malmin päivätoimintakeskus\, Vanha Helsingintie 9\, Helsinki\, 00700\, Finland
CATEGORIES:Malmin päivätoimintakeskus
END:VEVENT
BEGIN:VEVENT
DTSTART;TZID=Europe/Helsinki:20280330T120000
DTEND;TZID=Europe/Helsinki:20280330T133000
DTSTAMP:20260421T182851
CREATED:20260126T125733Z
LAST-MODIFIED:20260126T125733Z
UID:10032557-1838030400-1838035800@kalenteri.niemikoti.fi
SUMMARY:Malmin bändi
DESCRIPTION:Vakiintunut kokoonpano\, voit kysyä lisää tietoa ohjaajilta. Ei ryhmää 26.2.
URL:https://kalenteri.niemikoti.fi/en/tapahtuma/malmin-bandi-2/2028-03-30/
LOCATION:Malmin päivätoimintakeskus\, Vanha Helsingintie 9\, Helsinki\, 00700\, Finland
CATEGORIES:Malmin päivätoimintakeskus
END:VEVENT
BEGIN:VEVENT
DTSTART;TZID=Europe/Helsinki:20280406T120000
DTEND;TZID=Europe/Helsinki:20280406T133000
DTSTAMP:20260421T182851
CREATED:20260126T125733Z
LAST-MODIFIED:20260126T125733Z
UID:10032558-1838635200-1838640600@kalenteri.niemikoti.fi
SUMMARY:Malmin bändi
DESCRIPTION:Vakiintunut kokoonpano\, voit kysyä lisää tietoa ohjaajilta. Ei ryhmää 26.2.
URL:https://kalenteri.niemikoti.fi/en/tapahtuma/malmin-bandi-2/2028-04-06/
LOCATION:Malmin päivätoimintakeskus\, Vanha Helsingintie 9\, Helsinki\, 00700\, Finland
CATEGORIES:Malmin päivätoimintakeskus
END:VEVENT
BEGIN:VEVENT
DTSTART;TZID=Europe/Helsinki:20280413T120000
DTEND;TZID=Europe/Helsinki:20280413T133000
DTSTAMP:20260421T182851
CREATED:20260126T125733Z
LAST-MODIFIED:20260126T125733Z
UID:10032559-1839240000-1839245400@kalenteri.niemikoti.fi
SUMMARY:Malmin bändi
DESCRIPTION:Vakiintunut kokoonpano\, voit kysyä lisää tietoa ohjaajilta. Ei ryhmää 26.2.
URL:https://kalenteri.niemikoti.fi/en/tapahtuma/malmin-bandi-2/2028-04-13/
LOCATION:Malmin päivätoimintakeskus\, Vanha Helsingintie 9\, Helsinki\, 00700\, Finland
CATEGORIES:Malmin päivätoimintakeskus
END:VEVENT
BEGIN:VEVENT
DTSTART;TZID=Europe/Helsinki:20280420T120000
DTEND;TZID=Europe/Helsinki:20280420T133000
DTSTAMP:20260421T182851
CREATED:20260126T125733Z
LAST-MODIFIED:20260126T125733Z
UID:10032560-1839844800-1839850200@kalenteri.niemikoti.fi
SUMMARY:Malmin bändi
DESCRIPTION:Vakiintunut kokoonpano\, voit kysyä lisää tietoa ohjaajilta. Ei ryhmää 26.2.
URL:https://kalenteri.niemikoti.fi/en/tapahtuma/malmin-bandi-2/2028-04-20/
LOCATION:Malmin päivätoimintakeskus\, Vanha Helsingintie 9\, Helsinki\, 00700\, Finland
CATEGORIES:Malmin päivätoimintakeskus
END:VEVENT
BEGIN:VEVENT
DTSTART;TZID=Europe/Helsinki:20280427T120000
DTEND;TZID=Europe/Helsinki:20280427T133000
DTSTAMP:20260421T182851
CREATED:20260126T125733Z
LAST-MODIFIED:20260126T125733Z
UID:10032561-1840449600-1840455000@kalenteri.niemikoti.fi
SUMMARY:Malmin bändi
DESCRIPTION:Vakiintunut kokoonpano\, voit kysyä lisää tietoa ohjaajilta. Ei ryhmää 26.2.
URL:https://kalenteri.niemikoti.fi/en/tapahtuma/malmin-bandi-2/2028-04-27/
LOCATION:Malmin päivätoimintakeskus\, Vanha Helsingintie 9\, Helsinki\, 00700\, Finland
CATEGORIES:Malmin päivätoimintakeskus
END:VEVENT
BEGIN:VEVENT
DTSTART;TZID=Europe/Helsinki:20280504T120000
DTEND;TZID=Europe/Helsinki:20280504T133000
DTSTAMP:20260421T182851
CREATED:20260126T125733Z
LAST-MODIFIED:20260126T125733Z
UID:10032562-1841054400-1841059800@kalenteri.niemikoti.fi
SUMMARY:Malmin bändi
DESCRIPTION:Vakiintunut kokoonpano\, voit kysyä lisää tietoa ohjaajilta. Ei ryhmää 26.2.
URL:https://kalenteri.niemikoti.fi/en/tapahtuma/malmin-bandi-2/2028-05-04/
LOCATION:Malmin päivätoimintakeskus\, Vanha Helsingintie 9\, Helsinki\, 00700\, Finland
CATEGORIES:Malmin päivätoimintakeskus
END:VEVENT
BEGIN:VEVENT
DTSTART;TZID=Europe/Helsinki:20280511T120000
DTEND;TZID=Europe/Helsinki:20280511T133000
DTSTAMP:20260421T182851
CREATED:20260126T125733Z
LAST-MODIFIED:20260126T125733Z
UID:10032563-1841659200-1841664600@kalenteri.niemikoti.fi
SUMMARY:Malmin bändi
DESCRIPTION:Vakiintunut kokoonpano\, voit kysyä lisää tietoa ohjaajilta. Ei ryhmää 26.2.
URL:https://kalenteri.niemikoti.fi/en/tapahtuma/malmin-bandi-2/2028-05-11/
LOCATION:Malmin päivätoimintakeskus\, Vanha Helsingintie 9\, Helsinki\, 00700\, Finland
CATEGORIES:Malmin päivätoimintakeskus
END:VEVENT
BEGIN:VEVENT
DTSTART;TZID=Europe/Helsinki:20280518T120000
DTEND;TZID=Europe/Helsinki:20280518T133000
DTSTAMP:20260421T182851
CREATED:20260126T125733Z
LAST-MODIFIED:20260126T125733Z
UID:10032564-1842264000-1842269400@kalenteri.niemikoti.fi
SUMMARY:Malmin bändi
DESCRIPTION:Vakiintunut kokoonpano\, voit kysyä lisää tietoa ohjaajilta. Ei ryhmää 26.2.
URL:https://kalenteri.niemikoti.fi/en/tapahtuma/malmin-bandi-2/2028-05-18/
LOCATION:Malmin päivätoimintakeskus\, Vanha Helsingintie 9\, Helsinki\, 00700\, Finland
CATEGORIES:Malmin päivätoimintakeskus
END:VEVENT
BEGIN:VEVENT
DTSTART;TZID=Europe/Helsinki:20280525T120000
DTEND;TZID=Europe/Helsinki:20280525T133000
DTSTAMP:20260421T182851
CREATED:20260126T125733Z
LAST-MODIFIED:20260126T125733Z
UID:10032565-1842868800-1842874200@kalenteri.niemikoti.fi
SUMMARY:Malmin bändi
DESCRIPTION:Vakiintunut kokoonpano\, voit kysyä lisää tietoa ohjaajilta. Ei ryhmää 26.2.
URL:https://kalenteri.niemikoti.fi/en/tapahtuma/malmin-bandi-2/2028-05-25/
LOCATION:Malmin päivätoimintakeskus\, Vanha Helsingintie 9\, Helsinki\, 00700\, Finland
CATEGORIES:Malmin päivätoimintakeskus
END:VEVENT
BEGIN:VEVENT
DTSTART;TZID=Europe/Helsinki:20280601T120000
DTEND;TZID=Europe/Helsinki:20280601T133000
DTSTAMP:20260421T182851
CREATED:20260126T125733Z
LAST-MODIFIED:20260126T125733Z
UID:10032566-1843473600-1843479000@kalenteri.niemikoti.fi
SUMMARY:Malmin bändi
DESCRIPTION:Vakiintunut kokoonpano\, voit kysyä lisää tietoa ohjaajilta. Ei ryhmää 26.2.
URL:https://kalenteri.niemikoti.fi/en/tapahtuma/malmin-bandi-2/2028-06-01/
LOCATION:Malmin päivätoimintakeskus\, Vanha Helsingintie 9\, Helsinki\, 00700\, Finland
CATEGORIES:Malmin päivätoimintakeskus
END:VEVENT
BEGIN:VEVENT
DTSTART;TZID=Europe/Helsinki:20280608T120000
DTEND;TZID=Europe/Helsinki:20280608T133000
DTSTAMP:20260421T182851
CREATED:20260126T125733Z
LAST-MODIFIED:20260126T125733Z
UID:10032567-1844078400-1844083800@kalenteri.niemikoti.fi
SUMMARY:Malmin bändi
DESCRIPTION:Vakiintunut kokoonpano\, voit kysyä lisää tietoa ohjaajilta. Ei ryhmää 26.2.
URL:https://kalenteri.niemikoti.fi/en/tapahtuma/malmin-bandi-2/2028-06-08/
LOCATION:Malmin päivätoimintakeskus\, Vanha Helsingintie 9\, Helsinki\, 00700\, Finland
CATEGORIES:Malmin päivätoimintakeskus
END:VEVENT
BEGIN:VEVENT
DTSTART;TZID=Europe/Helsinki:20280615T120000
DTEND;TZID=Europe/Helsinki:20280615T133000
DTSTAMP:20260421T182851
CREATED:20260126T125733Z
LAST-MODIFIED:20260126T125733Z
UID:10032568-1844683200-1844688600@kalenteri.niemikoti.fi
SUMMARY:Malmin bändi
DESCRIPTION:Vakiintunut kokoonpano\, voit kysyä lisää tietoa ohjaajilta. Ei ryhmää 26.2.
URL:https://kalenteri.niemikoti.fi/en/tapahtuma/malmin-bandi-2/2028-06-15/
LOCATION:Malmin päivätoimintakeskus\, Vanha Helsingintie 9\, Helsinki\, 00700\, Finland
CATEGORIES:Malmin päivätoimintakeskus
END:VEVENT
BEGIN:VEVENT
DTSTART;TZID=Europe/Helsinki:20280622T120000
DTEND;TZID=Europe/Helsinki:20280622T133000
DTSTAMP:20260421T182851
CREATED:20260126T125733Z
LAST-MODIFIED:20260126T125733Z
UID:10032569-1845288000-1845293400@kalenteri.niemikoti.fi
SUMMARY:Malmin bändi
DESCRIPTION:Vakiintunut kokoonpano\, voit kysyä lisää tietoa ohjaajilta. Ei ryhmää 26.2.
URL:https://kalenteri.niemikoti.fi/en/tapahtuma/malmin-bandi-2/2028-06-22/
LOCATION:Malmin päivätoimintakeskus\, Vanha Helsingintie 9\, Helsinki\, 00700\, Finland
CATEGORIES:Malmin päivätoimintakeskus
END:VEVENT
BEGIN:VEVENT
DTSTART;TZID=Europe/Helsinki:20280629T120000
DTEND;TZID=Europe/Helsinki:20280629T133000
DTSTAMP:20260421T182851
CREATED:20260126T125733Z
LAST-MODIFIED:20260126T125733Z
UID:10032570-1845892800-1845898200@kalenteri.niemikoti.fi
SUMMARY:Malmin bändi
DESCRIPTION:Vakiintunut kokoonpano\, voit kysyä lisää tietoa ohjaajilta. Ei ryhmää 26.2.
URL:https://kalenteri.niemikoti.fi/en/tapahtuma/malmin-bandi-2/2028-06-29/
LOCATION:Malmin päivätoimintakeskus\, Vanha Helsingintie 9\, Helsinki\, 00700\, Finland
CATEGORIES:Malmin päivätoimintakeskus
END:VEVENT
BEGIN:VEVENT
DTSTART;TZID=Europe/Helsinki:20280706T120000
DTEND;TZID=Europe/Helsinki:20280706T133000
DTSTAMP:20260421T182851
CREATED:20260126T125733Z
LAST-MODIFIED:20260126T125733Z
UID:10032571-1846497600-1846503000@kalenteri.niemikoti.fi
SUMMARY:Malmin bändi
DESCRIPTION:Vakiintunut kokoonpano\, voit kysyä lisää tietoa ohjaajilta. Ei ryhmää 26.2.
URL:https://kalenteri.niemikoti.fi/en/tapahtuma/malmin-bandi-2/2028-07-06/
LOCATION:Malmin päivätoimintakeskus\, Vanha Helsingintie 9\, Helsinki\, 00700\, Finland
CATEGORIES:Malmin päivätoimintakeskus
END:VEVENT
BEGIN:VEVENT
DTSTART;TZID=Europe/Helsinki:20280713T120000
DTEND;TZID=Europe/Helsinki:20280713T133000
DTSTAMP:20260421T182851
CREATED:20260126T125733Z
LAST-MODIFIED:20260126T125733Z
UID:10032572-1847102400-1847107800@kalenteri.niemikoti.fi
SUMMARY:Malmin bändi
DESCRIPTION:Vakiintunut kokoonpano\, voit kysyä lisää tietoa ohjaajilta. Ei ryhmää 26.2.
URL:https://kalenteri.niemikoti.fi/en/tapahtuma/malmin-bandi-2/2028-07-13/
LOCATION:Malmin päivätoimintakeskus\, Vanha Helsingintie 9\, Helsinki\, 00700\, Finland
CATEGORIES:Malmin päivätoimintakeskus
END:VEVENT
BEGIN:VEVENT
DTSTART;TZID=Europe/Helsinki:20280720T120000
DTEND;TZID=Europe/Helsinki:20280720T133000
DTSTAMP:20260421T182851
CREATED:20260126T125733Z
LAST-MODIFIED:20260126T125733Z
UID:10032573-1847707200-1847712600@kalenteri.niemikoti.fi
SUMMARY:Malmin bändi
DESCRIPTION:Vakiintunut kokoonpano\, voit kysyä lisää tietoa ohjaajilta. Ei ryhmää 26.2.
URL:https://kalenteri.niemikoti.fi/en/tapahtuma/malmin-bandi-2/2028-07-20/
LOCATION:Malmin päivätoimintakeskus\, Vanha Helsingintie 9\, Helsinki\, 00700\, Finland
CATEGORIES:Malmin päivätoimintakeskus
END:VEVENT
BEGIN:VEVENT
DTSTART;TZID=Europe/Helsinki:20280727T120000
DTEND;TZID=Europe/Helsinki:20280727T133000
DTSTAMP:20260421T182851
CREATED:20260126T125733Z
LAST-MODIFIED:20260126T125733Z
UID:10032574-1848312000-1848317400@kalenteri.niemikoti.fi
SUMMARY:Malmin bändi
DESCRIPTION:Vakiintunut kokoonpano\, voit kysyä lisää tietoa ohjaajilta. Ei ryhmää 26.2.
URL:https://kalenteri.niemikoti.fi/en/tapahtuma/malmin-bandi-2/2028-07-27/
LOCATION:Malmin päivätoimintakeskus\, Vanha Helsingintie 9\, Helsinki\, 00700\, Finland
CATEGORIES:Malmin päivätoimintakeskus
END:VEVENT
BEGIN:VEVENT
DTSTART;TZID=Europe/Helsinki:20280803T120000
DTEND;TZID=Europe/Helsinki:20280803T133000
DTSTAMP:20260421T182851
CREATED:20260126T125733Z
LAST-MODIFIED:20260126T125733Z
UID:10032575-1848916800-1848922200@kalenteri.niemikoti.fi
SUMMARY:Malmin bändi
DESCRIPTION:Vakiintunut kokoonpano\, voit kysyä lisää tietoa ohjaajilta. Ei ryhmää 26.2.
URL:https://kalenteri.niemikoti.fi/en/tapahtuma/malmin-bandi-2/2028-08-03/
LOCATION:Malmin päivätoimintakeskus\, Vanha Helsingintie 9\, Helsinki\, 00700\, Finland
CATEGORIES:Malmin päivätoimintakeskus
END:VEVENT
BEGIN:VEVENT
DTSTART;TZID=Europe/Helsinki:20280810T120000
DTEND;TZID=Europe/Helsinki:20280810T133000
DTSTAMP:20260421T182851
CREATED:20260126T125733Z
LAST-MODIFIED:20260126T125733Z
UID:10032576-1849521600-1849527000@kalenteri.niemikoti.fi
SUMMARY:Malmin bändi
DESCRIPTION:Vakiintunut kokoonpano\, voit kysyä lisää tietoa ohjaajilta. Ei ryhmää 26.2.
URL:https://kalenteri.niemikoti.fi/en/tapahtuma/malmin-bandi-2/2028-08-10/
LOCATION:Malmin päivätoimintakeskus\, Vanha Helsingintie 9\, Helsinki\, 00700\, Finland
CATEGORIES:Malmin päivätoimintakeskus
END:VEVENT
BEGIN:VEVENT
DTSTART;TZID=Europe/Helsinki:20280817T120000
DTEND;TZID=Europe/Helsinki:20280817T133000
DTSTAMP:20260421T182851
CREATED:20260126T125733Z
LAST-MODIFIED:20260126T125733Z
UID:10032577-1850126400-1850131800@kalenteri.niemikoti.fi
SUMMARY:Malmin bändi
DESCRIPTION:Vakiintunut kokoonpano\, voit kysyä lisää tietoa ohjaajilta. Ei ryhmää 26.2.
URL:https://kalenteri.niemikoti.fi/en/tapahtuma/malmin-bandi-2/2028-08-17/
LOCATION:Malmin päivätoimintakeskus\, Vanha Helsingintie 9\, Helsinki\, 00700\, Finland
CATEGORIES:Malmin päivätoimintakeskus
END:VEVENT
BEGIN:VEVENT
DTSTART;TZID=Europe/Helsinki:20280824T120000
DTEND;TZID=Europe/Helsinki:20280824T133000
DTSTAMP:20260421T182851
CREATED:20260126T125733Z
LAST-MODIFIED:20260126T125733Z
UID:10032578-1850731200-1850736600@kalenteri.niemikoti.fi
SUMMARY:Malmin bändi
DESCRIPTION:Vakiintunut kokoonpano\, voit kysyä lisää tietoa ohjaajilta. Ei ryhmää 26.2.
URL:https://kalenteri.niemikoti.fi/en/tapahtuma/malmin-bandi-2/2028-08-24/
LOCATION:Malmin päivätoimintakeskus\, Vanha Helsingintie 9\, Helsinki\, 00700\, Finland
CATEGORIES:Malmin päivätoimintakeskus
END:VEVENT
BEGIN:VEVENT
DTSTART;TZID=Europe/Helsinki:20280831T120000
DTEND;TZID=Europe/Helsinki:20280831T133000
DTSTAMP:20260421T182851
CREATED:20260126T125733Z
LAST-MODIFIED:20260126T125733Z
UID:10032579-1851336000-1851341400@kalenteri.niemikoti.fi
SUMMARY:Malmin bändi
DESCRIPTION:Vakiintunut kokoonpano\, voit kysyä lisää tietoa ohjaajilta. Ei ryhmää 26.2.
URL:https://kalenteri.niemikoti.fi/en/tapahtuma/malmin-bandi-2/2028-08-31/
LOCATION:Malmin päivätoimintakeskus\, Vanha Helsingintie 9\, Helsinki\, 00700\, Finland
CATEGORIES:Malmin päivätoimintakeskus
END:VEVENT
BEGIN:VEVENT
DTSTART;TZID=Europe/Helsinki:20280907T120000
DTEND;TZID=Europe/Helsinki:20280907T133000
DTSTAMP:20260421T182851
CREATED:20260126T125733Z
LAST-MODIFIED:20260126T125733Z
UID:10032580-1851940800-1851946200@kalenteri.niemikoti.fi
SUMMARY:Malmin bändi
DESCRIPTION:Vakiintunut kokoonpano\, voit kysyä lisää tietoa ohjaajilta. Ei ryhmää 26.2.
URL:https://kalenteri.niemikoti.fi/en/tapahtuma/malmin-bandi-2/2028-09-07/
LOCATION:Malmin päivätoimintakeskus\, Vanha Helsingintie 9\, Helsinki\, 00700\, Finland
CATEGORIES:Malmin päivätoimintakeskus
END:VEVENT
BEGIN:VEVENT
DTSTART;TZID=Europe/Helsinki:20280914T120000
DTEND;TZID=Europe/Helsinki:20280914T133000
DTSTAMP:20260421T182851
CREATED:20260126T125733Z
LAST-MODIFIED:20260126T125733Z
UID:10032581-1852545600-1852551000@kalenteri.niemikoti.fi
SUMMARY:Malmin bändi
DESCRIPTION:Vakiintunut kokoonpano\, voit kysyä lisää tietoa ohjaajilta. Ei ryhmää 26.2.
URL:https://kalenteri.niemikoti.fi/en/tapahtuma/malmin-bandi-2/2028-09-14/
LOCATION:Malmin päivätoimintakeskus\, Vanha Helsingintie 9\, Helsinki\, 00700\, Finland
CATEGORIES:Malmin päivätoimintakeskus
END:VEVENT
BEGIN:VEVENT
DTSTART;TZID=Europe/Helsinki:20280921T120000
DTEND;TZID=Europe/Helsinki:20280921T133000
DTSTAMP:20260421T182851
CREATED:20260126T125733Z
LAST-MODIFIED:20260126T125733Z
UID:10032582-1853150400-1853155800@kalenteri.niemikoti.fi
SUMMARY:Malmin bändi
DESCRIPTION:Vakiintunut kokoonpano\, voit kysyä lisää tietoa ohjaajilta. Ei ryhmää 26.2.
URL:https://kalenteri.niemikoti.fi/en/tapahtuma/malmin-bandi-2/2028-09-21/
LOCATION:Malmin päivätoimintakeskus\, Vanha Helsingintie 9\, Helsinki\, 00700\, Finland
CATEGORIES:Malmin päivätoimintakeskus
END:VEVENT
BEGIN:VEVENT
DTSTART;TZID=Europe/Helsinki:20280928T120000
DTEND;TZID=Europe/Helsinki:20280928T133000
DTSTAMP:20260421T182851
CREATED:20260126T125733Z
LAST-MODIFIED:20260126T125733Z
UID:10032583-1853755200-1853760600@kalenteri.niemikoti.fi
SUMMARY:Malmin bändi
DESCRIPTION:Vakiintunut kokoonpano\, voit kysyä lisää tietoa ohjaajilta. Ei ryhmää 26.2.
URL:https://kalenteri.niemikoti.fi/en/tapahtuma/malmin-bandi-2/2028-09-28/
LOCATION:Malmin päivätoimintakeskus\, Vanha Helsingintie 9\, Helsinki\, 00700\, Finland
CATEGORIES:Malmin päivätoimintakeskus
END:VEVENT
BEGIN:VEVENT
DTSTART;TZID=Europe/Helsinki:20281005T120000
DTEND;TZID=Europe/Helsinki:20281005T133000
DTSTAMP:20260421T182852
CREATED:20260126T125733Z
LAST-MODIFIED:20260126T125733Z
UID:10032584-1854360000-1854365400@kalenteri.niemikoti.fi
SUMMARY:Malmin bändi
DESCRIPTION:Vakiintunut kokoonpano\, voit kysyä lisää tietoa ohjaajilta. Ei ryhmää 26.2.
URL:https://kalenteri.niemikoti.fi/en/tapahtuma/malmin-bandi-2/2028-10-05/
LOCATION:Malmin päivätoimintakeskus\, Vanha Helsingintie 9\, Helsinki\, 00700\, Finland
CATEGORIES:Malmin päivätoimintakeskus
END:VEVENT
BEGIN:VEVENT
DTSTART;TZID=Europe/Helsinki:20281012T120000
DTEND;TZID=Europe/Helsinki:20281012T133000
DTSTAMP:20260421T182852
CREATED:20260126T125733Z
LAST-MODIFIED:20260126T125733Z
UID:10032585-1854964800-1854970200@kalenteri.niemikoti.fi
SUMMARY:Malmin bändi
DESCRIPTION:Vakiintunut kokoonpano\, voit kysyä lisää tietoa ohjaajilta. Ei ryhmää 26.2.
URL:https://kalenteri.niemikoti.fi/en/tapahtuma/malmin-bandi-2/2028-10-12/
LOCATION:Malmin päivätoimintakeskus\, Vanha Helsingintie 9\, Helsinki\, 00700\, Finland
CATEGORIES:Malmin päivätoimintakeskus
END:VEVENT
END:VCALENDAR