BEGIN:VCALENDAR
VERSION:2.0
PRODID:-//Tapahtumakalenteri - ECPv6.15.18//NONSGML v1.0//EN
CALSCALE:GREGORIAN
METHOD:PUBLISH
X-ORIGINAL-URL:https://kalenteri.niemikoti.fi/en/
X-WR-CALDESC:Events for Tapahtumakalenteri
REFRESH-INTERVAL;VALUE=DURATION:PT1H
X-Robots-Tag:noindex
X-PUBLISHED-TTL:PT1H
BEGIN:VTIMEZONE
TZID:Europe/Helsinki
BEGIN:DAYLIGHT
TZOFFSETFROM:+0200
TZOFFSETTO:+0300
TZNAME:EEST
DTSTART:20270328T010000
END:DAYLIGHT
BEGIN:STANDARD
TZOFFSETFROM:+0300
TZOFFSETTO:+0200
TZNAME:EET
DTSTART:20271031T010000
END:STANDARD
BEGIN:DAYLIGHT
TZOFFSETFROM:+0200
TZOFFSETTO:+0300
TZNAME:EEST
DTSTART:20280326T010000
END:DAYLIGHT
BEGIN:STANDARD
TZOFFSETFROM:+0300
TZOFFSETTO:+0200
TZNAME:EET
DTSTART:20281029T010000
END:STANDARD
BEGIN:DAYLIGHT
TZOFFSETFROM:+0200
TZOFFSETTO:+0300
TZNAME:EEST
DTSTART:20290325T010000
END:DAYLIGHT
BEGIN:STANDARD
TZOFFSETFROM:+0300
TZOFFSETTO:+0200
TZNAME:EET
DTSTART:20291028T010000
END:STANDARD
END:VTIMEZONE
BEGIN:VEVENT
DTSTART;TZID=Europe/Helsinki:20280327T120000
DTEND;TZID=Europe/Helsinki:20280327T130000
DTSTAMP:20260424T015907
CREATED:20260302T135525Z
LAST-MODIFIED:20260303T072113Z
UID:10035442-1837771200-1837774800@kalenteri.niemikoti.fi
SUMMARY:Yhteisön lounas Malmilla
DESCRIPTION:Lounas ja lounaskahvit. Ruokalista vaihtelee kuukausittain ja on nähtävillä Malmin päivätoimintakeskuksessa. Hinta 3\,5 euroa.
URL:https://kalenteri.niemikoti.fi/en/tapahtuma/yhteison-lounas-malmilla/2028-03-27/
LOCATION:Malmin päivätoimintakeskus\, Vanha Helsingintie 9\, Helsinki\, 00700\, Finland
CATEGORIES:Malmin päivätoimintakeskus
END:VEVENT
BEGIN:VEVENT
DTSTART;TZID=Europe/Helsinki:20280328T120000
DTEND;TZID=Europe/Helsinki:20280328T130000
DTSTAMP:20260424T015907
CREATED:20260302T135525Z
LAST-MODIFIED:20260303T072113Z
UID:10035443-1837857600-1837861200@kalenteri.niemikoti.fi
SUMMARY:Yhteisön lounas Malmilla
DESCRIPTION:Lounas ja lounaskahvit. Ruokalista vaihtelee kuukausittain ja on nähtävillä Malmin päivätoimintakeskuksessa. Hinta 3\,5 euroa.
URL:https://kalenteri.niemikoti.fi/en/tapahtuma/yhteison-lounas-malmilla/2028-03-28/
LOCATION:Malmin päivätoimintakeskus\, Vanha Helsingintie 9\, Helsinki\, 00700\, Finland
CATEGORIES:Malmin päivätoimintakeskus
END:VEVENT
BEGIN:VEVENT
DTSTART;TZID=Europe/Helsinki:20280329T120000
DTEND;TZID=Europe/Helsinki:20280329T130000
DTSTAMP:20260424T015907
CREATED:20260302T135525Z
LAST-MODIFIED:20260303T072113Z
UID:10035444-1837944000-1837947600@kalenteri.niemikoti.fi
SUMMARY:Yhteisön lounas Malmilla
DESCRIPTION:Lounas ja lounaskahvit. Ruokalista vaihtelee kuukausittain ja on nähtävillä Malmin päivätoimintakeskuksessa. Hinta 3\,5 euroa.
URL:https://kalenteri.niemikoti.fi/en/tapahtuma/yhteison-lounas-malmilla/2028-03-29/
LOCATION:Malmin päivätoimintakeskus\, Vanha Helsingintie 9\, Helsinki\, 00700\, Finland
CATEGORIES:Malmin päivätoimintakeskus
END:VEVENT
BEGIN:VEVENT
DTSTART;TZID=Europe/Helsinki:20280403T120000
DTEND;TZID=Europe/Helsinki:20280403T130000
DTSTAMP:20260424T015907
CREATED:20260302T135525Z
LAST-MODIFIED:20260303T072113Z
UID:10035446-1838376000-1838379600@kalenteri.niemikoti.fi
SUMMARY:Yhteisön lounas Malmilla
DESCRIPTION:Lounas ja lounaskahvit. Ruokalista vaihtelee kuukausittain ja on nähtävillä Malmin päivätoimintakeskuksessa. Hinta 3\,5 euroa.
URL:https://kalenteri.niemikoti.fi/en/tapahtuma/yhteison-lounas-malmilla/2028-04-03/
LOCATION:Malmin päivätoimintakeskus\, Vanha Helsingintie 9\, Helsinki\, 00700\, Finland
CATEGORIES:Malmin päivätoimintakeskus
END:VEVENT
BEGIN:VEVENT
DTSTART;TZID=Europe/Helsinki:20280404T120000
DTEND;TZID=Europe/Helsinki:20280404T130000
DTSTAMP:20260424T015907
CREATED:20260302T135525Z
LAST-MODIFIED:20260303T072113Z
UID:10035447-1838462400-1838466000@kalenteri.niemikoti.fi
SUMMARY:Yhteisön lounas Malmilla
DESCRIPTION:Lounas ja lounaskahvit. Ruokalista vaihtelee kuukausittain ja on nähtävillä Malmin päivätoimintakeskuksessa. Hinta 3\,5 euroa.
URL:https://kalenteri.niemikoti.fi/en/tapahtuma/yhteison-lounas-malmilla/2028-04-04/
LOCATION:Malmin päivätoimintakeskus\, Vanha Helsingintie 9\, Helsinki\, 00700\, Finland
CATEGORIES:Malmin päivätoimintakeskus
END:VEVENT
BEGIN:VEVENT
DTSTART;TZID=Europe/Helsinki:20280405T120000
DTEND;TZID=Europe/Helsinki:20280405T130000
DTSTAMP:20260424T015907
CREATED:20260302T135525Z
LAST-MODIFIED:20260303T072113Z
UID:10035448-1838548800-1838552400@kalenteri.niemikoti.fi
SUMMARY:Yhteisön lounas Malmilla
DESCRIPTION:Lounas ja lounaskahvit. Ruokalista vaihtelee kuukausittain ja on nähtävillä Malmin päivätoimintakeskuksessa. Hinta 3\,5 euroa.
URL:https://kalenteri.niemikoti.fi/en/tapahtuma/yhteison-lounas-malmilla/2028-04-05/
LOCATION:Malmin päivätoimintakeskus\, Vanha Helsingintie 9\, Helsinki\, 00700\, Finland
CATEGORIES:Malmin päivätoimintakeskus
END:VEVENT
BEGIN:VEVENT
DTSTART;TZID=Europe/Helsinki:20280410T120000
DTEND;TZID=Europe/Helsinki:20280410T130000
DTSTAMP:20260424T015907
CREATED:20260302T135525Z
LAST-MODIFIED:20260303T072113Z
UID:10035450-1838980800-1838984400@kalenteri.niemikoti.fi
SUMMARY:Yhteisön lounas Malmilla
DESCRIPTION:Lounas ja lounaskahvit. Ruokalista vaihtelee kuukausittain ja on nähtävillä Malmin päivätoimintakeskuksessa. Hinta 3\,5 euroa.
URL:https://kalenteri.niemikoti.fi/en/tapahtuma/yhteison-lounas-malmilla/2028-04-10/
LOCATION:Malmin päivätoimintakeskus\, Vanha Helsingintie 9\, Helsinki\, 00700\, Finland
CATEGORIES:Malmin päivätoimintakeskus
END:VEVENT
BEGIN:VEVENT
DTSTART;TZID=Europe/Helsinki:20280411T120000
DTEND;TZID=Europe/Helsinki:20280411T130000
DTSTAMP:20260424T015907
CREATED:20260302T135525Z
LAST-MODIFIED:20260303T072113Z
UID:10035451-1839067200-1839070800@kalenteri.niemikoti.fi
SUMMARY:Yhteisön lounas Malmilla
DESCRIPTION:Lounas ja lounaskahvit. Ruokalista vaihtelee kuukausittain ja on nähtävillä Malmin päivätoimintakeskuksessa. Hinta 3\,5 euroa.
URL:https://kalenteri.niemikoti.fi/en/tapahtuma/yhteison-lounas-malmilla/2028-04-11/
LOCATION:Malmin päivätoimintakeskus\, Vanha Helsingintie 9\, Helsinki\, 00700\, Finland
CATEGORIES:Malmin päivätoimintakeskus
END:VEVENT
BEGIN:VEVENT
DTSTART;TZID=Europe/Helsinki:20280412T120000
DTEND;TZID=Europe/Helsinki:20280412T130000
DTSTAMP:20260424T015907
CREATED:20260302T135525Z
LAST-MODIFIED:20260303T072113Z
UID:10035452-1839153600-1839157200@kalenteri.niemikoti.fi
SUMMARY:Yhteisön lounas Malmilla
DESCRIPTION:Lounas ja lounaskahvit. Ruokalista vaihtelee kuukausittain ja on nähtävillä Malmin päivätoimintakeskuksessa. Hinta 3\,5 euroa.
URL:https://kalenteri.niemikoti.fi/en/tapahtuma/yhteison-lounas-malmilla/2028-04-12/
LOCATION:Malmin päivätoimintakeskus\, Vanha Helsingintie 9\, Helsinki\, 00700\, Finland
CATEGORIES:Malmin päivätoimintakeskus
END:VEVENT
BEGIN:VEVENT
DTSTART;TZID=Europe/Helsinki:20280417T120000
DTEND;TZID=Europe/Helsinki:20280417T130000
DTSTAMP:20260424T015907
CREATED:20260302T135525Z
LAST-MODIFIED:20260303T072113Z
UID:10035454-1839585600-1839589200@kalenteri.niemikoti.fi
SUMMARY:Yhteisön lounas Malmilla
DESCRIPTION:Lounas ja lounaskahvit. Ruokalista vaihtelee kuukausittain ja on nähtävillä Malmin päivätoimintakeskuksessa. Hinta 3\,5 euroa.
URL:https://kalenteri.niemikoti.fi/en/tapahtuma/yhteison-lounas-malmilla/2028-04-17/
LOCATION:Malmin päivätoimintakeskus\, Vanha Helsingintie 9\, Helsinki\, 00700\, Finland
CATEGORIES:Malmin päivätoimintakeskus
END:VEVENT
BEGIN:VEVENT
DTSTART;TZID=Europe/Helsinki:20280418T120000
DTEND;TZID=Europe/Helsinki:20280418T130000
DTSTAMP:20260424T015907
CREATED:20260302T135525Z
LAST-MODIFIED:20260303T072113Z
UID:10035455-1839672000-1839675600@kalenteri.niemikoti.fi
SUMMARY:Yhteisön lounas Malmilla
DESCRIPTION:Lounas ja lounaskahvit. Ruokalista vaihtelee kuukausittain ja on nähtävillä Malmin päivätoimintakeskuksessa. Hinta 3\,5 euroa.
URL:https://kalenteri.niemikoti.fi/en/tapahtuma/yhteison-lounas-malmilla/2028-04-18/
LOCATION:Malmin päivätoimintakeskus\, Vanha Helsingintie 9\, Helsinki\, 00700\, Finland
CATEGORIES:Malmin päivätoimintakeskus
END:VEVENT
BEGIN:VEVENT
DTSTART;TZID=Europe/Helsinki:20280419T120000
DTEND;TZID=Europe/Helsinki:20280419T130000
DTSTAMP:20260424T015907
CREATED:20260302T135525Z
LAST-MODIFIED:20260303T072113Z
UID:10035456-1839758400-1839762000@kalenteri.niemikoti.fi
SUMMARY:Yhteisön lounas Malmilla
DESCRIPTION:Lounas ja lounaskahvit. Ruokalista vaihtelee kuukausittain ja on nähtävillä Malmin päivätoimintakeskuksessa. Hinta 3\,5 euroa.
URL:https://kalenteri.niemikoti.fi/en/tapahtuma/yhteison-lounas-malmilla/2028-04-19/
LOCATION:Malmin päivätoimintakeskus\, Vanha Helsingintie 9\, Helsinki\, 00700\, Finland
CATEGORIES:Malmin päivätoimintakeskus
END:VEVENT
BEGIN:VEVENT
DTSTART;TZID=Europe/Helsinki:20280424T120000
DTEND;TZID=Europe/Helsinki:20280424T130000
DTSTAMP:20260424T015907
CREATED:20260302T135525Z
LAST-MODIFIED:20260303T072113Z
UID:10035458-1840190400-1840194000@kalenteri.niemikoti.fi
SUMMARY:Yhteisön lounas Malmilla
DESCRIPTION:Lounas ja lounaskahvit. Ruokalista vaihtelee kuukausittain ja on nähtävillä Malmin päivätoimintakeskuksessa. Hinta 3\,5 euroa.
URL:https://kalenteri.niemikoti.fi/en/tapahtuma/yhteison-lounas-malmilla/2028-04-24/
LOCATION:Malmin päivätoimintakeskus\, Vanha Helsingintie 9\, Helsinki\, 00700\, Finland
CATEGORIES:Malmin päivätoimintakeskus
END:VEVENT
BEGIN:VEVENT
DTSTART;TZID=Europe/Helsinki:20280425T120000
DTEND;TZID=Europe/Helsinki:20280425T130000
DTSTAMP:20260424T015907
CREATED:20260302T135525Z
LAST-MODIFIED:20260303T072113Z
UID:10035459-1840276800-1840280400@kalenteri.niemikoti.fi
SUMMARY:Yhteisön lounas Malmilla
DESCRIPTION:Lounas ja lounaskahvit. Ruokalista vaihtelee kuukausittain ja on nähtävillä Malmin päivätoimintakeskuksessa. Hinta 3\,5 euroa.
URL:https://kalenteri.niemikoti.fi/en/tapahtuma/yhteison-lounas-malmilla/2028-04-25/
LOCATION:Malmin päivätoimintakeskus\, Vanha Helsingintie 9\, Helsinki\, 00700\, Finland
CATEGORIES:Malmin päivätoimintakeskus
END:VEVENT
BEGIN:VEVENT
DTSTART;TZID=Europe/Helsinki:20280426T120000
DTEND;TZID=Europe/Helsinki:20280426T130000
DTSTAMP:20260424T015907
CREATED:20260302T135525Z
LAST-MODIFIED:20260303T072113Z
UID:10035460-1840363200-1840366800@kalenteri.niemikoti.fi
SUMMARY:Yhteisön lounas Malmilla
DESCRIPTION:Lounas ja lounaskahvit. Ruokalista vaihtelee kuukausittain ja on nähtävillä Malmin päivätoimintakeskuksessa. Hinta 3\,5 euroa.
URL:https://kalenteri.niemikoti.fi/en/tapahtuma/yhteison-lounas-malmilla/2028-04-26/
LOCATION:Malmin päivätoimintakeskus\, Vanha Helsingintie 9\, Helsinki\, 00700\, Finland
CATEGORIES:Malmin päivätoimintakeskus
END:VEVENT
BEGIN:VEVENT
DTSTART;TZID=Europe/Helsinki:20280501T120000
DTEND;TZID=Europe/Helsinki:20280501T130000
DTSTAMP:20260424T015907
CREATED:20260302T135525Z
LAST-MODIFIED:20260303T072113Z
UID:10035462-1840795200-1840798800@kalenteri.niemikoti.fi
SUMMARY:Yhteisön lounas Malmilla
DESCRIPTION:Lounas ja lounaskahvit. Ruokalista vaihtelee kuukausittain ja on nähtävillä Malmin päivätoimintakeskuksessa. Hinta 3\,5 euroa.
URL:https://kalenteri.niemikoti.fi/en/tapahtuma/yhteison-lounas-malmilla/2028-05-01/
LOCATION:Malmin päivätoimintakeskus\, Vanha Helsingintie 9\, Helsinki\, 00700\, Finland
CATEGORIES:Malmin päivätoimintakeskus
END:VEVENT
BEGIN:VEVENT
DTSTART;TZID=Europe/Helsinki:20280502T120000
DTEND;TZID=Europe/Helsinki:20280502T130000
DTSTAMP:20260424T015907
CREATED:20260302T135525Z
LAST-MODIFIED:20260303T072113Z
UID:10035463-1840881600-1840885200@kalenteri.niemikoti.fi
SUMMARY:Yhteisön lounas Malmilla
DESCRIPTION:Lounas ja lounaskahvit. Ruokalista vaihtelee kuukausittain ja on nähtävillä Malmin päivätoimintakeskuksessa. Hinta 3\,5 euroa.
URL:https://kalenteri.niemikoti.fi/en/tapahtuma/yhteison-lounas-malmilla/2028-05-02/
LOCATION:Malmin päivätoimintakeskus\, Vanha Helsingintie 9\, Helsinki\, 00700\, Finland
CATEGORIES:Malmin päivätoimintakeskus
END:VEVENT
BEGIN:VEVENT
DTSTART;TZID=Europe/Helsinki:20280503T120000
DTEND;TZID=Europe/Helsinki:20280503T130000
DTSTAMP:20260424T015907
CREATED:20260302T135525Z
LAST-MODIFIED:20260303T072113Z
UID:10035464-1840968000-1840971600@kalenteri.niemikoti.fi
SUMMARY:Yhteisön lounas Malmilla
DESCRIPTION:Lounas ja lounaskahvit. Ruokalista vaihtelee kuukausittain ja on nähtävillä Malmin päivätoimintakeskuksessa. Hinta 3\,5 euroa.
URL:https://kalenteri.niemikoti.fi/en/tapahtuma/yhteison-lounas-malmilla/2028-05-03/
LOCATION:Malmin päivätoimintakeskus\, Vanha Helsingintie 9\, Helsinki\, 00700\, Finland
CATEGORIES:Malmin päivätoimintakeskus
END:VEVENT
BEGIN:VEVENT
DTSTART;TZID=Europe/Helsinki:20280508T120000
DTEND;TZID=Europe/Helsinki:20280508T130000
DTSTAMP:20260424T015907
CREATED:20260302T135525Z
LAST-MODIFIED:20260303T072113Z
UID:10035466-1841400000-1841403600@kalenteri.niemikoti.fi
SUMMARY:Yhteisön lounas Malmilla
DESCRIPTION:Lounas ja lounaskahvit. Ruokalista vaihtelee kuukausittain ja on nähtävillä Malmin päivätoimintakeskuksessa. Hinta 3\,5 euroa.
URL:https://kalenteri.niemikoti.fi/en/tapahtuma/yhteison-lounas-malmilla/2028-05-08/
LOCATION:Malmin päivätoimintakeskus\, Vanha Helsingintie 9\, Helsinki\, 00700\, Finland
CATEGORIES:Malmin päivätoimintakeskus
END:VEVENT
BEGIN:VEVENT
DTSTART;TZID=Europe/Helsinki:20280509T120000
DTEND;TZID=Europe/Helsinki:20280509T130000
DTSTAMP:20260424T015907
CREATED:20260302T135525Z
LAST-MODIFIED:20260303T072113Z
UID:10035467-1841486400-1841490000@kalenteri.niemikoti.fi
SUMMARY:Yhteisön lounas Malmilla
DESCRIPTION:Lounas ja lounaskahvit. Ruokalista vaihtelee kuukausittain ja on nähtävillä Malmin päivätoimintakeskuksessa. Hinta 3\,5 euroa.
URL:https://kalenteri.niemikoti.fi/en/tapahtuma/yhteison-lounas-malmilla/2028-05-09/
LOCATION:Malmin päivätoimintakeskus\, Vanha Helsingintie 9\, Helsinki\, 00700\, Finland
CATEGORIES:Malmin päivätoimintakeskus
END:VEVENT
BEGIN:VEVENT
DTSTART;TZID=Europe/Helsinki:20280510T120000
DTEND;TZID=Europe/Helsinki:20280510T130000
DTSTAMP:20260424T015907
CREATED:20260302T135525Z
LAST-MODIFIED:20260303T072113Z
UID:10035468-1841572800-1841576400@kalenteri.niemikoti.fi
SUMMARY:Yhteisön lounas Malmilla
DESCRIPTION:Lounas ja lounaskahvit. Ruokalista vaihtelee kuukausittain ja on nähtävillä Malmin päivätoimintakeskuksessa. Hinta 3\,5 euroa.
URL:https://kalenteri.niemikoti.fi/en/tapahtuma/yhteison-lounas-malmilla/2028-05-10/
LOCATION:Malmin päivätoimintakeskus\, Vanha Helsingintie 9\, Helsinki\, 00700\, Finland
CATEGORIES:Malmin päivätoimintakeskus
END:VEVENT
BEGIN:VEVENT
DTSTART;TZID=Europe/Helsinki:20280515T120000
DTEND;TZID=Europe/Helsinki:20280515T130000
DTSTAMP:20260424T015907
CREATED:20260302T135525Z
LAST-MODIFIED:20260303T072113Z
UID:10035470-1842004800-1842008400@kalenteri.niemikoti.fi
SUMMARY:Yhteisön lounas Malmilla
DESCRIPTION:Lounas ja lounaskahvit. Ruokalista vaihtelee kuukausittain ja on nähtävillä Malmin päivätoimintakeskuksessa. Hinta 3\,5 euroa.
URL:https://kalenteri.niemikoti.fi/en/tapahtuma/yhteison-lounas-malmilla/2028-05-15/
LOCATION:Malmin päivätoimintakeskus\, Vanha Helsingintie 9\, Helsinki\, 00700\, Finland
CATEGORIES:Malmin päivätoimintakeskus
END:VEVENT
BEGIN:VEVENT
DTSTART;TZID=Europe/Helsinki:20280516T120000
DTEND;TZID=Europe/Helsinki:20280516T130000
DTSTAMP:20260424T015907
CREATED:20260302T135525Z
LAST-MODIFIED:20260303T072113Z
UID:10035471-1842091200-1842094800@kalenteri.niemikoti.fi
SUMMARY:Yhteisön lounas Malmilla
DESCRIPTION:Lounas ja lounaskahvit. Ruokalista vaihtelee kuukausittain ja on nähtävillä Malmin päivätoimintakeskuksessa. Hinta 3\,5 euroa.
URL:https://kalenteri.niemikoti.fi/en/tapahtuma/yhteison-lounas-malmilla/2028-05-16/
LOCATION:Malmin päivätoimintakeskus\, Vanha Helsingintie 9\, Helsinki\, 00700\, Finland
CATEGORIES:Malmin päivätoimintakeskus
END:VEVENT
BEGIN:VEVENT
DTSTART;TZID=Europe/Helsinki:20280517T120000
DTEND;TZID=Europe/Helsinki:20280517T130000
DTSTAMP:20260424T015907
CREATED:20260302T135525Z
LAST-MODIFIED:20260303T072113Z
UID:10035472-1842177600-1842181200@kalenteri.niemikoti.fi
SUMMARY:Yhteisön lounas Malmilla
DESCRIPTION:Lounas ja lounaskahvit. Ruokalista vaihtelee kuukausittain ja on nähtävillä Malmin päivätoimintakeskuksessa. Hinta 3\,5 euroa.
URL:https://kalenteri.niemikoti.fi/en/tapahtuma/yhteison-lounas-malmilla/2028-05-17/
LOCATION:Malmin päivätoimintakeskus\, Vanha Helsingintie 9\, Helsinki\, 00700\, Finland
CATEGORIES:Malmin päivätoimintakeskus
END:VEVENT
BEGIN:VEVENT
DTSTART;TZID=Europe/Helsinki:20280522T120000
DTEND;TZID=Europe/Helsinki:20280522T130000
DTSTAMP:20260424T015907
CREATED:20260302T135525Z
LAST-MODIFIED:20260303T072113Z
UID:10035474-1842609600-1842613200@kalenteri.niemikoti.fi
SUMMARY:Yhteisön lounas Malmilla
DESCRIPTION:Lounas ja lounaskahvit. Ruokalista vaihtelee kuukausittain ja on nähtävillä Malmin päivätoimintakeskuksessa. Hinta 3\,5 euroa.
URL:https://kalenteri.niemikoti.fi/en/tapahtuma/yhteison-lounas-malmilla/2028-05-22/
LOCATION:Malmin päivätoimintakeskus\, Vanha Helsingintie 9\, Helsinki\, 00700\, Finland
CATEGORIES:Malmin päivätoimintakeskus
END:VEVENT
BEGIN:VEVENT
DTSTART;TZID=Europe/Helsinki:20280523T120000
DTEND;TZID=Europe/Helsinki:20280523T130000
DTSTAMP:20260424T015907
CREATED:20260302T135525Z
LAST-MODIFIED:20260303T072113Z
UID:10035475-1842696000-1842699600@kalenteri.niemikoti.fi
SUMMARY:Yhteisön lounas Malmilla
DESCRIPTION:Lounas ja lounaskahvit. Ruokalista vaihtelee kuukausittain ja on nähtävillä Malmin päivätoimintakeskuksessa. Hinta 3\,5 euroa.
URL:https://kalenteri.niemikoti.fi/en/tapahtuma/yhteison-lounas-malmilla/2028-05-23/
LOCATION:Malmin päivätoimintakeskus\, Vanha Helsingintie 9\, Helsinki\, 00700\, Finland
CATEGORIES:Malmin päivätoimintakeskus
END:VEVENT
BEGIN:VEVENT
DTSTART;TZID=Europe/Helsinki:20280524T120000
DTEND;TZID=Europe/Helsinki:20280524T130000
DTSTAMP:20260424T015907
CREATED:20260302T135525Z
LAST-MODIFIED:20260303T072113Z
UID:10035476-1842782400-1842786000@kalenteri.niemikoti.fi
SUMMARY:Yhteisön lounas Malmilla
DESCRIPTION:Lounas ja lounaskahvit. Ruokalista vaihtelee kuukausittain ja on nähtävillä Malmin päivätoimintakeskuksessa. Hinta 3\,5 euroa.
URL:https://kalenteri.niemikoti.fi/en/tapahtuma/yhteison-lounas-malmilla/2028-05-24/
LOCATION:Malmin päivätoimintakeskus\, Vanha Helsingintie 9\, Helsinki\, 00700\, Finland
CATEGORIES:Malmin päivätoimintakeskus
END:VEVENT
BEGIN:VEVENT
DTSTART;TZID=Europe/Helsinki:20280529T120000
DTEND;TZID=Europe/Helsinki:20280529T130000
DTSTAMP:20260424T015907
CREATED:20260302T135525Z
LAST-MODIFIED:20260303T072113Z
UID:10035478-1843214400-1843218000@kalenteri.niemikoti.fi
SUMMARY:Yhteisön lounas Malmilla
DESCRIPTION:Lounas ja lounaskahvit. Ruokalista vaihtelee kuukausittain ja on nähtävillä Malmin päivätoimintakeskuksessa. Hinta 3\,5 euroa.
URL:https://kalenteri.niemikoti.fi/en/tapahtuma/yhteison-lounas-malmilla/2028-05-29/
LOCATION:Malmin päivätoimintakeskus\, Vanha Helsingintie 9\, Helsinki\, 00700\, Finland
CATEGORIES:Malmin päivätoimintakeskus
END:VEVENT
BEGIN:VEVENT
DTSTART;TZID=Europe/Helsinki:20280530T120000
DTEND;TZID=Europe/Helsinki:20280530T130000
DTSTAMP:20260424T015907
CREATED:20260302T135525Z
LAST-MODIFIED:20260303T072113Z
UID:10035479-1843300800-1843304400@kalenteri.niemikoti.fi
SUMMARY:Yhteisön lounas Malmilla
DESCRIPTION:Lounas ja lounaskahvit. Ruokalista vaihtelee kuukausittain ja on nähtävillä Malmin päivätoimintakeskuksessa. Hinta 3\,5 euroa.
URL:https://kalenteri.niemikoti.fi/en/tapahtuma/yhteison-lounas-malmilla/2028-05-30/
LOCATION:Malmin päivätoimintakeskus\, Vanha Helsingintie 9\, Helsinki\, 00700\, Finland
CATEGORIES:Malmin päivätoimintakeskus
END:VEVENT
BEGIN:VEVENT
DTSTART;TZID=Europe/Helsinki:20280531T120000
DTEND;TZID=Europe/Helsinki:20280531T130000
DTSTAMP:20260424T015907
CREATED:20260302T135525Z
LAST-MODIFIED:20260303T072113Z
UID:10035480-1843387200-1843390800@kalenteri.niemikoti.fi
SUMMARY:Yhteisön lounas Malmilla
DESCRIPTION:Lounas ja lounaskahvit. Ruokalista vaihtelee kuukausittain ja on nähtävillä Malmin päivätoimintakeskuksessa. Hinta 3\,5 euroa.
URL:https://kalenteri.niemikoti.fi/en/tapahtuma/yhteison-lounas-malmilla/2028-05-31/
LOCATION:Malmin päivätoimintakeskus\, Vanha Helsingintie 9\, Helsinki\, 00700\, Finland
CATEGORIES:Malmin päivätoimintakeskus
END:VEVENT
END:VCALENDAR