BEGIN:VCALENDAR
VERSION:2.0
PRODID:-//Tapahtumakalenteri - ECPv6.15.18//NONSGML v1.0//EN
CALSCALE:GREGORIAN
METHOD:PUBLISH
X-ORIGINAL-URL:https://kalenteri.niemikoti.fi/en/
X-WR-CALDESC:Events for Tapahtumakalenteri
REFRESH-INTERVAL;VALUE=DURATION:PT1H
X-Robots-Tag:noindex
X-PUBLISHED-TTL:PT1H
BEGIN:VTIMEZONE
TZID:Europe/Helsinki
BEGIN:DAYLIGHT
TZOFFSETFROM:+0200
TZOFFSETTO:+0300
TZNAME:EEST
DTSTART:20260329T010000
END:DAYLIGHT
BEGIN:STANDARD
TZOFFSETFROM:+0300
TZOFFSETTO:+0200
TZNAME:EET
DTSTART:20261025T010000
END:STANDARD
BEGIN:DAYLIGHT
TZOFFSETFROM:+0200
TZOFFSETTO:+0300
TZNAME:EEST
DTSTART:20270328T010000
END:DAYLIGHT
BEGIN:STANDARD
TZOFFSETFROM:+0300
TZOFFSETTO:+0200
TZNAME:EET
DTSTART:20271031T010000
END:STANDARD
BEGIN:DAYLIGHT
TZOFFSETFROM:+0200
TZOFFSETTO:+0300
TZNAME:EEST
DTSTART:20280326T010000
END:DAYLIGHT
BEGIN:STANDARD
TZOFFSETFROM:+0300
TZOFFSETTO:+0200
TZNAME:EET
DTSTART:20281029T010000
END:STANDARD
BEGIN:DAYLIGHT
TZOFFSETFROM:+0200
TZOFFSETTO:+0300
TZNAME:EEST
DTSTART:20290325T010000
END:DAYLIGHT
BEGIN:STANDARD
TZOFFSETFROM:+0300
TZOFFSETTO:+0200
TZNAME:EET
DTSTART:20291028T010000
END:STANDARD
END:VTIMEZONE
BEGIN:VEVENT
DTSTART;TZID=Europe/Helsinki:20271227T090000
DTEND;TZID=Europe/Helsinki:20271227T100000
DTSTAMP:20260421T205826
CREATED:20260302T134800Z
LAST-MODIFIED:20260302T134800Z
UID:10034346-1829898000-1829901600@kalenteri.niemikoti.fi
SUMMARY:Yhteisön aamiainen Malmilla
DESCRIPTION:Aamiaisella puuroa\, muroja tai jogurttia vaihtelevasti sekä leipää päällisineen. Juomaksi tuoremehua sekä kahvia tai teetä. Hinta 1\,5 e.
URL:https://kalenteri.niemikoti.fi/en/tapahtuma/yhteison-aamiainen-malmilla/2027-12-27/
LOCATION:Malmin päivätoimintakeskus\, Vanha Helsingintie 9\, Helsinki\, 00700\, Finland
CATEGORIES:Malmin päivätoimintakeskus
END:VEVENT
BEGIN:VEVENT
DTSTART;TZID=Europe/Helsinki:20271228T090000
DTEND;TZID=Europe/Helsinki:20271228T100000
DTSTAMP:20260421T205826
CREATED:20260302T134800Z
LAST-MODIFIED:20260302T134800Z
UID:10034347-1829984400-1829988000@kalenteri.niemikoti.fi
SUMMARY:Yhteisön aamiainen Malmilla
DESCRIPTION:Aamiaisella puuroa\, muroja tai jogurttia vaihtelevasti sekä leipää päällisineen. Juomaksi tuoremehua sekä kahvia tai teetä. Hinta 1\,5 e.
URL:https://kalenteri.niemikoti.fi/en/tapahtuma/yhteison-aamiainen-malmilla/2027-12-28/
LOCATION:Malmin päivätoimintakeskus\, Vanha Helsingintie 9\, Helsinki\, 00700\, Finland
CATEGORIES:Malmin päivätoimintakeskus
END:VEVENT
BEGIN:VEVENT
DTSTART;TZID=Europe/Helsinki:20271229T090000
DTEND;TZID=Europe/Helsinki:20271229T100000
DTSTAMP:20260421T205826
CREATED:20260302T134800Z
LAST-MODIFIED:20260302T134800Z
UID:10034348-1830070800-1830074400@kalenteri.niemikoti.fi
SUMMARY:Yhteisön aamiainen Malmilla
DESCRIPTION:Aamiaisella puuroa\, muroja tai jogurttia vaihtelevasti sekä leipää päällisineen. Juomaksi tuoremehua sekä kahvia tai teetä. Hinta 1\,5 e.
URL:https://kalenteri.niemikoti.fi/en/tapahtuma/yhteison-aamiainen-malmilla/2027-12-29/
LOCATION:Malmin päivätoimintakeskus\, Vanha Helsingintie 9\, Helsinki\, 00700\, Finland
CATEGORIES:Malmin päivätoimintakeskus
END:VEVENT
BEGIN:VEVENT
DTSTART;TZID=Europe/Helsinki:20271231T090000
DTEND;TZID=Europe/Helsinki:20271231T100000
DTSTAMP:20260421T205826
CREATED:20260302T134800Z
LAST-MODIFIED:20260302T134800Z
UID:10034349-1830243600-1830247200@kalenteri.niemikoti.fi
SUMMARY:Yhteisön aamiainen Malmilla
DESCRIPTION:Aamiaisella puuroa\, muroja tai jogurttia vaihtelevasti sekä leipää päällisineen. Juomaksi tuoremehua sekä kahvia tai teetä. Hinta 1\,5 e.
URL:https://kalenteri.niemikoti.fi/en/tapahtuma/yhteison-aamiainen-malmilla/2027-12-31/
LOCATION:Malmin päivätoimintakeskus\, Vanha Helsingintie 9\, Helsinki\, 00700\, Finland
CATEGORIES:Malmin päivätoimintakeskus
END:VEVENT
BEGIN:VEVENT
DTSTART;TZID=Europe/Helsinki:20280103T090000
DTEND;TZID=Europe/Helsinki:20280103T100000
DTSTAMP:20260421T205826
CREATED:20260302T134800Z
LAST-MODIFIED:20260302T134800Z
UID:10034350-1830502800-1830506400@kalenteri.niemikoti.fi
SUMMARY:Yhteisön aamiainen Malmilla
DESCRIPTION:Aamiaisella puuroa\, muroja tai jogurttia vaihtelevasti sekä leipää päällisineen. Juomaksi tuoremehua sekä kahvia tai teetä. Hinta 1\,5 e.
URL:https://kalenteri.niemikoti.fi/en/tapahtuma/yhteison-aamiainen-malmilla/2028-01-03/
LOCATION:Malmin päivätoimintakeskus\, Vanha Helsingintie 9\, Helsinki\, 00700\, Finland
CATEGORIES:Malmin päivätoimintakeskus
END:VEVENT
BEGIN:VEVENT
DTSTART;TZID=Europe/Helsinki:20280104T090000
DTEND;TZID=Europe/Helsinki:20280104T100000
DTSTAMP:20260421T205826
CREATED:20260302T134800Z
LAST-MODIFIED:20260302T134800Z
UID:10034351-1830589200-1830592800@kalenteri.niemikoti.fi
SUMMARY:Yhteisön aamiainen Malmilla
DESCRIPTION:Aamiaisella puuroa\, muroja tai jogurttia vaihtelevasti sekä leipää päällisineen. Juomaksi tuoremehua sekä kahvia tai teetä. Hinta 1\,5 e.
URL:https://kalenteri.niemikoti.fi/en/tapahtuma/yhteison-aamiainen-malmilla/2028-01-04/
LOCATION:Malmin päivätoimintakeskus\, Vanha Helsingintie 9\, Helsinki\, 00700\, Finland
CATEGORIES:Malmin päivätoimintakeskus
END:VEVENT
BEGIN:VEVENT
DTSTART;TZID=Europe/Helsinki:20280105T090000
DTEND;TZID=Europe/Helsinki:20280105T100000
DTSTAMP:20260421T205826
CREATED:20260302T134800Z
LAST-MODIFIED:20260302T134800Z
UID:10034352-1830675600-1830679200@kalenteri.niemikoti.fi
SUMMARY:Yhteisön aamiainen Malmilla
DESCRIPTION:Aamiaisella puuroa\, muroja tai jogurttia vaihtelevasti sekä leipää päällisineen. Juomaksi tuoremehua sekä kahvia tai teetä. Hinta 1\,5 e.
URL:https://kalenteri.niemikoti.fi/en/tapahtuma/yhteison-aamiainen-malmilla/2028-01-05/
LOCATION:Malmin päivätoimintakeskus\, Vanha Helsingintie 9\, Helsinki\, 00700\, Finland
CATEGORIES:Malmin päivätoimintakeskus
END:VEVENT
BEGIN:VEVENT
DTSTART;TZID=Europe/Helsinki:20280107T090000
DTEND;TZID=Europe/Helsinki:20280107T100000
DTSTAMP:20260421T205826
CREATED:20260302T134800Z
LAST-MODIFIED:20260302T134800Z
UID:10034353-1830848400-1830852000@kalenteri.niemikoti.fi
SUMMARY:Yhteisön aamiainen Malmilla
DESCRIPTION:Aamiaisella puuroa\, muroja tai jogurttia vaihtelevasti sekä leipää päällisineen. Juomaksi tuoremehua sekä kahvia tai teetä. Hinta 1\,5 e.
URL:https://kalenteri.niemikoti.fi/en/tapahtuma/yhteison-aamiainen-malmilla/2028-01-07/
LOCATION:Malmin päivätoimintakeskus\, Vanha Helsingintie 9\, Helsinki\, 00700\, Finland
CATEGORIES:Malmin päivätoimintakeskus
END:VEVENT
BEGIN:VEVENT
DTSTART;TZID=Europe/Helsinki:20280110T090000
DTEND;TZID=Europe/Helsinki:20280110T100000
DTSTAMP:20260421T205826
CREATED:20260302T134800Z
LAST-MODIFIED:20260302T134800Z
UID:10034354-1831107600-1831111200@kalenteri.niemikoti.fi
SUMMARY:Yhteisön aamiainen Malmilla
DESCRIPTION:Aamiaisella puuroa\, muroja tai jogurttia vaihtelevasti sekä leipää päällisineen. Juomaksi tuoremehua sekä kahvia tai teetä. Hinta 1\,5 e.
URL:https://kalenteri.niemikoti.fi/en/tapahtuma/yhteison-aamiainen-malmilla/2028-01-10/
LOCATION:Malmin päivätoimintakeskus\, Vanha Helsingintie 9\, Helsinki\, 00700\, Finland
CATEGORIES:Malmin päivätoimintakeskus
END:VEVENT
BEGIN:VEVENT
DTSTART;TZID=Europe/Helsinki:20280111T090000
DTEND;TZID=Europe/Helsinki:20280111T100000
DTSTAMP:20260421T205826
CREATED:20260302T134800Z
LAST-MODIFIED:20260302T134800Z
UID:10034355-1831194000-1831197600@kalenteri.niemikoti.fi
SUMMARY:Yhteisön aamiainen Malmilla
DESCRIPTION:Aamiaisella puuroa\, muroja tai jogurttia vaihtelevasti sekä leipää päällisineen. Juomaksi tuoremehua sekä kahvia tai teetä. Hinta 1\,5 e.
URL:https://kalenteri.niemikoti.fi/en/tapahtuma/yhteison-aamiainen-malmilla/2028-01-11/
LOCATION:Malmin päivätoimintakeskus\, Vanha Helsingintie 9\, Helsinki\, 00700\, Finland
CATEGORIES:Malmin päivätoimintakeskus
END:VEVENT
BEGIN:VEVENT
DTSTART;TZID=Europe/Helsinki:20280112T090000
DTEND;TZID=Europe/Helsinki:20280112T100000
DTSTAMP:20260421T205826
CREATED:20260302T134800Z
LAST-MODIFIED:20260302T134800Z
UID:10034356-1831280400-1831284000@kalenteri.niemikoti.fi
SUMMARY:Yhteisön aamiainen Malmilla
DESCRIPTION:Aamiaisella puuroa\, muroja tai jogurttia vaihtelevasti sekä leipää päällisineen. Juomaksi tuoremehua sekä kahvia tai teetä. Hinta 1\,5 e.
URL:https://kalenteri.niemikoti.fi/en/tapahtuma/yhteison-aamiainen-malmilla/2028-01-12/
LOCATION:Malmin päivätoimintakeskus\, Vanha Helsingintie 9\, Helsinki\, 00700\, Finland
CATEGORIES:Malmin päivätoimintakeskus
END:VEVENT
BEGIN:VEVENT
DTSTART;TZID=Europe/Helsinki:20280114T090000
DTEND;TZID=Europe/Helsinki:20280114T100000
DTSTAMP:20260421T205826
CREATED:20260302T134800Z
LAST-MODIFIED:20260302T134800Z
UID:10034357-1831453200-1831456800@kalenteri.niemikoti.fi
SUMMARY:Yhteisön aamiainen Malmilla
DESCRIPTION:Aamiaisella puuroa\, muroja tai jogurttia vaihtelevasti sekä leipää päällisineen. Juomaksi tuoremehua sekä kahvia tai teetä. Hinta 1\,5 e.
URL:https://kalenteri.niemikoti.fi/en/tapahtuma/yhteison-aamiainen-malmilla/2028-01-14/
LOCATION:Malmin päivätoimintakeskus\, Vanha Helsingintie 9\, Helsinki\, 00700\, Finland
CATEGORIES:Malmin päivätoimintakeskus
END:VEVENT
BEGIN:VEVENT
DTSTART;TZID=Europe/Helsinki:20280117T090000
DTEND;TZID=Europe/Helsinki:20280117T100000
DTSTAMP:20260421T205826
CREATED:20260302T134800Z
LAST-MODIFIED:20260302T134800Z
UID:10034358-1831712400-1831716000@kalenteri.niemikoti.fi
SUMMARY:Yhteisön aamiainen Malmilla
DESCRIPTION:Aamiaisella puuroa\, muroja tai jogurttia vaihtelevasti sekä leipää päällisineen. Juomaksi tuoremehua sekä kahvia tai teetä. Hinta 1\,5 e.
URL:https://kalenteri.niemikoti.fi/en/tapahtuma/yhteison-aamiainen-malmilla/2028-01-17/
LOCATION:Malmin päivätoimintakeskus\, Vanha Helsingintie 9\, Helsinki\, 00700\, Finland
CATEGORIES:Malmin päivätoimintakeskus
END:VEVENT
BEGIN:VEVENT
DTSTART;TZID=Europe/Helsinki:20280118T090000
DTEND;TZID=Europe/Helsinki:20280118T100000
DTSTAMP:20260421T205826
CREATED:20260302T134800Z
LAST-MODIFIED:20260302T134800Z
UID:10034359-1831798800-1831802400@kalenteri.niemikoti.fi
SUMMARY:Yhteisön aamiainen Malmilla
DESCRIPTION:Aamiaisella puuroa\, muroja tai jogurttia vaihtelevasti sekä leipää päällisineen. Juomaksi tuoremehua sekä kahvia tai teetä. Hinta 1\,5 e.
URL:https://kalenteri.niemikoti.fi/en/tapahtuma/yhteison-aamiainen-malmilla/2028-01-18/
LOCATION:Malmin päivätoimintakeskus\, Vanha Helsingintie 9\, Helsinki\, 00700\, Finland
CATEGORIES:Malmin päivätoimintakeskus
END:VEVENT
BEGIN:VEVENT
DTSTART;TZID=Europe/Helsinki:20280119T090000
DTEND;TZID=Europe/Helsinki:20280119T100000
DTSTAMP:20260421T205826
CREATED:20260302T134800Z
LAST-MODIFIED:20260302T134800Z
UID:10034360-1831885200-1831888800@kalenteri.niemikoti.fi
SUMMARY:Yhteisön aamiainen Malmilla
DESCRIPTION:Aamiaisella puuroa\, muroja tai jogurttia vaihtelevasti sekä leipää päällisineen. Juomaksi tuoremehua sekä kahvia tai teetä. Hinta 1\,5 e.
URL:https://kalenteri.niemikoti.fi/en/tapahtuma/yhteison-aamiainen-malmilla/2028-01-19/
LOCATION:Malmin päivätoimintakeskus\, Vanha Helsingintie 9\, Helsinki\, 00700\, Finland
CATEGORIES:Malmin päivätoimintakeskus
END:VEVENT
BEGIN:VEVENT
DTSTART;TZID=Europe/Helsinki:20280121T090000
DTEND;TZID=Europe/Helsinki:20280121T100000
DTSTAMP:20260421T205826
CREATED:20260302T134800Z
LAST-MODIFIED:20260302T134800Z
UID:10034361-1832058000-1832061600@kalenteri.niemikoti.fi
SUMMARY:Yhteisön aamiainen Malmilla
DESCRIPTION:Aamiaisella puuroa\, muroja tai jogurttia vaihtelevasti sekä leipää päällisineen. Juomaksi tuoremehua sekä kahvia tai teetä. Hinta 1\,5 e.
URL:https://kalenteri.niemikoti.fi/en/tapahtuma/yhteison-aamiainen-malmilla/2028-01-21/
LOCATION:Malmin päivätoimintakeskus\, Vanha Helsingintie 9\, Helsinki\, 00700\, Finland
CATEGORIES:Malmin päivätoimintakeskus
END:VEVENT
BEGIN:VEVENT
DTSTART;TZID=Europe/Helsinki:20280124T090000
DTEND;TZID=Europe/Helsinki:20280124T100000
DTSTAMP:20260421T205826
CREATED:20260302T134800Z
LAST-MODIFIED:20260302T134800Z
UID:10034362-1832317200-1832320800@kalenteri.niemikoti.fi
SUMMARY:Yhteisön aamiainen Malmilla
DESCRIPTION:Aamiaisella puuroa\, muroja tai jogurttia vaihtelevasti sekä leipää päällisineen. Juomaksi tuoremehua sekä kahvia tai teetä. Hinta 1\,5 e.
URL:https://kalenteri.niemikoti.fi/en/tapahtuma/yhteison-aamiainen-malmilla/2028-01-24/
LOCATION:Malmin päivätoimintakeskus\, Vanha Helsingintie 9\, Helsinki\, 00700\, Finland
CATEGORIES:Malmin päivätoimintakeskus
END:VEVENT
BEGIN:VEVENT
DTSTART;TZID=Europe/Helsinki:20280125T090000
DTEND;TZID=Europe/Helsinki:20280125T100000
DTSTAMP:20260421T205826
CREATED:20260302T134800Z
LAST-MODIFIED:20260302T134800Z
UID:10034363-1832403600-1832407200@kalenteri.niemikoti.fi
SUMMARY:Yhteisön aamiainen Malmilla
DESCRIPTION:Aamiaisella puuroa\, muroja tai jogurttia vaihtelevasti sekä leipää päällisineen. Juomaksi tuoremehua sekä kahvia tai teetä. Hinta 1\,5 e.
URL:https://kalenteri.niemikoti.fi/en/tapahtuma/yhteison-aamiainen-malmilla/2028-01-25/
LOCATION:Malmin päivätoimintakeskus\, Vanha Helsingintie 9\, Helsinki\, 00700\, Finland
CATEGORIES:Malmin päivätoimintakeskus
END:VEVENT
BEGIN:VEVENT
DTSTART;TZID=Europe/Helsinki:20280126T090000
DTEND;TZID=Europe/Helsinki:20280126T100000
DTSTAMP:20260421T205826
CREATED:20260302T134800Z
LAST-MODIFIED:20260302T134800Z
UID:10034364-1832490000-1832493600@kalenteri.niemikoti.fi
SUMMARY:Yhteisön aamiainen Malmilla
DESCRIPTION:Aamiaisella puuroa\, muroja tai jogurttia vaihtelevasti sekä leipää päällisineen. Juomaksi tuoremehua sekä kahvia tai teetä. Hinta 1\,5 e.
URL:https://kalenteri.niemikoti.fi/en/tapahtuma/yhteison-aamiainen-malmilla/2028-01-26/
LOCATION:Malmin päivätoimintakeskus\, Vanha Helsingintie 9\, Helsinki\, 00700\, Finland
CATEGORIES:Malmin päivätoimintakeskus
END:VEVENT
BEGIN:VEVENT
DTSTART;TZID=Europe/Helsinki:20280128T090000
DTEND;TZID=Europe/Helsinki:20280128T100000
DTSTAMP:20260421T205826
CREATED:20260302T134800Z
LAST-MODIFIED:20260302T134800Z
UID:10034365-1832662800-1832666400@kalenteri.niemikoti.fi
SUMMARY:Yhteisön aamiainen Malmilla
DESCRIPTION:Aamiaisella puuroa\, muroja tai jogurttia vaihtelevasti sekä leipää päällisineen. Juomaksi tuoremehua sekä kahvia tai teetä. Hinta 1\,5 e.
URL:https://kalenteri.niemikoti.fi/en/tapahtuma/yhteison-aamiainen-malmilla/2028-01-28/
LOCATION:Malmin päivätoimintakeskus\, Vanha Helsingintie 9\, Helsinki\, 00700\, Finland
CATEGORIES:Malmin päivätoimintakeskus
END:VEVENT
BEGIN:VEVENT
DTSTART;TZID=Europe/Helsinki:20280131T090000
DTEND;TZID=Europe/Helsinki:20280131T100000
DTSTAMP:20260421T205826
CREATED:20260302T134800Z
LAST-MODIFIED:20260302T134800Z
UID:10034366-1832922000-1832925600@kalenteri.niemikoti.fi
SUMMARY:Yhteisön aamiainen Malmilla
DESCRIPTION:Aamiaisella puuroa\, muroja tai jogurttia vaihtelevasti sekä leipää päällisineen. Juomaksi tuoremehua sekä kahvia tai teetä. Hinta 1\,5 e.
URL:https://kalenteri.niemikoti.fi/en/tapahtuma/yhteison-aamiainen-malmilla/2028-01-31/
LOCATION:Malmin päivätoimintakeskus\, Vanha Helsingintie 9\, Helsinki\, 00700\, Finland
CATEGORIES:Malmin päivätoimintakeskus
END:VEVENT
BEGIN:VEVENT
DTSTART;TZID=Europe/Helsinki:20280201T090000
DTEND;TZID=Europe/Helsinki:20280201T100000
DTSTAMP:20260421T205826
CREATED:20260302T134800Z
LAST-MODIFIED:20260302T134800Z
UID:10034367-1833008400-1833012000@kalenteri.niemikoti.fi
SUMMARY:Yhteisön aamiainen Malmilla
DESCRIPTION:Aamiaisella puuroa\, muroja tai jogurttia vaihtelevasti sekä leipää päällisineen. Juomaksi tuoremehua sekä kahvia tai teetä. Hinta 1\,5 e.
URL:https://kalenteri.niemikoti.fi/en/tapahtuma/yhteison-aamiainen-malmilla/2028-02-01/
LOCATION:Malmin päivätoimintakeskus\, Vanha Helsingintie 9\, Helsinki\, 00700\, Finland
CATEGORIES:Malmin päivätoimintakeskus
END:VEVENT
BEGIN:VEVENT
DTSTART;TZID=Europe/Helsinki:20280202T090000
DTEND;TZID=Europe/Helsinki:20280202T100000
DTSTAMP:20260421T205826
CREATED:20260302T134800Z
LAST-MODIFIED:20260302T134800Z
UID:10034368-1833094800-1833098400@kalenteri.niemikoti.fi
SUMMARY:Yhteisön aamiainen Malmilla
DESCRIPTION:Aamiaisella puuroa\, muroja tai jogurttia vaihtelevasti sekä leipää päällisineen. Juomaksi tuoremehua sekä kahvia tai teetä. Hinta 1\,5 e.
URL:https://kalenteri.niemikoti.fi/en/tapahtuma/yhteison-aamiainen-malmilla/2028-02-02/
LOCATION:Malmin päivätoimintakeskus\, Vanha Helsingintie 9\, Helsinki\, 00700\, Finland
CATEGORIES:Malmin päivätoimintakeskus
END:VEVENT
BEGIN:VEVENT
DTSTART;TZID=Europe/Helsinki:20280204T090000
DTEND;TZID=Europe/Helsinki:20280204T100000
DTSTAMP:20260421T205826
CREATED:20260302T134800Z
LAST-MODIFIED:20260302T134800Z
UID:10034369-1833267600-1833271200@kalenteri.niemikoti.fi
SUMMARY:Yhteisön aamiainen Malmilla
DESCRIPTION:Aamiaisella puuroa\, muroja tai jogurttia vaihtelevasti sekä leipää päällisineen. Juomaksi tuoremehua sekä kahvia tai teetä. Hinta 1\,5 e.
URL:https://kalenteri.niemikoti.fi/en/tapahtuma/yhteison-aamiainen-malmilla/2028-02-04/
LOCATION:Malmin päivätoimintakeskus\, Vanha Helsingintie 9\, Helsinki\, 00700\, Finland
CATEGORIES:Malmin päivätoimintakeskus
END:VEVENT
BEGIN:VEVENT
DTSTART;TZID=Europe/Helsinki:20280207T090000
DTEND;TZID=Europe/Helsinki:20280207T100000
DTSTAMP:20260421T205826
CREATED:20260302T134800Z
LAST-MODIFIED:20260302T134800Z
UID:10034370-1833526800-1833530400@kalenteri.niemikoti.fi
SUMMARY:Yhteisön aamiainen Malmilla
DESCRIPTION:Aamiaisella puuroa\, muroja tai jogurttia vaihtelevasti sekä leipää päällisineen. Juomaksi tuoremehua sekä kahvia tai teetä. Hinta 1\,5 e.
URL:https://kalenteri.niemikoti.fi/en/tapahtuma/yhteison-aamiainen-malmilla/2028-02-07/
LOCATION:Malmin päivätoimintakeskus\, Vanha Helsingintie 9\, Helsinki\, 00700\, Finland
CATEGORIES:Malmin päivätoimintakeskus
END:VEVENT
BEGIN:VEVENT
DTSTART;TZID=Europe/Helsinki:20280208T090000
DTEND;TZID=Europe/Helsinki:20280208T100000
DTSTAMP:20260421T205826
CREATED:20260302T134800Z
LAST-MODIFIED:20260302T134800Z
UID:10034371-1833613200-1833616800@kalenteri.niemikoti.fi
SUMMARY:Yhteisön aamiainen Malmilla
DESCRIPTION:Aamiaisella puuroa\, muroja tai jogurttia vaihtelevasti sekä leipää päällisineen. Juomaksi tuoremehua sekä kahvia tai teetä. Hinta 1\,5 e.
URL:https://kalenteri.niemikoti.fi/en/tapahtuma/yhteison-aamiainen-malmilla/2028-02-08/
LOCATION:Malmin päivätoimintakeskus\, Vanha Helsingintie 9\, Helsinki\, 00700\, Finland
CATEGORIES:Malmin päivätoimintakeskus
END:VEVENT
BEGIN:VEVENT
DTSTART;TZID=Europe/Helsinki:20280209T090000
DTEND;TZID=Europe/Helsinki:20280209T100000
DTSTAMP:20260421T205826
CREATED:20260302T134800Z
LAST-MODIFIED:20260302T134800Z
UID:10034372-1833699600-1833703200@kalenteri.niemikoti.fi
SUMMARY:Yhteisön aamiainen Malmilla
DESCRIPTION:Aamiaisella puuroa\, muroja tai jogurttia vaihtelevasti sekä leipää päällisineen. Juomaksi tuoremehua sekä kahvia tai teetä. Hinta 1\,5 e.
URL:https://kalenteri.niemikoti.fi/en/tapahtuma/yhteison-aamiainen-malmilla/2028-02-09/
LOCATION:Malmin päivätoimintakeskus\, Vanha Helsingintie 9\, Helsinki\, 00700\, Finland
CATEGORIES:Malmin päivätoimintakeskus
END:VEVENT
BEGIN:VEVENT
DTSTART;TZID=Europe/Helsinki:20280211T090000
DTEND;TZID=Europe/Helsinki:20280211T100000
DTSTAMP:20260421T205826
CREATED:20260302T134800Z
LAST-MODIFIED:20260302T134800Z
UID:10034373-1833872400-1833876000@kalenteri.niemikoti.fi
SUMMARY:Yhteisön aamiainen Malmilla
DESCRIPTION:Aamiaisella puuroa\, muroja tai jogurttia vaihtelevasti sekä leipää päällisineen. Juomaksi tuoremehua sekä kahvia tai teetä. Hinta 1\,5 e.
URL:https://kalenteri.niemikoti.fi/en/tapahtuma/yhteison-aamiainen-malmilla/2028-02-11/
LOCATION:Malmin päivätoimintakeskus\, Vanha Helsingintie 9\, Helsinki\, 00700\, Finland
CATEGORIES:Malmin päivätoimintakeskus
END:VEVENT
BEGIN:VEVENT
DTSTART;TZID=Europe/Helsinki:20280214T090000
DTEND;TZID=Europe/Helsinki:20280214T100000
DTSTAMP:20260421T205826
CREATED:20260302T134800Z
LAST-MODIFIED:20260302T134800Z
UID:10034374-1834131600-1834135200@kalenteri.niemikoti.fi
SUMMARY:Yhteisön aamiainen Malmilla
DESCRIPTION:Aamiaisella puuroa\, muroja tai jogurttia vaihtelevasti sekä leipää päällisineen. Juomaksi tuoremehua sekä kahvia tai teetä. Hinta 1\,5 e.
URL:https://kalenteri.niemikoti.fi/en/tapahtuma/yhteison-aamiainen-malmilla/2028-02-14/
LOCATION:Malmin päivätoimintakeskus\, Vanha Helsingintie 9\, Helsinki\, 00700\, Finland
CATEGORIES:Malmin päivätoimintakeskus
END:VEVENT
BEGIN:VEVENT
DTSTART;TZID=Europe/Helsinki:20280215T090000
DTEND;TZID=Europe/Helsinki:20280215T100000
DTSTAMP:20260421T205826
CREATED:20260302T134800Z
LAST-MODIFIED:20260302T134800Z
UID:10034375-1834218000-1834221600@kalenteri.niemikoti.fi
SUMMARY:Yhteisön aamiainen Malmilla
DESCRIPTION:Aamiaisella puuroa\, muroja tai jogurttia vaihtelevasti sekä leipää päällisineen. Juomaksi tuoremehua sekä kahvia tai teetä. Hinta 1\,5 e.
URL:https://kalenteri.niemikoti.fi/en/tapahtuma/yhteison-aamiainen-malmilla/2028-02-15/
LOCATION:Malmin päivätoimintakeskus\, Vanha Helsingintie 9\, Helsinki\, 00700\, Finland
CATEGORIES:Malmin päivätoimintakeskus
END:VEVENT
END:VCALENDAR