BEGIN:VCALENDAR
VERSION:2.0
PRODID:-//Tapahtumakalenteri - ECPv6.15.18//NONSGML v1.0//EN
CALSCALE:GREGORIAN
METHOD:PUBLISH
X-WR-CALNAME:Tapahtumakalenteri
X-ORIGINAL-URL:https://kalenteri.niemikoti.fi/en/
X-WR-CALDESC:Events for Tapahtumakalenteri
REFRESH-INTERVAL;VALUE=DURATION:PT1H
X-Robots-Tag:noindex
X-PUBLISHED-TTL:PT1H
BEGIN:VTIMEZONE
TZID:Europe/Helsinki
BEGIN:DAYLIGHT
TZOFFSETFROM:+0200
TZOFFSETTO:+0300
TZNAME:EEST
DTSTART:20260329T010000
END:DAYLIGHT
BEGIN:STANDARD
TZOFFSETFROM:+0300
TZOFFSETTO:+0200
TZNAME:EET
DTSTART:20261025T010000
END:STANDARD
BEGIN:DAYLIGHT
TZOFFSETFROM:+0200
TZOFFSETTO:+0300
TZNAME:EEST
DTSTART:20270328T010000
END:DAYLIGHT
BEGIN:STANDARD
TZOFFSETFROM:+0300
TZOFFSETTO:+0200
TZNAME:EET
DTSTART:20271031T010000
END:STANDARD
BEGIN:DAYLIGHT
TZOFFSETFROM:+0200
TZOFFSETTO:+0300
TZNAME:EEST
DTSTART:20280326T010000
END:DAYLIGHT
BEGIN:STANDARD
TZOFFSETFROM:+0300
TZOFFSETTO:+0200
TZNAME:EET
DTSTART:20281029T010000
END:STANDARD
END:VTIMEZONE
BEGIN:VEVENT
DTSTART;TZID=Europe/Helsinki:20270317T103000
DTEND;TZID=Europe/Helsinki:20270317T120000
DTSTAMP:20260424T070859
CREATED:20260421T093010Z
LAST-MODIFIED:20260421T134255Z
UID:10037635-1805279400-1805284800@kalenteri.niemikoti.fi
SUMMARY:Soppakokit
DESCRIPTION:Tehdään yhdessä ruokaa. Ruoan hinta osallistujille 2 €.
URL:https://kalenteri.niemikoti.fi/en/tapahtuma/soppakokit-13/2027-03-17/
LOCATION:Toimintakeskus Villa Borgis\, Linnavuorentie 13\, Helsinki\, 00950\, Finland
CATEGORIES:Toimintakeskus Villa Borgis
END:VEVENT
BEGIN:VEVENT
DTSTART;TZID=Europe/Helsinki:20270324T103000
DTEND;TZID=Europe/Helsinki:20270324T120000
DTSTAMP:20260424T070859
CREATED:20260421T093010Z
LAST-MODIFIED:20260421T134255Z
UID:10037636-1805884200-1805889600@kalenteri.niemikoti.fi
SUMMARY:Soppakokit
DESCRIPTION:Tehdään yhdessä ruokaa. Ruoan hinta osallistujille 2 €.
URL:https://kalenteri.niemikoti.fi/en/tapahtuma/soppakokit-13/2027-03-24/
LOCATION:Toimintakeskus Villa Borgis\, Linnavuorentie 13\, Helsinki\, 00950\, Finland
CATEGORIES:Toimintakeskus Villa Borgis
END:VEVENT
BEGIN:VEVENT
DTSTART;TZID=Europe/Helsinki:20270331T103000
DTEND;TZID=Europe/Helsinki:20270331T120000
DTSTAMP:20260424T070859
CREATED:20260421T093010Z
LAST-MODIFIED:20260421T134255Z
UID:10037637-1806489000-1806494400@kalenteri.niemikoti.fi
SUMMARY:Soppakokit
DESCRIPTION:Tehdään yhdessä ruokaa. Ruoan hinta osallistujille 2 €.
URL:https://kalenteri.niemikoti.fi/en/tapahtuma/soppakokit-13/2027-03-31/
LOCATION:Toimintakeskus Villa Borgis\, Linnavuorentie 13\, Helsinki\, 00950\, Finland
CATEGORIES:Toimintakeskus Villa Borgis
END:VEVENT
BEGIN:VEVENT
DTSTART;TZID=Europe/Helsinki:20270407T103000
DTEND;TZID=Europe/Helsinki:20270407T120000
DTSTAMP:20260424T070859
CREATED:20260421T093010Z
LAST-MODIFIED:20260421T134255Z
UID:10037638-1807093800-1807099200@kalenteri.niemikoti.fi
SUMMARY:Soppakokit
DESCRIPTION:Tehdään yhdessä ruokaa. Ruoan hinta osallistujille 2 €.
URL:https://kalenteri.niemikoti.fi/en/tapahtuma/soppakokit-13/2027-04-07/
LOCATION:Toimintakeskus Villa Borgis\, Linnavuorentie 13\, Helsinki\, 00950\, Finland
CATEGORIES:Toimintakeskus Villa Borgis
END:VEVENT
BEGIN:VEVENT
DTSTART;TZID=Europe/Helsinki:20270414T103000
DTEND;TZID=Europe/Helsinki:20270414T120000
DTSTAMP:20260424T070859
CREATED:20260421T093010Z
LAST-MODIFIED:20260421T134255Z
UID:10037639-1807698600-1807704000@kalenteri.niemikoti.fi
SUMMARY:Soppakokit
DESCRIPTION:Tehdään yhdessä ruokaa. Ruoan hinta osallistujille 2 €.
URL:https://kalenteri.niemikoti.fi/en/tapahtuma/soppakokit-13/2027-04-14/
LOCATION:Toimintakeskus Villa Borgis\, Linnavuorentie 13\, Helsinki\, 00950\, Finland
CATEGORIES:Toimintakeskus Villa Borgis
END:VEVENT
BEGIN:VEVENT
DTSTART;TZID=Europe/Helsinki:20270421T103000
DTEND;TZID=Europe/Helsinki:20270421T120000
DTSTAMP:20260424T070859
CREATED:20260421T093010Z
LAST-MODIFIED:20260421T134255Z
UID:10037640-1808303400-1808308800@kalenteri.niemikoti.fi
SUMMARY:Soppakokit
DESCRIPTION:Tehdään yhdessä ruokaa. Ruoan hinta osallistujille 2 €.
URL:https://kalenteri.niemikoti.fi/en/tapahtuma/soppakokit-13/2027-04-21/
LOCATION:Toimintakeskus Villa Borgis\, Linnavuorentie 13\, Helsinki\, 00950\, Finland
CATEGORIES:Toimintakeskus Villa Borgis
END:VEVENT
BEGIN:VEVENT
DTSTART;TZID=Europe/Helsinki:20270428T103000
DTEND;TZID=Europe/Helsinki:20270428T120000
DTSTAMP:20260424T070859
CREATED:20260421T093010Z
LAST-MODIFIED:20260421T134255Z
UID:10037641-1808908200-1808913600@kalenteri.niemikoti.fi
SUMMARY:Soppakokit
DESCRIPTION:Tehdään yhdessä ruokaa. Ruoan hinta osallistujille 2 €.
URL:https://kalenteri.niemikoti.fi/en/tapahtuma/soppakokit-13/2027-04-28/
LOCATION:Toimintakeskus Villa Borgis\, Linnavuorentie 13\, Helsinki\, 00950\, Finland
CATEGORIES:Toimintakeskus Villa Borgis
END:VEVENT
BEGIN:VEVENT
DTSTART;TZID=Europe/Helsinki:20270505T103000
DTEND;TZID=Europe/Helsinki:20270505T120000
DTSTAMP:20260424T070859
CREATED:20260421T093010Z
LAST-MODIFIED:20260421T134255Z
UID:10037642-1809513000-1809518400@kalenteri.niemikoti.fi
SUMMARY:Soppakokit
DESCRIPTION:Tehdään yhdessä ruokaa. Ruoan hinta osallistujille 2 €.
URL:https://kalenteri.niemikoti.fi/en/tapahtuma/soppakokit-13/2027-05-05/
LOCATION:Toimintakeskus Villa Borgis\, Linnavuorentie 13\, Helsinki\, 00950\, Finland
CATEGORIES:Toimintakeskus Villa Borgis
END:VEVENT
BEGIN:VEVENT
DTSTART;TZID=Europe/Helsinki:20270512T103000
DTEND;TZID=Europe/Helsinki:20270512T120000
DTSTAMP:20260424T070859
CREATED:20260421T093010Z
LAST-MODIFIED:20260421T134255Z
UID:10037643-1810117800-1810123200@kalenteri.niemikoti.fi
SUMMARY:Soppakokit
DESCRIPTION:Tehdään yhdessä ruokaa. Ruoan hinta osallistujille 2 €.
URL:https://kalenteri.niemikoti.fi/en/tapahtuma/soppakokit-13/2027-05-12/
LOCATION:Toimintakeskus Villa Borgis\, Linnavuorentie 13\, Helsinki\, 00950\, Finland
CATEGORIES:Toimintakeskus Villa Borgis
END:VEVENT
BEGIN:VEVENT
DTSTART;TZID=Europe/Helsinki:20270519T103000
DTEND;TZID=Europe/Helsinki:20270519T120000
DTSTAMP:20260424T070859
CREATED:20260421T093010Z
LAST-MODIFIED:20260421T134255Z
UID:10037644-1810722600-1810728000@kalenteri.niemikoti.fi
SUMMARY:Soppakokit
DESCRIPTION:Tehdään yhdessä ruokaa. Ruoan hinta osallistujille 2 €.
URL:https://kalenteri.niemikoti.fi/en/tapahtuma/soppakokit-13/2027-05-19/
LOCATION:Toimintakeskus Villa Borgis\, Linnavuorentie 13\, Helsinki\, 00950\, Finland
CATEGORIES:Toimintakeskus Villa Borgis
END:VEVENT
BEGIN:VEVENT
DTSTART;TZID=Europe/Helsinki:20270526T103000
DTEND;TZID=Europe/Helsinki:20270526T120000
DTSTAMP:20260424T070859
CREATED:20260421T093010Z
LAST-MODIFIED:20260421T134255Z
UID:10037645-1811327400-1811332800@kalenteri.niemikoti.fi
SUMMARY:Soppakokit
DESCRIPTION:Tehdään yhdessä ruokaa. Ruoan hinta osallistujille 2 €.
URL:https://kalenteri.niemikoti.fi/en/tapahtuma/soppakokit-13/2027-05-26/
LOCATION:Toimintakeskus Villa Borgis\, Linnavuorentie 13\, Helsinki\, 00950\, Finland
CATEGORIES:Toimintakeskus Villa Borgis
END:VEVENT
BEGIN:VEVENT
DTSTART;TZID=Europe/Helsinki:20270602T103000
DTEND;TZID=Europe/Helsinki:20270602T120000
DTSTAMP:20260424T070859
CREATED:20260421T093010Z
LAST-MODIFIED:20260421T134255Z
UID:10037646-1811932200-1811937600@kalenteri.niemikoti.fi
SUMMARY:Soppakokit
DESCRIPTION:Tehdään yhdessä ruokaa. Ruoan hinta osallistujille 2 €.
URL:https://kalenteri.niemikoti.fi/en/tapahtuma/soppakokit-13/2027-06-02/
LOCATION:Toimintakeskus Villa Borgis\, Linnavuorentie 13\, Helsinki\, 00950\, Finland
CATEGORIES:Toimintakeskus Villa Borgis
END:VEVENT
BEGIN:VEVENT
DTSTART;TZID=Europe/Helsinki:20270609T103000
DTEND;TZID=Europe/Helsinki:20270609T120000
DTSTAMP:20260424T070859
CREATED:20260421T093010Z
LAST-MODIFIED:20260421T134255Z
UID:10037647-1812537000-1812542400@kalenteri.niemikoti.fi
SUMMARY:Soppakokit
DESCRIPTION:Tehdään yhdessä ruokaa. Ruoan hinta osallistujille 2 €.
URL:https://kalenteri.niemikoti.fi/en/tapahtuma/soppakokit-13/2027-06-09/
LOCATION:Toimintakeskus Villa Borgis\, Linnavuorentie 13\, Helsinki\, 00950\, Finland
CATEGORIES:Toimintakeskus Villa Borgis
END:VEVENT
BEGIN:VEVENT
DTSTART;TZID=Europe/Helsinki:20270616T103000
DTEND;TZID=Europe/Helsinki:20270616T120000
DTSTAMP:20260424T070859
CREATED:20260421T093010Z
LAST-MODIFIED:20260421T134255Z
UID:10037648-1813141800-1813147200@kalenteri.niemikoti.fi
SUMMARY:Soppakokit
DESCRIPTION:Tehdään yhdessä ruokaa. Ruoan hinta osallistujille 2 €.
URL:https://kalenteri.niemikoti.fi/en/tapahtuma/soppakokit-13/2027-06-16/
LOCATION:Toimintakeskus Villa Borgis\, Linnavuorentie 13\, Helsinki\, 00950\, Finland
CATEGORIES:Toimintakeskus Villa Borgis
END:VEVENT
BEGIN:VEVENT
DTSTART;TZID=Europe/Helsinki:20270623T103000
DTEND;TZID=Europe/Helsinki:20270623T120000
DTSTAMP:20260424T070859
CREATED:20260421T093010Z
LAST-MODIFIED:20260421T134255Z
UID:10037649-1813746600-1813752000@kalenteri.niemikoti.fi
SUMMARY:Soppakokit
DESCRIPTION:Tehdään yhdessä ruokaa. Ruoan hinta osallistujille 2 €.
URL:https://kalenteri.niemikoti.fi/en/tapahtuma/soppakokit-13/2027-06-23/
LOCATION:Toimintakeskus Villa Borgis\, Linnavuorentie 13\, Helsinki\, 00950\, Finland
CATEGORIES:Toimintakeskus Villa Borgis
END:VEVENT
BEGIN:VEVENT
DTSTART;TZID=Europe/Helsinki:20270630T103000
DTEND;TZID=Europe/Helsinki:20270630T120000
DTSTAMP:20260424T070859
CREATED:20260421T093010Z
LAST-MODIFIED:20260421T134255Z
UID:10037650-1814351400-1814356800@kalenteri.niemikoti.fi
SUMMARY:Soppakokit
DESCRIPTION:Tehdään yhdessä ruokaa. Ruoan hinta osallistujille 2 €.
URL:https://kalenteri.niemikoti.fi/en/tapahtuma/soppakokit-13/2027-06-30/
LOCATION:Toimintakeskus Villa Borgis\, Linnavuorentie 13\, Helsinki\, 00950\, Finland
CATEGORIES:Toimintakeskus Villa Borgis
END:VEVENT
BEGIN:VEVENT
DTSTART;TZID=Europe/Helsinki:20270707T103000
DTEND;TZID=Europe/Helsinki:20270707T120000
DTSTAMP:20260424T070859
CREATED:20260421T093010Z
LAST-MODIFIED:20260421T134255Z
UID:10037651-1814956200-1814961600@kalenteri.niemikoti.fi
SUMMARY:Soppakokit
DESCRIPTION:Tehdään yhdessä ruokaa. Ruoan hinta osallistujille 2 €.
URL:https://kalenteri.niemikoti.fi/en/tapahtuma/soppakokit-13/2027-07-07/
LOCATION:Toimintakeskus Villa Borgis\, Linnavuorentie 13\, Helsinki\, 00950\, Finland
CATEGORIES:Toimintakeskus Villa Borgis
END:VEVENT
BEGIN:VEVENT
DTSTART;TZID=Europe/Helsinki:20270714T103000
DTEND;TZID=Europe/Helsinki:20270714T120000
DTSTAMP:20260424T070859
CREATED:20260421T093010Z
LAST-MODIFIED:20260421T134255Z
UID:10037652-1815561000-1815566400@kalenteri.niemikoti.fi
SUMMARY:Soppakokit
DESCRIPTION:Tehdään yhdessä ruokaa. Ruoan hinta osallistujille 2 €.
URL:https://kalenteri.niemikoti.fi/en/tapahtuma/soppakokit-13/2027-07-14/
LOCATION:Toimintakeskus Villa Borgis\, Linnavuorentie 13\, Helsinki\, 00950\, Finland
CATEGORIES:Toimintakeskus Villa Borgis
END:VEVENT
BEGIN:VEVENT
DTSTART;TZID=Europe/Helsinki:20270721T103000
DTEND;TZID=Europe/Helsinki:20270721T120000
DTSTAMP:20260424T070859
CREATED:20260421T093010Z
LAST-MODIFIED:20260421T134255Z
UID:10037653-1816165800-1816171200@kalenteri.niemikoti.fi
SUMMARY:Soppakokit
DESCRIPTION:Tehdään yhdessä ruokaa. Ruoan hinta osallistujille 2 €.
URL:https://kalenteri.niemikoti.fi/en/tapahtuma/soppakokit-13/2027-07-21/
LOCATION:Toimintakeskus Villa Borgis\, Linnavuorentie 13\, Helsinki\, 00950\, Finland
CATEGORIES:Toimintakeskus Villa Borgis
END:VEVENT
BEGIN:VEVENT
DTSTART;TZID=Europe/Helsinki:20270728T103000
DTEND;TZID=Europe/Helsinki:20270728T120000
DTSTAMP:20260424T070859
CREATED:20260421T093010Z
LAST-MODIFIED:20260421T134255Z
UID:10037654-1816770600-1816776000@kalenteri.niemikoti.fi
SUMMARY:Soppakokit
DESCRIPTION:Tehdään yhdessä ruokaa. Ruoan hinta osallistujille 2 €.
URL:https://kalenteri.niemikoti.fi/en/tapahtuma/soppakokit-13/2027-07-28/
LOCATION:Toimintakeskus Villa Borgis\, Linnavuorentie 13\, Helsinki\, 00950\, Finland
CATEGORIES:Toimintakeskus Villa Borgis
END:VEVENT
BEGIN:VEVENT
DTSTART;TZID=Europe/Helsinki:20270804T103000
DTEND;TZID=Europe/Helsinki:20270804T120000
DTSTAMP:20260424T070859
CREATED:20260421T093010Z
LAST-MODIFIED:20260421T134255Z
UID:10037655-1817375400-1817380800@kalenteri.niemikoti.fi
SUMMARY:Soppakokit
DESCRIPTION:Tehdään yhdessä ruokaa. Ruoan hinta osallistujille 2 €.
URL:https://kalenteri.niemikoti.fi/en/tapahtuma/soppakokit-13/2027-08-04/
LOCATION:Toimintakeskus Villa Borgis\, Linnavuorentie 13\, Helsinki\, 00950\, Finland
CATEGORIES:Toimintakeskus Villa Borgis
END:VEVENT
BEGIN:VEVENT
DTSTART;TZID=Europe/Helsinki:20270811T103000
DTEND;TZID=Europe/Helsinki:20270811T120000
DTSTAMP:20260424T070859
CREATED:20260421T093010Z
LAST-MODIFIED:20260421T134255Z
UID:10037656-1817980200-1817985600@kalenteri.niemikoti.fi
SUMMARY:Soppakokit
DESCRIPTION:Tehdään yhdessä ruokaa. Ruoan hinta osallistujille 2 €.
URL:https://kalenteri.niemikoti.fi/en/tapahtuma/soppakokit-13/2027-08-11/
LOCATION:Toimintakeskus Villa Borgis\, Linnavuorentie 13\, Helsinki\, 00950\, Finland
CATEGORIES:Toimintakeskus Villa Borgis
END:VEVENT
BEGIN:VEVENT
DTSTART;TZID=Europe/Helsinki:20270818T103000
DTEND;TZID=Europe/Helsinki:20270818T120000
DTSTAMP:20260424T070859
CREATED:20260421T093010Z
LAST-MODIFIED:20260421T134255Z
UID:10037657-1818585000-1818590400@kalenteri.niemikoti.fi
SUMMARY:Soppakokit
DESCRIPTION:Tehdään yhdessä ruokaa. Ruoan hinta osallistujille 2 €.
URL:https://kalenteri.niemikoti.fi/en/tapahtuma/soppakokit-13/2027-08-18/
LOCATION:Toimintakeskus Villa Borgis\, Linnavuorentie 13\, Helsinki\, 00950\, Finland
CATEGORIES:Toimintakeskus Villa Borgis
END:VEVENT
BEGIN:VEVENT
DTSTART;TZID=Europe/Helsinki:20270825T103000
DTEND;TZID=Europe/Helsinki:20270825T120000
DTSTAMP:20260424T070859
CREATED:20260421T093010Z
LAST-MODIFIED:20260421T134255Z
UID:10037658-1819189800-1819195200@kalenteri.niemikoti.fi
SUMMARY:Soppakokit
DESCRIPTION:Tehdään yhdessä ruokaa. Ruoan hinta osallistujille 2 €.
URL:https://kalenteri.niemikoti.fi/en/tapahtuma/soppakokit-13/2027-08-25/
LOCATION:Toimintakeskus Villa Borgis\, Linnavuorentie 13\, Helsinki\, 00950\, Finland
CATEGORIES:Toimintakeskus Villa Borgis
END:VEVENT
END:VCALENDAR