BEGIN:VCALENDAR
VERSION:2.0
PRODID:-//Tapahtumakalenteri - ECPv6.15.18//NONSGML v1.0//EN
CALSCALE:GREGORIAN
METHOD:PUBLISH
X-WR-CALNAME:Tapahtumakalenteri
X-ORIGINAL-URL:https://kalenteri.niemikoti.fi/en/
X-WR-CALDESC:Events for Tapahtumakalenteri
REFRESH-INTERVAL;VALUE=DURATION:PT1H
X-Robots-Tag:noindex
X-PUBLISHED-TTL:PT1H
BEGIN:VTIMEZONE
TZID:Europe/Helsinki
BEGIN:DAYLIGHT
TZOFFSETFROM:+0200
TZOFFSETTO:+0300
TZNAME:EEST
DTSTART:20250330T010000
END:DAYLIGHT
BEGIN:STANDARD
TZOFFSETFROM:+0300
TZOFFSETTO:+0200
TZNAME:EET
DTSTART:20251026T010000
END:STANDARD
BEGIN:DAYLIGHT
TZOFFSETFROM:+0200
TZOFFSETTO:+0300
TZNAME:EEST
DTSTART:20260329T010000
END:DAYLIGHT
BEGIN:STANDARD
TZOFFSETFROM:+0300
TZOFFSETTO:+0200
TZNAME:EET
DTSTART:20261025T010000
END:STANDARD
BEGIN:DAYLIGHT
TZOFFSETFROM:+0200
TZOFFSETTO:+0300
TZNAME:EEST
DTSTART:20270328T010000
END:DAYLIGHT
BEGIN:STANDARD
TZOFFSETFROM:+0300
TZOFFSETTO:+0200
TZNAME:EET
DTSTART:20271031T010000
END:STANDARD
END:VTIMEZONE
BEGIN:VEVENT
DTSTART;TZID=Europe/Helsinki:20260216T090000
DTEND;TZID=Europe/Helsinki:20260216T094500
DTSTAMP:20260424T041639
CREATED:20250820T065259Z
LAST-MODIFIED:20260331T081723Z
UID:10025692-1771232400-1771235100@kalenteri.niemikoti.fi
SUMMARY:Yhteisön aamiainen
DESCRIPTION:Aamiainen yhteisöpäivän kävijöille. Sisältää puuron\, talon omenahilloa\, leipää\, leivänpäällisiä\, jugurttia\, hedelmiä\, kahvia\, teetä ja mehua. Hinta aamiaiselle 3 e\, sisältää myös iltapäiväkahvin.
URL:https://kalenteri.niemikoti.fi/en/tapahtuma/yhteison-aamiainen-3/2026-02-16/
LOCATION:Toimintakeskus Villa Borgis\, Linnavuorentie 13\, Helsinki\, 00950\, Finland
CATEGORIES:Toimintakeskus Villa Borgis
END:VEVENT
BEGIN:VEVENT
DTSTART;TZID=Europe/Helsinki:20260216T130000
DTEND;TZID=Europe/Helsinki:20260216T141500
DTSTAMP:20260424T041639
CREATED:20260127T091416Z
LAST-MODIFIED:20260127T132719Z
UID:10033491-1771246800-1771251300@kalenteri.niemikoti.fi
SUMMARY:Kohtaamistaide
DESCRIPTION:Moniaistillista kuvataidetta ryhmässä. Virittäydymme päivän aiheeseen kaikin aistein ja teemme yllätyksellisen taideteoksen arvostaen omaa ja muiden tekemistä. Aiempaa kokemusta tai osaamista ei tarvita. Max 8 osallistujaa. Ilmoittaudu. 
URL:https://kalenteri.niemikoti.fi/en/tapahtuma/kohtaamistaide-6/2026-02-16/
LOCATION:Toimintakeskus Villa Borgis\, Linnavuorentie 13\, Helsinki\, 00950\, Finland
CATEGORIES:Toimintakeskus Villa Borgis
ATTACH;FMTTYPE=image/jpeg:https://kalenteri.niemikoti.fi/wp-content/uploads/2026/01/Kohtaamistaide.jpg
END:VEVENT
BEGIN:VEVENT
DTSTART;TZID=Europe/Helsinki:20260217T090000
DTEND;TZID=Europe/Helsinki:20260217T094500
DTSTAMP:20260424T041639
CREATED:20250820T065259Z
LAST-MODIFIED:20260331T081723Z
UID:10025693-1771318800-1771321500@kalenteri.niemikoti.fi
SUMMARY:Yhteisön aamiainen
DESCRIPTION:Aamiainen yhteisöpäivän kävijöille. Sisältää puuron\, talon omenahilloa\, leipää\, leivänpäällisiä\, jugurttia\, hedelmiä\, kahvia\, teetä ja mehua. Hinta aamiaiselle 3 e\, sisältää myös iltapäiväkahvin.
URL:https://kalenteri.niemikoti.fi/en/tapahtuma/yhteison-aamiainen-3/2026-02-17/
LOCATION:Toimintakeskus Villa Borgis\, Linnavuorentie 13\, Helsinki\, 00950\, Finland
CATEGORIES:Toimintakeskus Villa Borgis
END:VEVENT
BEGIN:VEVENT
DTSTART;TZID=Europe/Helsinki:20260217T130000
DTEND;TZID=Europe/Helsinki:20260217T140000
DTSTAMP:20260424T041639
CREATED:20260127T092331Z
LAST-MODIFIED:20260127T092331Z
UID:10033495-1771333200-1771336800@kalenteri.niemikoti.fi
SUMMARY:Yhteislaulut
DESCRIPTION:Laulaminen tekee hyvää. Tule mukaan!
URL:https://kalenteri.niemikoti.fi/en/tapahtuma/yhteislaulut/2026-02-17/
LOCATION:Toimintakeskus Villa Borgis\, Linnavuorentie 13\, Helsinki\, 00950\, Finland
CATEGORIES:Toimintakeskus Villa Borgis
END:VEVENT
BEGIN:VEVENT
DTSTART;TZID=Europe/Helsinki:20260218T090000
DTEND;TZID=Europe/Helsinki:20260218T094500
DTSTAMP:20260424T041639
CREATED:20250820T065259Z
LAST-MODIFIED:20260331T081723Z
UID:10025694-1771405200-1771407900@kalenteri.niemikoti.fi
SUMMARY:Yhteisön aamiainen
DESCRIPTION:Aamiainen yhteisöpäivän kävijöille. Sisältää puuron\, talon omenahilloa\, leipää\, leivänpäällisiä\, jugurttia\, hedelmiä\, kahvia\, teetä ja mehua. Hinta aamiaiselle 3 e\, sisältää myös iltapäiväkahvin.
URL:https://kalenteri.niemikoti.fi/en/tapahtuma/yhteison-aamiainen-3/2026-02-18/
LOCATION:Toimintakeskus Villa Borgis\, Linnavuorentie 13\, Helsinki\, 00950\, Finland
CATEGORIES:Toimintakeskus Villa Borgis
END:VEVENT
BEGIN:VEVENT
DTSTART;TZID=Europe/Helsinki:20260218T101500
DTEND;TZID=Europe/Helsinki:20260218T120000
DTSTAMP:20260424T041639
CREATED:20260209T132843Z
LAST-MODIFIED:20260209T132843Z
UID:10033534-1771409700-1771416000@kalenteri.niemikoti.fi
SUMMARY:Retki Itäkeskuksen kirjastoon
DESCRIPTION:Teemme aamupäivällä retken Itäkeskuksen kirjastoon\, jossa kirjastonhoitaja esittelee meille kirjaston palveluja. Lähdemme yhdessä Villa Borgikselta klo 10.15 ja paluu on klo 12 mennessä.
URL:https://kalenteri.niemikoti.fi/en/tapahtuma/retki-itakeskuksen-kirjastoon/
LOCATION:Toimintakeskus Villa Borgis\, Linnavuorentie 13\, Helsinki\, 00950\, Finland
CATEGORIES:Toimintakeskus Villa Borgis
END:VEVENT
BEGIN:VEVENT
DTSTART;TZID=Europe/Helsinki:20260218T110000
DTEND;TZID=Europe/Helsinki:20260218T120000
DTSTAMP:20260424T041639
CREATED:20260127T093046Z
LAST-MODIFIED:20260127T101015Z
UID:10033526-1771412400-1771416000@kalenteri.niemikoti.fi
SUMMARY:Kirjojen ystävät
DESCRIPTION:Tule jakamaan lukukokemuksiasi. Luemme otteita eri kirjoista\, keskustelemme ja kirjoitamme myös omia tekstejä.
URL:https://kalenteri.niemikoti.fi/en/tapahtuma/kirjojen-ystavat/2026-02-18/
LOCATION:Toimintakeskus Villa Borgis\, Linnavuorentie 13\, Helsinki\, 00950\, Finland
CATEGORIES:Toimintakeskus Villa Borgis
END:VEVENT
BEGIN:VEVENT
DTSTART;TZID=Europe/Helsinki:20260218T130000
DTEND;TZID=Europe/Helsinki:20260218T143000
DTSTAMP:20260424T041639
CREATED:20251217T133448Z
LAST-MODIFIED:20260327T091310Z
UID:10033503-1771419600-1771425000@kalenteri.niemikoti.fi
SUMMARY:Puutyöryhmä
DESCRIPTION:Tehdään pieniä puutöitä käsityökaluilla. Ryhmään mahtuu kerralla max. 4 osallistujaa. Ilmoittaudu mukaan.
URL:https://kalenteri.niemikoti.fi/en/tapahtuma/puutyoryhma-4/2026-02-18/
LOCATION:Toimintakeskus Villa Borgis\, Linnavuorentie 13\, Helsinki\, 00950\, Finland
CATEGORIES:Toimintakeskus Villa Borgis
END:VEVENT
BEGIN:VEVENT
DTSTART;TZID=Europe/Helsinki:20260219T111500
DTEND;TZID=Europe/Helsinki:20260219T120000
DTSTAMP:20260424T041639
CREATED:20260127T093845Z
LAST-MODIFIED:20260211T073521Z
UID:10033511-1771499700-1771502400@kalenteri.niemikoti.fi
SUMMARY:Lempeä liikunta
DESCRIPTION:Kaikille sopivaa lempeää liikuskelua ja venyttelyä.
URL:https://kalenteri.niemikoti.fi/en/tapahtuma/lempea-liikunta-3/2026-02-19/
LOCATION:Toimintakeskus Villa Borgis\, Linnavuorentie 13\, Helsinki\, 00950\, Finland
CATEGORIES:Toimintakeskus Villa Borgis
END:VEVENT
BEGIN:VEVENT
DTSTART;TZID=Europe/Helsinki:20260219T130000
DTEND;TZID=Europe/Helsinki:20260219T150000
DTSTAMP:20260424T041639
CREATED:20260127T094303Z
LAST-MODIFIED:20260127T100753Z
UID:10033523-1771506000-1771513200@kalenteri.niemikoti.fi
SUMMARY:Kädentaitotorstai
DESCRIPTION:Kädentaitopaja\, jossa on vaihtuva teema tai voit tehdä omaa käsityöprojektia tai keskeneräisiä töitäsi. Ilmoittaudu. \n5.2. Tilkkutyöt \n12.2. Ystävänpäivän sydämiä \n19.2. Korupaja
URL:https://kalenteri.niemikoti.fi/en/tapahtuma/kadentaitotorstai-6/2026-02-19/
LOCATION:Toimintakeskus Villa Borgis\, Linnavuorentie 13\, Helsinki\, 00950\, Finland
CATEGORIES:Toimintakeskus Villa Borgis
END:VEVENT
BEGIN:VEVENT
DTSTART;TZID=Europe/Helsinki:20260220T120000
DTEND;TZID=Europe/Helsinki:20260220T130000
DTSTAMP:20260424T041639
CREATED:20260127T100119Z
LAST-MODIFIED:20260127T100119Z
UID:10033518-1771588800-1771592400@kalenteri.niemikoti.fi
SUMMARY:Pelit ja leikit
DESCRIPTION:Kokeillaan uusia ja vanhoja pelejä ja leikkejä.
URL:https://kalenteri.niemikoti.fi/en/tapahtuma/pelit-ja-leikit-3/2026-02-20/
LOCATION:Toimintakeskus Villa Borgis\, Linnavuorentie 13\, Helsinki\, 00950\, Finland
CATEGORIES:Toimintakeskus Villa Borgis
END:VEVENT
END:VCALENDAR