BEGIN:VCALENDAR
VERSION:2.0
PRODID:-//Tapahtumakalenteri - ECPv6.15.18//NONSGML v1.0//EN
CALSCALE:GREGORIAN
METHOD:PUBLISH
X-ORIGINAL-URL:https://kalenteri.niemikoti.fi/en/
X-WR-CALDESC:Events for Tapahtumakalenteri
REFRESH-INTERVAL;VALUE=DURATION:PT1H
X-Robots-Tag:noindex
X-PUBLISHED-TTL:PT1H
BEGIN:VTIMEZONE
TZID:Europe/Helsinki
BEGIN:DAYLIGHT
TZOFFSETFROM:+0200
TZOFFSETTO:+0300
TZNAME:EEST
DTSTART:20240331T010000
END:DAYLIGHT
BEGIN:STANDARD
TZOFFSETFROM:+0300
TZOFFSETTO:+0200
TZNAME:EET
DTSTART:20241027T010000
END:STANDARD
BEGIN:DAYLIGHT
TZOFFSETFROM:+0200
TZOFFSETTO:+0300
TZNAME:EEST
DTSTART:20250330T010000
END:DAYLIGHT
BEGIN:STANDARD
TZOFFSETFROM:+0300
TZOFFSETTO:+0200
TZNAME:EET
DTSTART:20251026T010000
END:STANDARD
BEGIN:DAYLIGHT
TZOFFSETFROM:+0200
TZOFFSETTO:+0300
TZNAME:EEST
DTSTART:20260329T010000
END:DAYLIGHT
BEGIN:STANDARD
TZOFFSETFROM:+0300
TZOFFSETTO:+0200
TZNAME:EET
DTSTART:20261025T010000
END:STANDARD
END:VTIMEZONE
BEGIN:VEVENT
DTSTART;TZID=Europe/Helsinki:20251222T110000
DTEND;TZID=Europe/Helsinki:20251222T140000
DTSTAMP:20260426T044819
CREATED:20251212T071518Z
LAST-MODIFIED:20251217T075342Z
UID:10025654-1766401200-1766412000@kalenteri.niemikoti.fi
SUMMARY:Puutyöpajat
DESCRIPTION:Tule mukaan Villa Borgiksen joulu-etkoille! Puutyöpajoissa tehdään pieniä puutöitä käsityökaluilla. Ilmoittaudu. \nMa 22.12 klo 11 – 14 \nTi 23.12 klo 11 – 13
URL:https://kalenteri.niemikoti.fi/en/tapahtuma/puutyopajat/
LOCATION:Toimintakeskus Villa Borgis\, Linnavuorentie 13\, Helsinki\, 00950\, Finland
CATEGORIES:Toimintakeskus Villa Borgis
ATTACH;FMTTYPE=image/jpeg:https://kalenteri.niemikoti.fi/wp-content/uploads/2025/12/Red-and-White-Watercolor-Illustrative-Christmas-Menu.jpg
END:VEVENT
BEGIN:VEVENT
DTSTART;TZID=Europe/Helsinki:20251222T120000
DTEND;TZID=Europe/Helsinki:20251222T130000
DTSTAMP:20260426T044819
CREATED:20251212T073324Z
LAST-MODIFIED:20251212T073324Z
UID:10025656-1766404800-1766408400@kalenteri.niemikoti.fi
SUMMARY:Yhteisön lounas
DESCRIPTION:Lounaaksi on herkullinen joulupuuro. Lounaan hinta 3 € sisältää päiväkahvin ja kahvileivän. Ilmoittaudu viim. pe 19.12
URL:https://kalenteri.niemikoti.fi/en/tapahtuma/yhteison-lounas-3/
LOCATION:Toimintakeskus Villa Borgis\, Linnavuorentie 13\, Helsinki\, 00950\, Finland
CATEGORIES:Toimintakeskus Villa Borgis
ATTACH;FMTTYPE=image/jpeg:https://kalenteri.niemikoti.fi/wp-content/uploads/2025/12/Red-and-White-Watercolor-Illustrative-Christmas-Menu-1-1.jpg
END:VEVENT
BEGIN:VEVENT
DTSTART;TZID=Europe/Helsinki:20251222T130000
DTEND;TZID=Europe/Helsinki:20251222T140000
DTSTAMP:20260426T044819
CREATED:20251212T074320Z
LAST-MODIFIED:20251212T074320Z
UID:10025660-1766408400-1766412000@kalenteri.niemikoti.fi
SUMMARY:Joululauluja
DESCRIPTION:Tule Villa Borgiksen joulu-etkoille laulamaan ja musisoimaan yhdessä kohti joulua.
URL:https://kalenteri.niemikoti.fi/en/tapahtuma/joululauluja/
LOCATION:Toimintakeskus Villa Borgis\, Linnavuorentie 13\, Helsinki\, 00950\, Finland
CATEGORIES:Toimintakeskus Villa Borgis
ATTACH;FMTTYPE=image/jpeg:https://kalenteri.niemikoti.fi/wp-content/uploads/2025/12/Red-and-White-Watercolor-Illustrative-Christmas-Menu-1-2.jpg
END:VEVENT
END:VCALENDAR