BEGIN:VCALENDAR
VERSION:2.0
PRODID:-//Tapahtumakalenteri - ECPv6.15.18//NONSGML v1.0//EN
CALSCALE:GREGORIAN
METHOD:PUBLISH
X-WR-CALNAME:Tapahtumakalenteri
X-ORIGINAL-URL:https://kalenteri.niemikoti.fi/en/
X-WR-CALDESC:Events for Tapahtumakalenteri
REFRESH-INTERVAL;VALUE=DURATION:PT1H
X-Robots-Tag:noindex
X-PUBLISHED-TTL:PT1H
BEGIN:VTIMEZONE
TZID:Europe/Helsinki
BEGIN:DAYLIGHT
TZOFFSETFROM:+0200
TZOFFSETTO:+0300
TZNAME:EEST
DTSTART:20240331T010000
END:DAYLIGHT
BEGIN:STANDARD
TZOFFSETFROM:+0300
TZOFFSETTO:+0200
TZNAME:EET
DTSTART:20241027T010000
END:STANDARD
BEGIN:DAYLIGHT
TZOFFSETFROM:+0200
TZOFFSETTO:+0300
TZNAME:EEST
DTSTART:20250330T010000
END:DAYLIGHT
BEGIN:STANDARD
TZOFFSETFROM:+0300
TZOFFSETTO:+0200
TZNAME:EET
DTSTART:20251026T010000
END:STANDARD
BEGIN:DAYLIGHT
TZOFFSETFROM:+0200
TZOFFSETTO:+0300
TZNAME:EEST
DTSTART:20260329T010000
END:DAYLIGHT
BEGIN:STANDARD
TZOFFSETFROM:+0300
TZOFFSETTO:+0200
TZNAME:EET
DTSTART:20261025T010000
END:STANDARD
END:VTIMEZONE
BEGIN:VEVENT
DTSTART;TZID=Europe/Helsinki:20250203T113000
DTEND;TZID=Europe/Helsinki:20250203T120000
DTSTAMP:20260426T035616
CREATED:20240814T064838Z
LAST-MODIFIED:20250321T104505Z
UID:10013841-1738582200-1738584000@kalenteri.niemikoti.fi
SUMMARY:Kävelylenkki
DESCRIPTION:Yhteisön kävelylenkki toimintakeskuksen lähimaastossa.
URL:https://kalenteri.niemikoti.fi/en/tapahtuma/kavelylenkki/2025-02-03/
LOCATION:Toimintakeskus Villa Borgis\, Linnavuorentie 13\, Helsinki\, 00950\, Finland
CATEGORIES:Toimintakeskus Villa Borgis
END:VEVENT
BEGIN:VEVENT
DTSTART;TZID=Europe/Helsinki:20250204T110000
DTEND;TZID=Europe/Helsinki:20250204T123000
DTSTAMP:20260426T035616
CREATED:20250120T134955Z
LAST-MODIFIED:20250121T133908Z
UID:10019899-1738666800-1738672200@kalenteri.niemikoti.fi
SUMMARY:Hyvinvointiryhmä: Liikuntasuositukset
DESCRIPTION:Tällä viikolla Valtti Valmennuksen hyvinvointiryhmän teemana on uudet aikuisten liikuntasuositukset. Suosituksissa huomioidaan kaikenlainen liike – niin kotiaskareet ja kävelylenkit kuin raskas kuntosalitreeni. Tervetuloa mukaan keskustelemaan tai kuuntelemaan. Ryhmään ei tarvitse ilmoittautua ennakkoon!
URL:https://kalenteri.niemikoti.fi/en/tapahtuma/hyvinvointiryhma-liikuntasuositukset/
LOCATION:Valtti Valmennus\, Elimäenkatu 26\, Helsinki\, 00510\, Finland
CATEGORIES:Kokemusasiantuntija- ja vertaistoiminta,Valtti Valmennus
ATTACH;FMTTYPE=image/png:https://kalenteri.niemikoti.fi/wp-content/uploads/2025/01/Nimeton-Flaijeri-A4.png
END:VEVENT
BEGIN:VEVENT
DTSTART;TZID=Europe/Helsinki:20250204T130000
DTEND;TZID=Europe/Helsinki:20250204T140000
DTSTAMP:20260426T035616
CREATED:20250117T114715Z
LAST-MODIFIED:20250117T114715Z
UID:10019894-1738674000-1738677600@kalenteri.niemikoti.fi
SUMMARY:Hyvinvointiryhmä
DESCRIPTION:Keskustellaan ja tehdään erilaisia hyvinvointia tukevia harjoitteita.
URL:https://kalenteri.niemikoti.fi/en/tapahtuma/hyvinvointiryhma-4/2025-02-04/
LOCATION:Toimintakeskus Villa Borgis\, Linnavuorentie 13\, Helsinki\, 00950\, Finland
CATEGORIES:Toimintakeskus Villa Borgis
END:VEVENT
BEGIN:VEVENT
DTSTART;TZID=Europe/Helsinki:20250205T110000
DTEND;TZID=Europe/Helsinki:20250205T120000
DTSTAMP:20260426T035616
CREATED:20250120T151955Z
LAST-MODIFIED:20250612T131742Z
UID:10021264-1738753200-1738756800@kalenteri.niemikoti.fi
SUMMARY:Luonto & liikunta -kävelyryhmä
DESCRIPTION:Kävelemme Malmin päivätoimintakeskuksen lähiluonnossa mukavan kävelylenkin. Kaksi ryhmää\, joista voit valita rauhallisesti tai reippaasti etenevän ryhmän. \nTäydentyvä ryhmä\, ilmoittaudu mukaan! \nEi ryhmää 21.5.
URL:https://kalenteri.niemikoti.fi/en/tapahtuma/luonto-liikunta-kavelyryhma-4/2025-02-05/
LOCATION:Malmin päivätoimintakeskus\, Vanha Helsingintie 9\, Helsinki\, 00700\, Finland
CATEGORIES:Malmin päivätoimintakeskus
ATTACH;FMTTYPE=image/jpeg:https://kalenteri.niemikoti.fi/wp-content/uploads/2025/01/Luonto-ja-liikunta-kavelyryhma_valmis-2.jpg
END:VEVENT
BEGIN:VEVENT
DTSTART;TZID=Europe/Helsinki:20250205T130000
DTEND;TZID=Europe/Helsinki:20250205T140000
DTSTAMP:20260426T035616
CREATED:20250116T133520Z
LAST-MODIFIED:20250204T104037Z
UID:10019886-1738760400-1738764000@kalenteri.niemikoti.fi
SUMMARY:Lempeä liikunta
DESCRIPTION:Kaikille sopivaa kevyttä ja rauhallista liikuntaa ja rentoutumista.
URL:https://kalenteri.niemikoti.fi/en/tapahtuma/lempea-liikunta/2025-02-05/
LOCATION:Toimintakeskus Villa Borgis\, Linnavuorentie 13\, Helsinki\, 00950\, Finland
CATEGORIES:Toimintakeskus Villa Borgis
END:VEVENT
BEGIN:VEVENT
DTSTART;TZID=Europe/Helsinki:20250207T110000
DTEND;TZID=Europe/Helsinki:20250207T120000
DTSTAMP:20260426T035616
CREATED:20250307T073401Z
LAST-MODIFIED:20250307T100704Z
UID:10021783-1738926000-1738929600@kalenteri.niemikoti.fi
SUMMARY:Letkeä liikunta
DESCRIPTION:Yhteisön rentoa liikuntaa\, esimerkiksi tanssia\, venyttelyä tai tuolijumppaa. Täydentyvä ryhmä\, ilmoittaudu mukaan! \nEi ryhmää 28.2.
URL:https://kalenteri.niemikoti.fi/en/tapahtuma/letkea-liikunta/2025-02-07/
LOCATION:Malmin päivätoimintakeskus\, Vanha Helsingintie 9\, Helsinki\, 00700\, Finland
CATEGORIES:Malmin päivätoimintakeskus
END:VEVENT
BEGIN:VEVENT
DTSTART;TZID=Europe/Helsinki:20250210T113000
DTEND;TZID=Europe/Helsinki:20250210T120000
DTSTAMP:20260426T035616
CREATED:20240814T064838Z
LAST-MODIFIED:20250321T104505Z
UID:10013842-1739187000-1739188800@kalenteri.niemikoti.fi
SUMMARY:Kävelylenkki
DESCRIPTION:Yhteisön kävelylenkki toimintakeskuksen lähimaastossa.
URL:https://kalenteri.niemikoti.fi/en/tapahtuma/kavelylenkki/2025-02-10/
LOCATION:Toimintakeskus Villa Borgis\, Linnavuorentie 13\, Helsinki\, 00950\, Finland
CATEGORIES:Toimintakeskus Villa Borgis
END:VEVENT
BEGIN:VEVENT
DTSTART;TZID=Europe/Helsinki:20250211T130000
DTEND;TZID=Europe/Helsinki:20250211T140000
DTSTAMP:20260426T035616
CREATED:20250117T114715Z
LAST-MODIFIED:20250117T114715Z
UID:10019895-1739278800-1739282400@kalenteri.niemikoti.fi
SUMMARY:Hyvinvointiryhmä
DESCRIPTION:Keskustellaan ja tehdään erilaisia hyvinvointia tukevia harjoitteita.
URL:https://kalenteri.niemikoti.fi/en/tapahtuma/hyvinvointiryhma-4/2025-02-11/
LOCATION:Toimintakeskus Villa Borgis\, Linnavuorentie 13\, Helsinki\, 00950\, Finland
CATEGORIES:Toimintakeskus Villa Borgis
END:VEVENT
BEGIN:VEVENT
DTSTART;TZID=Europe/Helsinki:20250212T110000
DTEND;TZID=Europe/Helsinki:20250212T120000
DTSTAMP:20260426T035616
CREATED:20250120T151955Z
LAST-MODIFIED:20250612T131742Z
UID:10021265-1739358000-1739361600@kalenteri.niemikoti.fi
SUMMARY:Luonto & liikunta -kävelyryhmä
DESCRIPTION:Kävelemme Malmin päivätoimintakeskuksen lähiluonnossa mukavan kävelylenkin. Kaksi ryhmää\, joista voit valita rauhallisesti tai reippaasti etenevän ryhmän. \nTäydentyvä ryhmä\, ilmoittaudu mukaan! \nEi ryhmää 21.5.
URL:https://kalenteri.niemikoti.fi/en/tapahtuma/luonto-liikunta-kavelyryhma-4/2025-02-12/
LOCATION:Malmin päivätoimintakeskus\, Vanha Helsingintie 9\, Helsinki\, 00700\, Finland
CATEGORIES:Malmin päivätoimintakeskus
ATTACH;FMTTYPE=image/jpeg:https://kalenteri.niemikoti.fi/wp-content/uploads/2025/01/Luonto-ja-liikunta-kavelyryhma_valmis-2.jpg
END:VEVENT
BEGIN:VEVENT
DTSTART;TZID=Europe/Helsinki:20250213T110000
DTEND;TZID=Europe/Helsinki:20250213T120000
DTSTAMP:20260426T035616
CREATED:20250120T135747Z
LAST-MODIFIED:20250307T123744Z
UID:10019903-1739444400-1739448000@kalenteri.niemikoti.fi
SUMMARY:Rento jooga
DESCRIPTION:Lempeää ja helppoa venyttelyä sekä rentoutusta. Täydentyvä ryhmä\, ilmoittaudu mukaan! \nEi ryhmää 30.1.\, 6.2. ja 6.3.
URL:https://kalenteri.niemikoti.fi/en/tapahtuma/rento-jooga-2/2025-02-13/
LOCATION:Malmin päivätoimintakeskus\, Vanha Helsingintie 9\, Helsinki\, 00700\, Finland
CATEGORIES:Malmin päivätoimintakeskus
ATTACH;FMTTYPE=image/jpeg:https://kalenteri.niemikoti.fi/wp-content/uploads/2025/01/Jooga.jpg
END:VEVENT
BEGIN:VEVENT
DTSTART;TZID=Europe/Helsinki:20250214T110000
DTEND;TZID=Europe/Helsinki:20250214T120000
DTSTAMP:20260426T035616
CREATED:20250307T073401Z
LAST-MODIFIED:20250307T100704Z
UID:10021784-1739530800-1739534400@kalenteri.niemikoti.fi
SUMMARY:Letkeä liikunta
DESCRIPTION:Yhteisön rentoa liikuntaa\, esimerkiksi tanssia\, venyttelyä tai tuolijumppaa. Täydentyvä ryhmä\, ilmoittaudu mukaan! \nEi ryhmää 28.2.
URL:https://kalenteri.niemikoti.fi/en/tapahtuma/letkea-liikunta/2025-02-14/
LOCATION:Malmin päivätoimintakeskus\, Vanha Helsingintie 9\, Helsinki\, 00700\, Finland
CATEGORIES:Malmin päivätoimintakeskus
END:VEVENT
BEGIN:VEVENT
DTSTART;TZID=Europe/Helsinki:20250217T113000
DTEND;TZID=Europe/Helsinki:20250217T120000
DTSTAMP:20260426T035616
CREATED:20240814T064838Z
LAST-MODIFIED:20250321T104505Z
UID:10013843-1739791800-1739793600@kalenteri.niemikoti.fi
SUMMARY:Kävelylenkki
DESCRIPTION:Yhteisön kävelylenkki toimintakeskuksen lähimaastossa.
URL:https://kalenteri.niemikoti.fi/en/tapahtuma/kavelylenkki/2025-02-17/
LOCATION:Toimintakeskus Villa Borgis\, Linnavuorentie 13\, Helsinki\, 00950\, Finland
CATEGORIES:Toimintakeskus Villa Borgis
END:VEVENT
BEGIN:VEVENT
DTSTART;TZID=Europe/Helsinki:20250217T121500
DTEND;TZID=Europe/Helsinki:20250217T140000
DTSTAMP:20260426T035616
CREATED:20250123T125715Z
LAST-MODIFIED:20250123T125715Z
UID:10021366-1739794500-1739800800@kalenteri.niemikoti.fi
SUMMARY:Luova tanssi
DESCRIPTION:Vapauttavia ja rentouttavia luovan\nliikkeen harjoituksia. Tule löytämään eri tapoja liikkua ja\nparantamaan oman kehon\ntuntemusta.
URL:https://kalenteri.niemikoti.fi/en/tapahtuma/luova-tanssi/2025-02-17/
LOCATION:Kulttuuripaja ELVIS\, Lautatarhankatu 4\, Helsinki\, 00580\, Finland
CATEGORIES:Kulttuuripaja ELVIS
ATTACH;FMTTYPE=image/png:https://kalenteri.niemikoti.fi/wp-content/uploads/2025/01/Luovan-tanssin-ryhma.png
END:VEVENT
BEGIN:VEVENT
DTSTART;TZID=Europe/Helsinki:20250218T130000
DTEND;TZID=Europe/Helsinki:20250218T140000
DTSTAMP:20260426T035616
CREATED:20250117T114715Z
LAST-MODIFIED:20250117T114715Z
UID:10019896-1739883600-1739887200@kalenteri.niemikoti.fi
SUMMARY:Hyvinvointiryhmä
DESCRIPTION:Keskustellaan ja tehdään erilaisia hyvinvointia tukevia harjoitteita.
URL:https://kalenteri.niemikoti.fi/en/tapahtuma/hyvinvointiryhma-4/2025-02-18/
LOCATION:Toimintakeskus Villa Borgis\, Linnavuorentie 13\, Helsinki\, 00950\, Finland
CATEGORIES:Toimintakeskus Villa Borgis
END:VEVENT
BEGIN:VEVENT
DTSTART;TZID=Europe/Helsinki:20250219T110000
DTEND;TZID=Europe/Helsinki:20250219T120000
DTSTAMP:20260426T035616
CREATED:20250120T151955Z
LAST-MODIFIED:20250612T131742Z
UID:10021266-1739962800-1739966400@kalenteri.niemikoti.fi
SUMMARY:Luonto & liikunta -kävelyryhmä
DESCRIPTION:Kävelemme Malmin päivätoimintakeskuksen lähiluonnossa mukavan kävelylenkin. Kaksi ryhmää\, joista voit valita rauhallisesti tai reippaasti etenevän ryhmän. \nTäydentyvä ryhmä\, ilmoittaudu mukaan! \nEi ryhmää 21.5.
URL:https://kalenteri.niemikoti.fi/en/tapahtuma/luonto-liikunta-kavelyryhma-4/2025-02-19/
LOCATION:Malmin päivätoimintakeskus\, Vanha Helsingintie 9\, Helsinki\, 00700\, Finland
CATEGORIES:Malmin päivätoimintakeskus
ATTACH;FMTTYPE=image/jpeg:https://kalenteri.niemikoti.fi/wp-content/uploads/2025/01/Luonto-ja-liikunta-kavelyryhma_valmis-2.jpg
END:VEVENT
BEGIN:VEVENT
DTSTART;TZID=Europe/Helsinki:20250219T130000
DTEND;TZID=Europe/Helsinki:20250219T140000
DTSTAMP:20260426T035616
CREATED:20250116T133520Z
LAST-MODIFIED:20250204T104037Z
UID:10019888-1739970000-1739973600@kalenteri.niemikoti.fi
SUMMARY:Lempeä liikunta
DESCRIPTION:Kaikille sopivaa kevyttä ja rauhallista liikuntaa ja rentoutumista.
URL:https://kalenteri.niemikoti.fi/en/tapahtuma/lempea-liikunta/2025-02-19/
LOCATION:Toimintakeskus Villa Borgis\, Linnavuorentie 13\, Helsinki\, 00950\, Finland
CATEGORIES:Toimintakeskus Villa Borgis
END:VEVENT
BEGIN:VEVENT
DTSTART;TZID=Europe/Helsinki:20250220T110000
DTEND;TZID=Europe/Helsinki:20250220T120000
DTSTAMP:20260426T035616
CREATED:20250120T135747Z
LAST-MODIFIED:20250307T123744Z
UID:10019904-1740049200-1740052800@kalenteri.niemikoti.fi
SUMMARY:Rento jooga
DESCRIPTION:Lempeää ja helppoa venyttelyä sekä rentoutusta. Täydentyvä ryhmä\, ilmoittaudu mukaan! \nEi ryhmää 30.1.\, 6.2. ja 6.3.
URL:https://kalenteri.niemikoti.fi/en/tapahtuma/rento-jooga-2/2025-02-20/1/
LOCATION:Malmin päivätoimintakeskus\, Vanha Helsingintie 9\, Helsinki\, 00700\, Finland
CATEGORIES:Malmin päivätoimintakeskus
ATTACH;FMTTYPE=image/jpeg:https://kalenteri.niemikoti.fi/wp-content/uploads/2025/01/Jooga.jpg
END:VEVENT
BEGIN:VEVENT
DTSTART;TZID=Europe/Helsinki:20250220T113000
DTEND;TZID=Europe/Helsinki:20250220T123000
DTSTAMP:20260426T035616
CREATED:20250120T135747Z
LAST-MODIFIED:20250307T123744Z
UID:10021610-1740051000-1740054600@kalenteri.niemikoti.fi
SUMMARY:Rento jooga
DESCRIPTION:Lempeää ja helppoa venyttelyä sekä rentoutusta. Täydentyvä ryhmä\, ilmoittaudu mukaan! \nEi ryhmää 30.1.\, 6.2. ja 6.3.
URL:https://kalenteri.niemikoti.fi/en/tapahtuma/rento-jooga-2/2025-02-20/2/
LOCATION:Malmin päivätoimintakeskus\, Vanha Helsingintie 9\, Helsinki\, 00700\, Finland
CATEGORIES:Malmin päivätoimintakeskus
ATTACH;FMTTYPE=image/jpeg:https://kalenteri.niemikoti.fi/wp-content/uploads/2025/01/Jooga.jpg
END:VEVENT
BEGIN:VEVENT
DTSTART;TZID=Europe/Helsinki:20250221T110000
DTEND;TZID=Europe/Helsinki:20250221T120000
DTSTAMP:20260426T035616
CREATED:20250307T073401Z
LAST-MODIFIED:20250307T100704Z
UID:10021785-1740135600-1740139200@kalenteri.niemikoti.fi
SUMMARY:Letkeä liikunta
DESCRIPTION:Yhteisön rentoa liikuntaa\, esimerkiksi tanssia\, venyttelyä tai tuolijumppaa. Täydentyvä ryhmä\, ilmoittaudu mukaan! \nEi ryhmää 28.2.
URL:https://kalenteri.niemikoti.fi/en/tapahtuma/letkea-liikunta/2025-02-21/
LOCATION:Malmin päivätoimintakeskus\, Vanha Helsingintie 9\, Helsinki\, 00700\, Finland
CATEGORIES:Malmin päivätoimintakeskus
END:VEVENT
BEGIN:VEVENT
DTSTART;TZID=Europe/Helsinki:20250224T113000
DTEND;TZID=Europe/Helsinki:20250224T120000
DTSTAMP:20260426T035616
CREATED:20240814T064838Z
LAST-MODIFIED:20250321T104505Z
UID:10013844-1740396600-1740398400@kalenteri.niemikoti.fi
SUMMARY:Kävelylenkki
DESCRIPTION:Yhteisön kävelylenkki toimintakeskuksen lähimaastossa.
URL:https://kalenteri.niemikoti.fi/en/tapahtuma/kavelylenkki/2025-02-24/
LOCATION:Toimintakeskus Villa Borgis\, Linnavuorentie 13\, Helsinki\, 00950\, Finland
CATEGORIES:Toimintakeskus Villa Borgis
END:VEVENT
BEGIN:VEVENT
DTSTART;TZID=Europe/Helsinki:20250224T121500
DTEND;TZID=Europe/Helsinki:20250224T140000
DTSTAMP:20260426T035616
CREATED:20250123T125715Z
LAST-MODIFIED:20250123T125715Z
UID:10021367-1740399300-1740405600@kalenteri.niemikoti.fi
SUMMARY:Luova tanssi
DESCRIPTION:Vapauttavia ja rentouttavia luovan\nliikkeen harjoituksia. Tule löytämään eri tapoja liikkua ja\nparantamaan oman kehon\ntuntemusta.
URL:https://kalenteri.niemikoti.fi/en/tapahtuma/luova-tanssi/2025-02-24/
LOCATION:Kulttuuripaja ELVIS\, Lautatarhankatu 4\, Helsinki\, 00580\, Finland
CATEGORIES:Kulttuuripaja ELVIS
ATTACH;FMTTYPE=image/png:https://kalenteri.niemikoti.fi/wp-content/uploads/2025/01/Luovan-tanssin-ryhma.png
END:VEVENT
BEGIN:VEVENT
DTSTART;TZID=Europe/Helsinki:20250225T130000
DTEND;TZID=Europe/Helsinki:20250225T140000
DTSTAMP:20260426T035616
CREATED:20250117T114715Z
LAST-MODIFIED:20250117T114715Z
UID:10019897-1740488400-1740492000@kalenteri.niemikoti.fi
SUMMARY:Hyvinvointiryhmä
DESCRIPTION:Keskustellaan ja tehdään erilaisia hyvinvointia tukevia harjoitteita.
URL:https://kalenteri.niemikoti.fi/en/tapahtuma/hyvinvointiryhma-4/2025-02-25/
LOCATION:Toimintakeskus Villa Borgis\, Linnavuorentie 13\, Helsinki\, 00950\, Finland
CATEGORIES:Toimintakeskus Villa Borgis
END:VEVENT
BEGIN:VEVENT
DTSTART;TZID=Europe/Helsinki:20250226T110000
DTEND;TZID=Europe/Helsinki:20250226T120000
DTSTAMP:20260426T035616
CREATED:20250120T151955Z
LAST-MODIFIED:20250612T131742Z
UID:10021267-1740567600-1740571200@kalenteri.niemikoti.fi
SUMMARY:Luonto & liikunta -kävelyryhmä
DESCRIPTION:Kävelemme Malmin päivätoimintakeskuksen lähiluonnossa mukavan kävelylenkin. Kaksi ryhmää\, joista voit valita rauhallisesti tai reippaasti etenevän ryhmän. \nTäydentyvä ryhmä\, ilmoittaudu mukaan! \nEi ryhmää 21.5.
URL:https://kalenteri.niemikoti.fi/en/tapahtuma/luonto-liikunta-kavelyryhma-4/2025-02-26/
LOCATION:Malmin päivätoimintakeskus\, Vanha Helsingintie 9\, Helsinki\, 00700\, Finland
CATEGORIES:Malmin päivätoimintakeskus
ATTACH;FMTTYPE=image/jpeg:https://kalenteri.niemikoti.fi/wp-content/uploads/2025/01/Luonto-ja-liikunta-kavelyryhma_valmis-2.jpg
END:VEVENT
BEGIN:VEVENT
DTSTART;TZID=Europe/Helsinki:20250226T130000
DTEND;TZID=Europe/Helsinki:20250226T140000
DTSTAMP:20260426T035616
CREATED:20250116T133520Z
LAST-MODIFIED:20250204T104037Z
UID:10019889-1740574800-1740578400@kalenteri.niemikoti.fi
SUMMARY:Lempeä liikunta
DESCRIPTION:Kaikille sopivaa kevyttä ja rauhallista liikuntaa ja rentoutumista.
URL:https://kalenteri.niemikoti.fi/en/tapahtuma/lempea-liikunta/2025-02-26/
LOCATION:Toimintakeskus Villa Borgis\, Linnavuorentie 13\, Helsinki\, 00950\, Finland
CATEGORIES:Toimintakeskus Villa Borgis
END:VEVENT
BEGIN:VEVENT
DTSTART;TZID=Europe/Helsinki:20250227T110000
DTEND;TZID=Europe/Helsinki:20250227T120000
DTSTAMP:20260426T035616
CREATED:20250120T135747Z
LAST-MODIFIED:20250307T123744Z
UID:10019905-1740654000-1740657600@kalenteri.niemikoti.fi
SUMMARY:Rento jooga
DESCRIPTION:Lempeää ja helppoa venyttelyä sekä rentoutusta. Täydentyvä ryhmä\, ilmoittaudu mukaan! \nEi ryhmää 30.1.\, 6.2. ja 6.3.
URL:https://kalenteri.niemikoti.fi/en/tapahtuma/rento-jooga-2/2025-02-27/
LOCATION:Malmin päivätoimintakeskus\, Vanha Helsingintie 9\, Helsinki\, 00700\, Finland
CATEGORIES:Malmin päivätoimintakeskus
ATTACH;FMTTYPE=image/jpeg:https://kalenteri.niemikoti.fi/wp-content/uploads/2025/01/Jooga.jpg
END:VEVENT
BEGIN:VEVENT
DTSTART;TZID=Europe/Helsinki:20250228T110000
DTEND;TZID=Europe/Helsinki:20250228T120000
DTSTAMP:20260426T035616
CREATED:20250307T073401Z
LAST-MODIFIED:20250307T100704Z
UID:10021786-1740740400-1740744000@kalenteri.niemikoti.fi
SUMMARY:Letkeä liikunta
DESCRIPTION:Yhteisön rentoa liikuntaa\, esimerkiksi tanssia\, venyttelyä tai tuolijumppaa. Täydentyvä ryhmä\, ilmoittaudu mukaan! \nEi ryhmää 28.2.
URL:https://kalenteri.niemikoti.fi/en/tapahtuma/letkea-liikunta/2025-02-28/
LOCATION:Malmin päivätoimintakeskus\, Vanha Helsingintie 9\, Helsinki\, 00700\, Finland
CATEGORIES:Malmin päivätoimintakeskus
END:VEVENT
END:VCALENDAR