BEGIN:VCALENDAR
VERSION:2.0
PRODID:-//Tapahtumakalenteri - ECPv6.15.18//NONSGML v1.0//EN
CALSCALE:GREGORIAN
METHOD:PUBLISH
X-WR-CALNAME:Tapahtumakalenteri
X-ORIGINAL-URL:https://kalenteri.niemikoti.fi/en/
X-WR-CALDESC:Events for Tapahtumakalenteri
REFRESH-INTERVAL;VALUE=DURATION:PT1H
X-Robots-Tag:noindex
X-PUBLISHED-TTL:PT1H
BEGIN:VTIMEZONE
TZID:Europe/Helsinki
BEGIN:DAYLIGHT
TZOFFSETFROM:+0200
TZOFFSETTO:+0300
TZNAME:EEST
DTSTART:20240331T010000
END:DAYLIGHT
BEGIN:STANDARD
TZOFFSETFROM:+0300
TZOFFSETTO:+0200
TZNAME:EET
DTSTART:20241027T010000
END:STANDARD
BEGIN:DAYLIGHT
TZOFFSETFROM:+0200
TZOFFSETTO:+0300
TZNAME:EEST
DTSTART:20250330T010000
END:DAYLIGHT
BEGIN:STANDARD
TZOFFSETFROM:+0300
TZOFFSETTO:+0200
TZNAME:EET
DTSTART:20251026T010000
END:STANDARD
BEGIN:DAYLIGHT
TZOFFSETFROM:+0200
TZOFFSETTO:+0300
TZNAME:EEST
DTSTART:20260329T010000
END:DAYLIGHT
BEGIN:STANDARD
TZOFFSETFROM:+0300
TZOFFSETTO:+0200
TZNAME:EET
DTSTART:20261025T010000
END:STANDARD
END:VTIMEZONE
BEGIN:VEVENT
DTSTART;TZID=Europe/Helsinki:20250303T113000
DTEND;TZID=Europe/Helsinki:20250303T120000
DTSTAMP:20260425T065046
CREATED:20240814T064838Z
LAST-MODIFIED:20250321T104505Z
UID:10013845-1741001400-1741003200@kalenteri.niemikoti.fi
SUMMARY:Kävelylenkki
DESCRIPTION:Yhteisön kävelylenkki toimintakeskuksen lähimaastossa.
URL:https://kalenteri.niemikoti.fi/en/tapahtuma/kavelylenkki/2025-03-03/
LOCATION:Toimintakeskus Villa Borgis\, Linnavuorentie 13\, Helsinki\, 00950\, Finland
CATEGORIES:Toimintakeskus Villa Borgis
END:VEVENT
BEGIN:VEVENT
DTSTART;TZID=Europe/Helsinki:20250303T121500
DTEND;TZID=Europe/Helsinki:20250303T140000
DTSTAMP:20260425T065046
CREATED:20250123T125715Z
LAST-MODIFIED:20250123T125715Z
UID:10021368-1741004100-1741010400@kalenteri.niemikoti.fi
SUMMARY:Luova tanssi
DESCRIPTION:Vapauttavia ja rentouttavia luovan\nliikkeen harjoituksia. Tule löytämään eri tapoja liikkua ja\nparantamaan oman kehon\ntuntemusta.
URL:https://kalenteri.niemikoti.fi/en/tapahtuma/luova-tanssi/2025-03-03/
LOCATION:Kulttuuripaja ELVIS\, Lautatarhankatu 4\, Helsinki\, 00580\, Finland
CATEGORIES:Kulttuuripaja ELVIS
ATTACH;FMTTYPE=image/png:https://kalenteri.niemikoti.fi/wp-content/uploads/2025/01/Luovan-tanssin-ryhma.png
END:VEVENT
BEGIN:VEVENT
DTSTART;TZID=Europe/Helsinki:20250305T110000
DTEND;TZID=Europe/Helsinki:20250305T120000
DTSTAMP:20260425T065046
CREATED:20250120T151955Z
LAST-MODIFIED:20250612T131742Z
UID:10021268-1741172400-1741176000@kalenteri.niemikoti.fi
SUMMARY:Luonto & liikunta -kävelyryhmä
DESCRIPTION:Kävelemme Malmin päivätoimintakeskuksen lähiluonnossa mukavan kävelylenkin. Kaksi ryhmää\, joista voit valita rauhallisesti tai reippaasti etenevän ryhmän. \nTäydentyvä ryhmä\, ilmoittaudu mukaan! \nEi ryhmää 21.5.
URL:https://kalenteri.niemikoti.fi/en/tapahtuma/luonto-liikunta-kavelyryhma-4/2025-03-05/
LOCATION:Malmin päivätoimintakeskus\, Vanha Helsingintie 9\, Helsinki\, 00700\, Finland
CATEGORIES:Malmin päivätoimintakeskus
ATTACH;FMTTYPE=image/jpeg:https://kalenteri.niemikoti.fi/wp-content/uploads/2025/01/Luonto-ja-liikunta-kavelyryhma_valmis-2.jpg
END:VEVENT
BEGIN:VEVENT
DTSTART;TZID=Europe/Helsinki:20250310T113000
DTEND;TZID=Europe/Helsinki:20250310T120000
DTSTAMP:20260425T065046
CREATED:20240814T064838Z
LAST-MODIFIED:20250321T104505Z
UID:10013846-1741606200-1741608000@kalenteri.niemikoti.fi
SUMMARY:Kävelylenkki
DESCRIPTION:Yhteisön kävelylenkki toimintakeskuksen lähimaastossa.
URL:https://kalenteri.niemikoti.fi/en/tapahtuma/kavelylenkki/2025-03-10/
LOCATION:Toimintakeskus Villa Borgis\, Linnavuorentie 13\, Helsinki\, 00950\, Finland
CATEGORIES:Toimintakeskus Villa Borgis
END:VEVENT
BEGIN:VEVENT
DTSTART;TZID=Europe/Helsinki:20250310T121500
DTEND;TZID=Europe/Helsinki:20250310T140000
DTSTAMP:20260425T065046
CREATED:20250123T125715Z
LAST-MODIFIED:20250123T125715Z
UID:10021369-1741608900-1741615200@kalenteri.niemikoti.fi
SUMMARY:Luova tanssi
DESCRIPTION:Vapauttavia ja rentouttavia luovan\nliikkeen harjoituksia. Tule löytämään eri tapoja liikkua ja\nparantamaan oman kehon\ntuntemusta.
URL:https://kalenteri.niemikoti.fi/en/tapahtuma/luova-tanssi/2025-03-10/
LOCATION:Kulttuuripaja ELVIS\, Lautatarhankatu 4\, Helsinki\, 00580\, Finland
CATEGORIES:Kulttuuripaja ELVIS
ATTACH;FMTTYPE=image/png:https://kalenteri.niemikoti.fi/wp-content/uploads/2025/01/Luovan-tanssin-ryhma.png
END:VEVENT
BEGIN:VEVENT
DTSTART;TZID=Europe/Helsinki:20250312T110000
DTEND;TZID=Europe/Helsinki:20250312T120000
DTSTAMP:20260425T065046
CREATED:20250120T151955Z
LAST-MODIFIED:20250612T131742Z
UID:10021269-1741777200-1741780800@kalenteri.niemikoti.fi
SUMMARY:Luonto & liikunta -kävelyryhmä
DESCRIPTION:Kävelemme Malmin päivätoimintakeskuksen lähiluonnossa mukavan kävelylenkin. Kaksi ryhmää\, joista voit valita rauhallisesti tai reippaasti etenevän ryhmän. \nTäydentyvä ryhmä\, ilmoittaudu mukaan! \nEi ryhmää 21.5.
URL:https://kalenteri.niemikoti.fi/en/tapahtuma/luonto-liikunta-kavelyryhma-4/2025-03-12/
LOCATION:Malmin päivätoimintakeskus\, Vanha Helsingintie 9\, Helsinki\, 00700\, Finland
CATEGORIES:Malmin päivätoimintakeskus
ATTACH;FMTTYPE=image/jpeg:https://kalenteri.niemikoti.fi/wp-content/uploads/2025/01/Luonto-ja-liikunta-kavelyryhma_valmis-2.jpg
END:VEVENT
BEGIN:VEVENT
DTSTART;TZID=Europe/Helsinki:20250313T110000
DTEND;TZID=Europe/Helsinki:20250313T120000
DTSTAMP:20260425T065046
CREATED:20250110T120858Z
LAST-MODIFIED:20250811T001608Z
UID:10021788-1741863600-1741867200@kalenteri.niemikoti.fi
SUMMARY:Letkeä liikunta
DESCRIPTION:Yhteisön rentoa liikuntaa\, esimerkiksi tanssia\, jumppaa\, joogaa tai sauvakävelyä. Täydentyvä ryhmä\, ilmoittaudu mukaan! \nEi ryhmää 1.5.\, 15.5. ja 29.5.
URL:https://kalenteri.niemikoti.fi/en/tapahtuma/letkea-liikunta-malmilla/2025-03-13/
LOCATION:Malmin päivätoimintakeskus\, Vanha Helsingintie 9\, Helsinki\, 00700\, Finland
CATEGORIES:Malmin päivätoimintakeskus
ATTACH;FMTTYPE=image/jpeg:https://kalenteri.niemikoti.fi/wp-content/uploads/2025/01/Letkea_liikunta.jpg
END:VEVENT
BEGIN:VEVENT
DTSTART;TZID=Europe/Helsinki:20250317T113000
DTEND;TZID=Europe/Helsinki:20250317T120000
DTSTAMP:20260425T065046
CREATED:20240814T064838Z
LAST-MODIFIED:20250321T104505Z
UID:10013847-1742211000-1742212800@kalenteri.niemikoti.fi
SUMMARY:Kävelylenkki
DESCRIPTION:Yhteisön kävelylenkki toimintakeskuksen lähimaastossa.
URL:https://kalenteri.niemikoti.fi/en/tapahtuma/kavelylenkki/2025-03-17/
LOCATION:Toimintakeskus Villa Borgis\, Linnavuorentie 13\, Helsinki\, 00950\, Finland
CATEGORIES:Toimintakeskus Villa Borgis
END:VEVENT
BEGIN:VEVENT
DTSTART;TZID=Europe/Helsinki:20250319T110000
DTEND;TZID=Europe/Helsinki:20250319T120000
DTSTAMP:20260425T065046
CREATED:20250120T151955Z
LAST-MODIFIED:20250612T131742Z
UID:10021270-1742382000-1742385600@kalenteri.niemikoti.fi
SUMMARY:Luonto & liikunta -kävelyryhmä
DESCRIPTION:Kävelemme Malmin päivätoimintakeskuksen lähiluonnossa mukavan kävelylenkin. Kaksi ryhmää\, joista voit valita rauhallisesti tai reippaasti etenevän ryhmän. \nTäydentyvä ryhmä\, ilmoittaudu mukaan! \nEi ryhmää 21.5.
URL:https://kalenteri.niemikoti.fi/en/tapahtuma/luonto-liikunta-kavelyryhma-4/2025-03-19/
LOCATION:Malmin päivätoimintakeskus\, Vanha Helsingintie 9\, Helsinki\, 00700\, Finland
CATEGORIES:Malmin päivätoimintakeskus
ATTACH;FMTTYPE=image/jpeg:https://kalenteri.niemikoti.fi/wp-content/uploads/2025/01/Luonto-ja-liikunta-kavelyryhma_valmis-2.jpg
END:VEVENT
BEGIN:VEVENT
DTSTART;TZID=Europe/Helsinki:20250320T110000
DTEND;TZID=Europe/Helsinki:20250320T120000
DTSTAMP:20260425T065046
CREATED:20250110T120858Z
LAST-MODIFIED:20250811T001608Z
UID:10021789-1742468400-1742472000@kalenteri.niemikoti.fi
SUMMARY:Letkeä liikunta
DESCRIPTION:Yhteisön rentoa liikuntaa\, esimerkiksi tanssia\, jumppaa\, joogaa tai sauvakävelyä. Täydentyvä ryhmä\, ilmoittaudu mukaan! \nEi ryhmää 1.5.\, 15.5. ja 29.5.
URL:https://kalenteri.niemikoti.fi/en/tapahtuma/letkea-liikunta-malmilla/2025-03-20/
LOCATION:Malmin päivätoimintakeskus\, Vanha Helsingintie 9\, Helsinki\, 00700\, Finland
CATEGORIES:Malmin päivätoimintakeskus
ATTACH;FMTTYPE=image/jpeg:https://kalenteri.niemikoti.fi/wp-content/uploads/2025/01/Letkea_liikunta.jpg
END:VEVENT
BEGIN:VEVENT
DTSTART;TZID=Europe/Helsinki:20250324T113000
DTEND;TZID=Europe/Helsinki:20250324T120000
DTSTAMP:20260425T065046
CREATED:20240814T064838Z
LAST-MODIFIED:20250321T104505Z
UID:10013848-1742815800-1742817600@kalenteri.niemikoti.fi
SUMMARY:Kävelylenkki
DESCRIPTION:Yhteisön kävelylenkki toimintakeskuksen lähimaastossa.
URL:https://kalenteri.niemikoti.fi/en/tapahtuma/kavelylenkki/2025-03-24/
LOCATION:Toimintakeskus Villa Borgis\, Linnavuorentie 13\, Helsinki\, 00950\, Finland
CATEGORIES:Toimintakeskus Villa Borgis
END:VEVENT
BEGIN:VEVENT
DTSTART;TZID=Europe/Helsinki:20250325T110000
DTEND;TZID=Europe/Helsinki:20250325T123000
DTSTAMP:20260425T065046
CREATED:20250218T135032Z
LAST-MODIFIED:20250219T072954Z
UID:10021613-1742900400-1742905800@kalenteri.niemikoti.fi
SUMMARY:Hyvinvointiryhmä: Keskustelua liikunnasta
DESCRIPTION:Tervetuloa Valtti Valmennuksen hyvinvointiryhmään jakamaan kokemuksia ja vinkkejä liikunnasta rennolla otteella. Keskustelun tukena käytämme liikunta-aiheisia keskustelukortteja. Ryhmässä kerrataan myös uusimpia liikkumisen suosituksia. Tervetuloa\, ryhmä on kaikille avoin eikä ryhmään osallistuminen vaadi ennakkoilmoittautumista!
URL:https://kalenteri.niemikoti.fi/en/tapahtuma/hyvinvointiryhma-keskustelua-liikunnasta/
LOCATION:Valtti Valmennus\, Elimäenkatu 26\, Helsinki\, 00510\, Finland
CATEGORIES:Tapahtumat palvelunkäyttäjille,Valtti Valmennus
ATTACH;FMTTYPE=image/png:https://kalenteri.niemikoti.fi/wp-content/uploads/2025/02/Cream-White-Aesthetic-Modern-Goal-Setting-Document-2.png
END:VEVENT
BEGIN:VEVENT
DTSTART;TZID=Europe/Helsinki:20250326T110000
DTEND;TZID=Europe/Helsinki:20250326T120000
DTSTAMP:20260425T065046
CREATED:20250120T151955Z
LAST-MODIFIED:20250612T131742Z
UID:10021271-1742986800-1742990400@kalenteri.niemikoti.fi
SUMMARY:Luonto & liikunta -kävelyryhmä
DESCRIPTION:Kävelemme Malmin päivätoimintakeskuksen lähiluonnossa mukavan kävelylenkin. Kaksi ryhmää\, joista voit valita rauhallisesti tai reippaasti etenevän ryhmän. \nTäydentyvä ryhmä\, ilmoittaudu mukaan! \nEi ryhmää 21.5.
URL:https://kalenteri.niemikoti.fi/en/tapahtuma/luonto-liikunta-kavelyryhma-4/2025-03-26/
LOCATION:Malmin päivätoimintakeskus\, Vanha Helsingintie 9\, Helsinki\, 00700\, Finland
CATEGORIES:Malmin päivätoimintakeskus
ATTACH;FMTTYPE=image/jpeg:https://kalenteri.niemikoti.fi/wp-content/uploads/2025/01/Luonto-ja-liikunta-kavelyryhma_valmis-2.jpg
END:VEVENT
BEGIN:VEVENT
DTSTART;TZID=Europe/Helsinki:20250327T110000
DTEND;TZID=Europe/Helsinki:20250327T120000
DTSTAMP:20260425T065046
CREATED:20250110T120858Z
LAST-MODIFIED:20250811T001608Z
UID:10021790-1743073200-1743076800@kalenteri.niemikoti.fi
SUMMARY:Letkeä liikunta
DESCRIPTION:Yhteisön rentoa liikuntaa\, esimerkiksi tanssia\, jumppaa\, joogaa tai sauvakävelyä. Täydentyvä ryhmä\, ilmoittaudu mukaan! \nEi ryhmää 1.5.\, 15.5. ja 29.5.
URL:https://kalenteri.niemikoti.fi/en/tapahtuma/letkea-liikunta-malmilla/2025-03-27/
LOCATION:Malmin päivätoimintakeskus\, Vanha Helsingintie 9\, Helsinki\, 00700\, Finland
CATEGORIES:Malmin päivätoimintakeskus
ATTACH;FMTTYPE=image/jpeg:https://kalenteri.niemikoti.fi/wp-content/uploads/2025/01/Letkea_liikunta.jpg
END:VEVENT
BEGIN:VEVENT
DTSTART;TZID=Europe/Helsinki:20250331T100000
DTEND;TZID=Europe/Helsinki:20250331T120000
DTSTAMP:20260425T065046
CREATED:20250314T080108Z
LAST-MODIFIED:20250314T080108Z
UID:10021966-1743415200-1743422400@kalenteri.niemikoti.fi
SUMMARY:Kuukauden aloitus: Yhdessä ulkokuntosalille
DESCRIPTION:Toivotetaan Hissitön huhtikuu tervetulleeksi Linnunlaulun ulkokuntosalilla! Uusi Linnunlaulun ulkokuntosali sijaitsee Töölönlahdella. Lähdemme yhdessä Valtti Valmennuksesta klo 10. Kävelymatka kestää n. 35 minuuttia. \nHissittömän huhtikuun kunniaksi lähdemme yhdessä liikkeelle matalalla kynnyksellä. Vaikka menemme ryhmänä\, voit osallistua juuri itsellesi sopivalla tavalla. Halutessasi voit osallistua myös vain esimerkiksi kävelyosuudelle. \nRyhmään ei tarvitse ilmoittautua etukäteen. \n 
URL:https://kalenteri.niemikoti.fi/en/tapahtuma/kuukauden-aloitus-yhdessa-ulkokuntosalille/
LOCATION:Valtti Valmennus\, Elimäenkatu 26\, Helsinki\, 00510\, Finland
CATEGORIES:Tapahtumat palvelunkäyttäjille,Valtti Valmennus
ATTACH;FMTTYPE=image/png:https://kalenteri.niemikoti.fi/wp-content/uploads/2025/03/HISSITON-HUHTIKUU.png
END:VEVENT
BEGIN:VEVENT
DTSTART;TZID=Europe/Helsinki:20250331T113000
DTEND;TZID=Europe/Helsinki:20250331T120000
DTSTAMP:20260425T065046
CREATED:20240814T064838Z
LAST-MODIFIED:20250321T104505Z
UID:10013849-1743420600-1743422400@kalenteri.niemikoti.fi
SUMMARY:Kävelylenkki
DESCRIPTION:Yhteisön kävelylenkki toimintakeskuksen lähimaastossa.
URL:https://kalenteri.niemikoti.fi/en/tapahtuma/kavelylenkki/2025-03-31/
LOCATION:Toimintakeskus Villa Borgis\, Linnavuorentie 13\, Helsinki\, 00950\, Finland
CATEGORIES:Toimintakeskus Villa Borgis
END:VEVENT
END:VCALENDAR