BEGIN:VCALENDAR
VERSION:2.0
PRODID:-//Tapahtumakalenteri - ECPv6.15.18//NONSGML v1.0//EN
CALSCALE:GREGORIAN
METHOD:PUBLISH
X-WR-CALNAME:Tapahtumakalenteri
X-ORIGINAL-URL:https://kalenteri.niemikoti.fi/en/
X-WR-CALDESC:Events for Tapahtumakalenteri
REFRESH-INTERVAL;VALUE=DURATION:PT1H
X-Robots-Tag:noindex
X-PUBLISHED-TTL:PT1H
BEGIN:VTIMEZONE
TZID:Europe/Helsinki
BEGIN:DAYLIGHT
TZOFFSETFROM:+0200
TZOFFSETTO:+0300
TZNAME:EEST
DTSTART:20240331T010000
END:DAYLIGHT
BEGIN:STANDARD
TZOFFSETFROM:+0300
TZOFFSETTO:+0200
TZNAME:EET
DTSTART:20241027T010000
END:STANDARD
BEGIN:DAYLIGHT
TZOFFSETFROM:+0200
TZOFFSETTO:+0300
TZNAME:EEST
DTSTART:20250330T010000
END:DAYLIGHT
BEGIN:STANDARD
TZOFFSETFROM:+0300
TZOFFSETTO:+0200
TZNAME:EET
DTSTART:20251026T010000
END:STANDARD
BEGIN:DAYLIGHT
TZOFFSETFROM:+0200
TZOFFSETTO:+0300
TZNAME:EEST
DTSTART:20260329T010000
END:DAYLIGHT
BEGIN:STANDARD
TZOFFSETFROM:+0300
TZOFFSETTO:+0200
TZNAME:EET
DTSTART:20261025T010000
END:STANDARD
END:VTIMEZONE
BEGIN:VEVENT
DTSTART;TZID=Europe/Helsinki:20250604T110000
DTEND;TZID=Europe/Helsinki:20250604T120000
DTSTAMP:20260423T211224
CREATED:20250120T151955Z
LAST-MODIFIED:20250612T131742Z
UID:10021281-1749034800-1749038400@kalenteri.niemikoti.fi
SUMMARY:Luonto & liikunta -kävelyryhmä
DESCRIPTION:Kävelemme Malmin päivätoimintakeskuksen lähiluonnossa mukavan kävelylenkin. Kaksi ryhmää\, joista voit valita rauhallisesti tai reippaasti etenevän ryhmän. \nTäydentyvä ryhmä\, ilmoittaudu mukaan! \nEi ryhmää 21.5.
URL:https://kalenteri.niemikoti.fi/en/tapahtuma/luonto-liikunta-kavelyryhma-4/2025-06-04/
LOCATION:Malmin päivätoimintakeskus\, Vanha Helsingintie 9\, Helsinki\, 00700\, Finland
CATEGORIES:Malmin päivätoimintakeskus
ATTACH;FMTTYPE=image/jpeg:https://kalenteri.niemikoti.fi/wp-content/uploads/2025/01/Luonto-ja-liikunta-kavelyryhma_valmis-2.jpg
END:VEVENT
BEGIN:VEVENT
DTSTART;TZID=Europe/Helsinki:20250605T110000
DTEND;TZID=Europe/Helsinki:20250605T120000
DTSTAMP:20260423T211224
CREATED:20250110T120858Z
LAST-MODIFIED:20250811T001608Z
UID:10024174-1749121200-1749124800@kalenteri.niemikoti.fi
SUMMARY:Letkeä liikunta
DESCRIPTION:Yhteisön rentoa liikuntaa\, esimerkiksi tanssia\, jumppaa\, joogaa tai sauvakävelyä. Täydentyvä ryhmä\, ilmoittaudu mukaan! \nEi ryhmää 1.5.\, 15.5. ja 29.5.
URL:https://kalenteri.niemikoti.fi/en/tapahtuma/letkea-liikunta-malmilla/2025-06-05/
LOCATION:Malmin päivätoimintakeskus\, Vanha Helsingintie 9\, Helsinki\, 00700\, Finland
CATEGORIES:Malmin päivätoimintakeskus
ATTACH;FMTTYPE=image/jpeg:https://kalenteri.niemikoti.fi/wp-content/uploads/2025/01/Letkea_liikunta.jpg
END:VEVENT
BEGIN:VEVENT
DTSTART;TZID=Europe/Helsinki:20250611T110000
DTEND;TZID=Europe/Helsinki:20250611T120000
DTSTAMP:20260423T211224
CREATED:20250120T151955Z
LAST-MODIFIED:20250612T131742Z
UID:10021282-1749639600-1749643200@kalenteri.niemikoti.fi
SUMMARY:Luonto & liikunta -kävelyryhmä
DESCRIPTION:Kävelemme Malmin päivätoimintakeskuksen lähiluonnossa mukavan kävelylenkin. Kaksi ryhmää\, joista voit valita rauhallisesti tai reippaasti etenevän ryhmän. \nTäydentyvä ryhmä\, ilmoittaudu mukaan! \nEi ryhmää 21.5.
URL:https://kalenteri.niemikoti.fi/en/tapahtuma/luonto-liikunta-kavelyryhma-4/2025-06-11/
LOCATION:Malmin päivätoimintakeskus\, Vanha Helsingintie 9\, Helsinki\, 00700\, Finland
CATEGORIES:Malmin päivätoimintakeskus
ATTACH;FMTTYPE=image/jpeg:https://kalenteri.niemikoti.fi/wp-content/uploads/2025/01/Luonto-ja-liikunta-kavelyryhma_valmis-2.jpg
END:VEVENT
BEGIN:VEVENT
DTSTART;TZID=Europe/Helsinki:20250612T110000
DTEND;TZID=Europe/Helsinki:20250612T120000
DTSTAMP:20260423T211224
CREATED:20250110T120858Z
LAST-MODIFIED:20250811T001608Z
UID:10024175-1749726000-1749729600@kalenteri.niemikoti.fi
SUMMARY:Letkeä liikunta
DESCRIPTION:Yhteisön rentoa liikuntaa\, esimerkiksi tanssia\, jumppaa\, joogaa tai sauvakävelyä. Täydentyvä ryhmä\, ilmoittaudu mukaan! \nEi ryhmää 1.5.\, 15.5. ja 29.5.
URL:https://kalenteri.niemikoti.fi/en/tapahtuma/letkea-liikunta-malmilla/2025-06-12/
LOCATION:Malmin päivätoimintakeskus\, Vanha Helsingintie 9\, Helsinki\, 00700\, Finland
CATEGORIES:Malmin päivätoimintakeskus
ATTACH;FMTTYPE=image/jpeg:https://kalenteri.niemikoti.fi/wp-content/uploads/2025/01/Letkea_liikunta.jpg
END:VEVENT
BEGIN:VEVENT
DTSTART;TZID=Europe/Helsinki:20250616T110000
DTEND;TZID=Europe/Helsinki:20250616T150000
DTSTAMP:20260423T211224
CREATED:20250523T072728Z
LAST-MODIFIED:20250523T072949Z
UID:10023192-1750071600-1750086000@kalenteri.niemikoti.fi
SUMMARY:Retki Seurasaareen
DESCRIPTION:Lähtö Villa Borgiksesta julkista liikennettä käyttäen klo 11. Seurasaaressa ohjelmassa yhdessä ulkoilua ja kesäpäivästä nautiskelua. Kävelemme retkellä paljon\, joten hyvät kengät ja vesipullo mukaan! Retkieväiden omavastuuhinta 2 €. Mahdollisuus uimiseen. Retkellä säävaraus. Ilmoittaudu.
URL:https://kalenteri.niemikoti.fi/en/tapahtuma/retki-seurasaareen/
LOCATION:Toimintakeskus Villa Borgis\, Linnavuorentie 13\, Helsinki\, 00950\, Finland
CATEGORIES:Toimintakeskus Villa Borgis
END:VEVENT
BEGIN:VEVENT
DTSTART;TZID=Europe/Helsinki:20250618T110000
DTEND;TZID=Europe/Helsinki:20250618T120000
DTSTAMP:20260423T211224
CREATED:20250120T151955Z
LAST-MODIFIED:20250612T131742Z
UID:10021283-1750244400-1750248000@kalenteri.niemikoti.fi
SUMMARY:Luonto & liikunta -kävelyryhmä
DESCRIPTION:Kävelemme Malmin päivätoimintakeskuksen lähiluonnossa mukavan kävelylenkin. Kaksi ryhmää\, joista voit valita rauhallisesti tai reippaasti etenevän ryhmän. \nTäydentyvä ryhmä\, ilmoittaudu mukaan! \nEi ryhmää 21.5.
URL:https://kalenteri.niemikoti.fi/en/tapahtuma/luonto-liikunta-kavelyryhma-4/2025-06-18/
LOCATION:Malmin päivätoimintakeskus\, Vanha Helsingintie 9\, Helsinki\, 00700\, Finland
CATEGORIES:Malmin päivätoimintakeskus
ATTACH;FMTTYPE=image/jpeg:https://kalenteri.niemikoti.fi/wp-content/uploads/2025/01/Luonto-ja-liikunta-kavelyryhma_valmis-2.jpg
END:VEVENT
BEGIN:VEVENT
DTSTART;TZID=Europe/Helsinki:20250619T110000
DTEND;TZID=Europe/Helsinki:20250619T120000
DTSTAMP:20260423T211224
CREATED:20250110T120858Z
LAST-MODIFIED:20250811T001608Z
UID:10024176-1750330800-1750334400@kalenteri.niemikoti.fi
SUMMARY:Letkeä liikunta
DESCRIPTION:Yhteisön rentoa liikuntaa\, esimerkiksi tanssia\, jumppaa\, joogaa tai sauvakävelyä. Täydentyvä ryhmä\, ilmoittaudu mukaan! \nEi ryhmää 1.5.\, 15.5. ja 29.5.
URL:https://kalenteri.niemikoti.fi/en/tapahtuma/letkea-liikunta-malmilla/2025-06-19/
LOCATION:Malmin päivätoimintakeskus\, Vanha Helsingintie 9\, Helsinki\, 00700\, Finland
CATEGORIES:Malmin päivätoimintakeskus
ATTACH;FMTTYPE=image/jpeg:https://kalenteri.niemikoti.fi/wp-content/uploads/2025/01/Letkea_liikunta.jpg
END:VEVENT
BEGIN:VEVENT
DTSTART;TZID=Europe/Helsinki:20250625T110000
DTEND;TZID=Europe/Helsinki:20250625T120000
DTSTAMP:20260423T211224
CREATED:20250120T151955Z
LAST-MODIFIED:20250612T131742Z
UID:10021284-1750849200-1750852800@kalenteri.niemikoti.fi
SUMMARY:Luonto & liikunta -kävelyryhmä
DESCRIPTION:Kävelemme Malmin päivätoimintakeskuksen lähiluonnossa mukavan kävelylenkin. Kaksi ryhmää\, joista voit valita rauhallisesti tai reippaasti etenevän ryhmän. \nTäydentyvä ryhmä\, ilmoittaudu mukaan! \nEi ryhmää 21.5.
URL:https://kalenteri.niemikoti.fi/en/tapahtuma/luonto-liikunta-kavelyryhma-4/2025-06-25/
LOCATION:Malmin päivätoimintakeskus\, Vanha Helsingintie 9\, Helsinki\, 00700\, Finland
CATEGORIES:Malmin päivätoimintakeskus
ATTACH;FMTTYPE=image/jpeg:https://kalenteri.niemikoti.fi/wp-content/uploads/2025/01/Luonto-ja-liikunta-kavelyryhma_valmis-2.jpg
END:VEVENT
BEGIN:VEVENT
DTSTART;TZID=Europe/Helsinki:20250626T110000
DTEND;TZID=Europe/Helsinki:20250626T120000
DTSTAMP:20260423T211224
CREATED:20250110T120858Z
LAST-MODIFIED:20250811T001608Z
UID:10024177-1750935600-1750939200@kalenteri.niemikoti.fi
SUMMARY:Letkeä liikunta
DESCRIPTION:Yhteisön rentoa liikuntaa\, esimerkiksi tanssia\, jumppaa\, joogaa tai sauvakävelyä. Täydentyvä ryhmä\, ilmoittaudu mukaan! \nEi ryhmää 1.5.\, 15.5. ja 29.5.
URL:https://kalenteri.niemikoti.fi/en/tapahtuma/letkea-liikunta-malmilla/2025-06-26/
LOCATION:Malmin päivätoimintakeskus\, Vanha Helsingintie 9\, Helsinki\, 00700\, Finland
CATEGORIES:Malmin päivätoimintakeskus
ATTACH;FMTTYPE=image/jpeg:https://kalenteri.niemikoti.fi/wp-content/uploads/2025/01/Letkea_liikunta.jpg
END:VEVENT
END:VCALENDAR